Workbook
Name _LCF1: #REF!
Name _LCF2: #REF!
Name AftDraftCorrected: #REF!
Name AMSIMetricTonnage: #REF!
Name Applicant: #REF!
Name Beam: #REF!
Name CargoRequested: #REF!
Name CMANo: #REF!
Name DeadWeight: #REF!
Name Displacement: #REF!
Name DraftAftPort: #REF!
Name DraftAftPortCheck: #REF!
Name DraftAftPortFinal: #REF!
Name DraftAftPortInitial: #REF!
Name DraftAftStbd: #REF!
Name DraftAftStbdCheck: #REF!
Name DraftAftStbdFinal: #REF!
Name DraftAftStbdInitial: #REF!
Name DraftForwardPort: #REF!
Name DraftForwardPortCheck: #REF!
Name DraftForwardPortFinal: #REF!
Name DraftForwardPortInitial: #REF!
Name DraftForwardStbd: #REF!
Name DraftForwardStbdCheck: #REF!
Name DraftForwardStbdFinal: #REF!
Name DraftForwardStbdInitial: #REF!
Name DraftMarksAft: #REF!
Name DraftMarksAftCheck: #REF!
Name DraftMarksAftFinal: #REF!
Name DraftMarksAftInitial: #REF!
Name DraftMarksForward: #REF!
Name DraftMarksForwardCheck: #REF!
Name DraftMarksForwardFinal: #REF!
Name DraftMarksForwardInitial: #REF!
Name DraftMarksMidship: #REF!
Name DraftMarksMidshipCheck: #REF!
Name DraftMarksMidshipFinal: #REF!
Name DraftMarksMidshipInitial: #REF!
Name DraftMidshipPort: #REF!
Name DraftMidshipPortCheck: #REF!
Name DraftMidshipPortFinal: #REF!
Name DraftMidshipPortInitial: #REF!
Name DraftMidshipStbd: #REF!
Name DraftMidshipStbdCheck: #REF!
Name DraftMidshipStbdFinal: #REF!
Name DraftMidshipStbdInitial: #REF!
Name ForeAndAftDraftMean: #REF!
Name ForwardDraftCorrected: #REF!
Name ForwardDraftCorrectedCheck: #REF!
Name ForwardDraftCorrectedFinal: #REF!
Name ForwardDraftCorrectedInitial: #REF!
Name FractionHM: #REF!
Name GRT: #REF!
Name Hog: #REF!
Name HoldCapacityTonnes: #REF!
Name HoldCapacityVolume: #REF!
Name HoldLCG: #REF!
Name HydrostaticsTable: #REF!
Name KnownWeightsCheck: #REF!
Name KnownWeightsFinal: #REF!

Sheet DATA IN PUT
A2: NAME OF V/L | B2: SABRINA
A3: VOY.NO | B3: 4180
A4: DATE | B4: 07.04.2013
A5: PORT LOADING | B5: OLYA
A6: PORT DISCH. | B6: AMIRABAD
A7: MASTER | B7: CAPT.P.SLIZHEVS'KYI
A8: CH/OFF | B8: R.LAGOSHNIAK
A9: CARGO | B9: COKES
A10: draft F S | B10: 3.97
A11: draft F P | B11: 3.97 | G11: =Calc!B25 -> 3616.7712 | H11: ='DATA OUT'!D22+SUM('DATA OUT'!D25:D34) -> 1439.2961 | I11: =G11-H11 -> 2177.4751
A12: draft M S | B12: 3.99 | G12: =SUM('DATA OUT'!D10:D34) -> 1454.9493
A13: draft M P | B13: 3.99 | G13: =G11-G12 -> 2161.8219
A14: draft A S | B14: 4
A15: draft A P | B15: 4
A16: DW | B16: 1.007
A17: DENSITY TK | B17: 1.007
A18: DENSITY DO | B18: 0.852
A19: DENSITY FW | B19: 1 | C19: kg | D19: HOLD NO1: | E19: 850
A20: CARGO IN HOLD | B20: 2162.626 | C20: 4.65 | D20: HOLD NO2: | E20: 1097.8
A21: CARGO ON DECK | C21: 10.5 | D21: ON DECK:
A22: FPT(f=full) | B22: 0
A23: DEEP TANK | B23: 0
A24: DB 1 P(f=full) | B24: 0
A25: DB 1 S(f=full) | B25: 0
A26: DB 2 P(f=full) | B26: 0
A27: DB 2 S(f=full) | B27: 0
A28: DB 3 P(f=full) | B28: 0.05
A29: DB 3 S(f=full) | B29: 0 | G29: `
A30: WT1 P(f=full) | B30: 0
A31: WT1 S(f=full) | B31: 0.23
A32: WT2 P(f=full) | B32: 0
A33: WT2 S(f=full) | B33: 0
A34: WT3 P(f=full) | B34: 1.5
A35: WT3 S(f=full) | B35: 0
A36: UNPUMPABLE W. | B36: 3
A37: PORTABLE WATER | B37: 30
A38: MARINE GASOIL | B38: 60.2
A39: LUB. OIL | B39: 1.5
A40: SEWAGE TK | B40: 4
A41: LIGHT SHIP | B41: 1241
...

Sheet DATA OUT
A2: STABILITY CALCULATION
A3: M.V: | B3: ='DATA IN PUT'!B2 -> SABRINA
A4: VOYAGE NO: | B4: ='DATA IN PUT'!B3 -> 4180 | F4: PORT OF LOADING: | G4: ='DATA IN PUT'!B5 -> OLYA | I4: TOTAL CARGO
A5: DATE: | B5: ='DATA IN PUT'!B4 -> 07.04.2013 | F5: PORT OF DISCHARGE: | G5: ='DATA IN PUT'!B6 -> AMIRABAD | I5: =D8+D9 -> 2162.626
A7: COMPARTMENT | B7: M3 | C7: R.D | D7: WEIGHT | E7: KG | F7: MOMv | G7: LCG | H7: MOML | I7: FSM
A8: CARGO IN HOLD | B8: 0 | D8: ='DATA IN PUT'!B20 -> 2162.626 | E8: ='DATA IN PUT'!C20 -> 4.65 | F8: =D8*E8 -> 10056.211 | G8: 46.8 | H8: =D8*G8 -> 101210.9 | I8: 23
A9: CARGO ON DECK | B9: 0 | D9: ='DATA IN PUT'!B21 -> 0 | E9: ='DATA IN PUT'!C21 -> 10.5 | F9: =D9*E9 -> 0 | G9: 46.5 | H9: =D9*G9 -> 0 | I9: 25
A10: FPT | B10: =Calc!I43 -> 0.097560976 | C10: ='DATA IN PUT'!B17 -> 1.007 | D10: =B10*C10 -> 0.098243902 | E10: =Calc!I45 -> 0.01 | F10: =D10*E10 -> 0.00098243902 | G10: =Calc!I46 -> 80.84 | H10: =D10*G10 -> 7.9420371 | I10: =Calc!I44 -> 0.1
A11: DEEP TANK | B11: =Calc!D50 -> 0 | C11: =C10 -> 1.007 | D11: =B11*C11 -> 0 | E11: =Calc!D52 -> 1.31 | F11: =D11*E11 -> 0 | G11: =Calc!D51 -> 72.6 | H11: =D11*G11 -> 0 | I11: =Calc!D53 -> 0.5
A12: DB 1 P | B12: =Calc!I50 -> 0.97560976 | C12: =C11 -> 1.007 | D12: =B12*C12 -> 0.98243902 | E12: =Calc!I52 -> 0.01 | F12: =D12*E12 -> 0.0098243902 | G12: =Calc!I51 -> 68.73 | H12: =D12*G12 -> 67.523034 | I12: =Calc!I53 -> 0.7
A13: DB 1 S | B13: =Calc!D57 -> 0.97560976 | C13: =C12 -> 1.007 | D13: =B13*C13 -> 0.98243902 | E13: =Calc!D59 -> 0.01 | F13: =D13*E13 -> 0.0098243902 | G13: =Calc!D58 -> 68.73 | H13: =D13*G13 -> 67.523034 | I13: =Calc!D60 -> 0.7
A14: DB 2 P | B14: =Calc!I57 -> 1.3658537 | C14: =C13 -> 1.007 | D14: =B14*C14 -> 1.3754146 | E14: =Calc!I59 -> 0.01 | F14: =D14*E14 -> 0.013754146 | G14: =Calc!I58 -> 56.36 | H14: =D14*G14 -> 77.518369 | I14: =Calc!I60 -> 2.3
A15: DB 2 S | B15: =Calc!D65 -> 1.3658537 | C15: =C14 -> 1.007 | D15: =B15*C15 -> 1.3754146 | E15: =Calc!D67 -> 0.01 | F15: =D15*E15 -> 0.013754146 | G15: =Calc!D66 -> 56.36 | H15: =D15*G15 -> 77.518369 | I15: =Calc!D68 -> 2.3
A16: DB 3 P | B16: =Calc!I65 -> 1.2097561 | C16: =C15 -> 1.007 | D16: =B16*C16 -> 1.2182244 | E16: =Calc!I67 -> 0.0125 | F16: =D16*E16 -> 0.015227805 | G16: =Calc!I66 -> 25.7795 | H16: =D16*G16 -> 31.405216 | I16: =Calc!I68 -> 1.805
A17: DB 3 S | B17: =Calc!I73 -> 0.97560976 | C17: =C16 -> 1.007 | D17: =B17*C17 -> 0.98243902 | E17: =Calc!I75 -> 0.01 | F17: =D17*E17 -> 0.0098243902 | G17: =Calc!I74 -> 25.78 | H17: =D17*G17 -> 25.327278 | I17: =Calc!I76 -> 1.5
A18: WT1 P | B18: =Calc!D81 -> 0.58536585 | C18: =C17 -> 1.007 | D18: =B18*C18 -> 0.58946341 | E18: =Calc!D83 -> 1.3 | F18: =D18*E18 -> 0.76630244 | G18: =Calc!D82 -> 59 | H18: =D18*G18 -> 34.778341 | I18: =Calc!D84 -> 4.3
A19: WT1 S | B19: =Calc!D89 -> 6.6273171 | C19: =C18 -> 1.007 | D19: =B19*C19 -> 6.6737083 | E19: =Calc!D91 -> 1.4015 | F19: =D19*E19 -> 9.3532022 | G19: =Calc!D90 -> 59.5853 | H19: =D19*G19 -> 397.65491 | I19: =Calc!D92 -> 6.7
A20: WT2 P | B20: =Calc!I81 -> 0.58536585 | C20: =C19 -> 1.007 | D20: =B20*C20 -> 0.58946341 | E20: =Calc!I83 -> 1.3 | F20: =D20*E20 -> 0.76630244 | G20: =Calc!I82 -> 40.2 | H20: =D20*G20 -> 23.696429 | I20: =Calc!I84 -> 6.7
A21: WT2 S | B21: =Calc!I89 -> 0.48780488 | C21: =C20 -> 1.007 | D21: =B21*C21 -> 0.49121951 | E21: =Calc!I91 -> 1.3 | F21: =D21*E21 -> 0.63858537 | G21: =Calc!I90 -> 37.8 | H21: =D21*G21 -> 18.568098 | I21: =Calc!I92 -> 0.2
A22: WT3 P | B22: =Calc!D97 -> 22.439024 | C22: =C21 -> 1.007 | D22: =B22*C22 -> 22.596098 | E22: =Calc!D99 -> 2.01 | F22: =D22*E22 -> 45.418156 | G22: =Calc!D98 -> 25.6 | H22: =D22*G22 -> 578.4601 | I22: =Calc!D100 -> 3.6
A23: WT3 S | B23: =Calc!D105 -> 0.29268293 | C23: =C22 -> 1.007 | D23: =B23*C23 -> 0.29473171 | E23: =Calc!D107 -> 1.3 | F23: =D23*E23 -> 0.38315122 | G23: =Calc!D106 -> 25.68 | H23: =D23*G23 -> 7.5687102 | I23: =Calc!D108 -> 3.6
A24: UNPUMPABLE W. | B24: 0 | C24: =C23 -> 1.007 | D24: =B24*C24 -> 0 | E24: 1.04 | F24: =D24*E24 -> 0 | G24: 8.5 | H24: =D24*G24 -> 0
A25: PORTABLE WATER | B25: =Calc!D73 -> 30 | C25: ='DATA IN PUT'!B19 -> 1 | D25: =B25*C25 -> 30 | E25: =Calc!D75 -> 3.23 | F25: =D25*E25 -> 96.9 | G25: =Calc!D74 -> 4.43 | H25: =D25*G25 -> 132.9 | I25: =Calc!D76 -> 10
A26: MARINE GASOIL | B26: =Calc!D46 -> 59.389671 | C26: ='DATA IN PUT'!B18 -> 0.852 | D26: ='DATA IN PUT'!B38 -> 60.2 | E26: =Calc!D44 -> 1.56 | F26: =D26*E26 -> 93.912 | G26: =Calc!D45 -> 47.4 | H26: =D26*G26 -> 2853.48 | I26: =Calc!D43 -> 0.2
A27: LUB. OIL | B27: 0 | D27: ='DATA IN PUT'!B39 -> 1.5 | E27: 2.5 | F27: =D27*E27 -> 3.75 | G27: 9.31 | H27: =D27*G27 -> 13.965
A28: SEWAGE TK | B28: 0 | D28: ='DATA IN PUT'!B40 -> 4 | E28: 0 | F28: =D28*E28 -> 0 | G28: 0 | H28: =D28*G28 -> 0
A29: LIGHT SHIP | B29: 0 | D29: ='DATA IN PUT'!B41 -> 1241 | E29: 5.19 | F29: =D29*E29 -> 6440.79 | G29: 38.52 | H29: =D29*G29 -> 47803.32
A30: GRAIN B/H | B30: 0 | D30: ='DATA IN PUT'!B42 -> 11 | E30: 5.31 | F30: =D30*E30 -> 58.41 | G30: 53.27 | H30: =D30*G30 -> 585.97
A31: PROVISION | B31: 0 | D31: ='DATA IN PUT'!B43 -> 4 | E31: 5 | F31: =D31*E31 -> 20 | G31: 13.5 | H31: =D31*G31 -> 54
A32: CREW EFFECTS | B32: 0 | D32: ='DATA IN PUT'!B44 -> 2 | E32: 9 | F32: =D32*E32 -> 18 | G32: 10 | H32: =D32*G32 -> 20
A33: STORES | B33: 0 | D33: ='DATA IN PUT'!B45 -> 3 | E33: 6.6 | F33: =D33*E33 -> 19.8 | G33: 35 | H33: =D33*G33 -> 105
A34: CONSTANT | B34: 0 | D34: ='DATA IN PUT'!B46 -> 60 | E34: 2 | F34: =D34*E34 -> 120 | G34: 21.2 | H34: =D34*G34 -> 1272
A35: TOTAL | D35: =SUM(D8:D34) -> 3617.5753 | E35: =F35/D35 -> 4.6951813 | F35: =SUM(F8:F34) -> 16985.172 | G35: =H35/F35 -> 9.1531023 | H35: =SUM(H8:H34) -> 155467.02 | I35: =SUM(I8:I34) -> 93.205
M36: TRIM BY ASTERN
M37: EVEN KEEL
K38: TRIM BY ASTERN | M38: TRIM BY HEAD
A39: KG=MOMv/DISPL. | B39: =F35/D35 -> 4.6951813 | C39: m | D39: MEAN DRAFT | G39: =Calc!G27 -> 3.9254964 | H39: m | I39: TRIM= | J39: =B44 -> 0.03 | K39: EVEN KEEL
A40: FSE=FSM/DISP. | B40: =I35/D35 -> 0.025764495 | C40: m | D40: LCG=MOMv/DISPL. | G40: =H35/D35 -> 42.975475 | H40: m | I40: =IF(G44>G45,M36,IF(G44=G45,M37,M38)) -> TRIM BY ASTERN | K40: TRIM BY HEAD
A41: KMt (HY.STATIC TABLE) | B41: =Calc!B22 -> 5.993375 | C41: m | D41: C.O.=DISPL. *BG/MCTC x 100 | H41: m
A42: GMs | B42: =B41-B39 -> 1.2981937 | C42: m | D42: TRIMMING FACTOR FWD | H42: m
...

Sheet GZ CURVE
B2: HEEL | C2: 0 | D2: 10 | E2: 20 | F2: 30 | G2: 40 | H2: 50 | I2: 60 | J2: 70 | K2: 80 | L2: 90
B3: GZ | C3: =Calc!B38 -> 0 | D3: =Calc!C38 -> 0.23469033 | E3: =Calc!D38 -> 0.52415343 | F3: =Calc!E38 -> 0.78240936 | G3: =Calc!F38 -> 0.85199565 | H3: =Calc!G38 -> 0.85328248 | I3: =Calc!H38 -> 0.78385374 | J3: =Calc!I38 -> 0.57797281 | ... L3: =Calc!K38 -> -0.025181272
B4: GM | C4: 0 | D4: =D3 -> 0.23469033 | E4: =2*D4 -> 0.46938066 | F4: =3*D4 -> 0.70407098 | G4: =4*D4 -> 0.93876131 | H4: =5*D4 -> 1.1734516 | I4: =6*D4 -> 1.408142 | J4: =7*D4 -> 1.6428323 | K4: =8*D4 -> 1.8775226 | L4: =9*D4 -> 2.112213
C6: KG= | D6: ='DATA OUT'!E35 -> 4.6951813 | E6: m | H6: DISPLACEMENT= | I6: ='DATA OUT'!D35 -> 3617.5753 | J6: MT
B34: AS PER MERCHANT SHIPPING ACT THE FOLLOWING CRITERIA SHALL BE MET:
B35: THE AREA UNDER THE CURVE OF RIGHTING LEVERS9GZ CURVE) SHALL NOT BE
B36: LESS THAN :
B37: a)
B38: (i): | C38: 0.055 | D38: METER-RADIANS UP TO AN ANGLE OF 30 DEGREES. | J38: =Calc!P10 -> 0.17796195 | K38: =IF(J38>C38,"YES","NO") -> YES
B39: (ii): | C39: 0.09 | D39: METER-RADIANS UP TO AN ANGLE OF 40 DEGREES. | J39: =Calc!P19 -> 0.39065059 | K39: =IF(J39>C39,"YES","NO") -> YES
B40: (iii): | C40: 0.03 | D40: METER-RADIANS BETWEEN ANGLES OF HEEL OF 30&40 | J40: =Calc!P29 -> 0.14362212 | K40: =IF(J40>C40,"YES","NO") -> YES
B41: b)
C42: THE RIGHTING LEVER(GZ) SHALL BE AT LEAST | H42: 0.2 | I42: m AT AN | J42: =Calc!E38 -> 0.78240936 | K42: =IF(J42>H42,"YES","NO") -> YES
C43: ANGEL OF HEEL EQUAL TO OR GREATER THAN 30 DEGREES
B45: c)
C46: THE MAX.GZ SHALL ACQUIRE AT ANGLE OF HEEL NOT LESS THEN | J46: =Calc!O33 -> 0.85328248 | K46: =IF(J48>C47,"YES","NO") -> YES
C47: 30 | D47: DEGREES. | J47: AT
J48: =Calc!O35 -> 50
B49: d)
C50: THE INITIAL GM SHALL NOT BE LESS THEN | H50: 0.15 | I50: m | J50: ='DATA OUT'!B43 -> 1.2724292 | K50: =IF(J50>H50,"YES","NO") -> YES
C51: IN CASE TIMBER DECK CARGO NOT LESS THAN | H51: 0.05 | I51: m | J51: ='DATA OUT'!B43 -> 1.2724292 | K51: =IF(J51>H51,"YES","NO") -> YES
B53: e)
C54: IN CASE GRAIN NOT LESS THAN | H54: 0.3 | I54: m | J54: ='DATA OUT'!B43 -> 1.2724292 | K54: =IF(J54>H54,"YES","NO") -> YES
B57: RESULT | D57: =IF(AND(K38=K39,K40=K42,K46=K50,K50=K51,K51="YES"),"STABLE","UNSTABLE") -> STABLE | L57: UNSTABLE FOR GRAIN
D59: =IF(AND('DATA IN PUT'!B9="GRAIN",J54<H54),"UNSTABLE FOR GRAIN","0") -> 0
A62: C/O: | B62: ='DATA IN PUT'!B8 -> R.LAGOSHNIAK | J62: MASTER: | K62: ='DATA IN PUT'!B7 -> CAPT.P.SLIZHEVS'KYI

Sheet CARGO PLAN
C1: CARGO PLAN M.V SABRINA
C5: DATE: | D5: 30.03.2012 | H5: HOLD NO 1: | I5: ='DATA IN PUT'!E19 -> 850 | J5: mt | K5: DRAFT FWD : | L5: ='DATA IN PUT'!B10 -> 3.97 | M5: M
A6: ACCOM | C6: VOY NO: | D6: ='DATA IN PUT'!B3 -> 4180 | H6: HOLD NO 2: | I6: ='DATA IN PUT'!E20 -> 1097.8 | J6: mt | K6: DRAFT AFT : | L6: ='DATA IN PUT'!B14 -> 4 | M6: M
C7: LOADING PORT: | E7: ='DATA IN PUT'!B5 -> OLYA | H7: ON DECK : | I7: ='DATA IN PUT'!E21 -> 0 | J7: mt | K7: MEAN DRAFT : | L7: ='DATA IN PUT'!B13 -> 3.99 | M7: M
C8: DISCH.PORT: | E8: ='DATA IN PUT'!B6 -> AMIRABAD | H8: TOTAL : | I8: =SUM(I5:I7) -> 1947.8 | J8: mt | K8: SUMMER DRAFT: | L8: 4.406 | M8: M
C9: PERMISSIBLE LOAD ON TANK TOP:11T/M2 & ON HATCH COVER:1.6T/M2
B10: TOTAL CONTAINER:140X20" PRESENT LOADING DISTRIBUTION :5.3 M2 TOTAL HOLD CAPACITY:2885 MT SUMMER DWT:2885 MT
B11: HOLD DIMENSION: | D11: HOLD NO: 1 | E11: 20X10.2X8 M | H11: HOLD NO: 2 | I11: 30.5X10.2X8 M
A13: ENGINE ROOM
E18: BARLEY IN BULK | K18: BARLEY IN BULK
F19: WT.: 1455.114 MT. | L19: WT.: 970.076 MT.
A24: AFT PK TANK
B36: DB-3 | H36: DB.2 | K36: DB-1
C39: TOTAL CARGO NO2: | D39: =I6 -> 1097.8 | K39: TOTAL CARGO NO1: | L39: =I5 -> 850
B41: CHIEF OFFICER | D41: ='DATA IN PUT'!B8 -> R.LAGOSHNIAK | I41: MASTER: | K41: ='DATA IN PUT'!B7 -> CAPT.P.SLIZHEVS'KYI

Sheet Hydrostatic Table
A1: Draft (1) | B1: Displ. (2) | C1: KM (3) | D1: MCTC (4) | E1: LCB (5) | F1: TPC (6) | G1: TF AFT (7) | H1: TF FWD (8)
A2: 1.4 | B2: 1158 | C2: 10.47 | D2: 4099 | E2: 44.19 | F2: 9.07 | G2: 0.146 | H2: 0.136
A3: =A2+0.1 -> 1.5 | B3: 1249 | C3: 10.16 | D3: 4159 | E3: 44.18 | F3: 9.12 | G3: 0.155 | H3: 0.145
A4: =A3+0.1 -> 1.6 | B4: 1340 | C4: 9.66 | D4: 4218 | E4: 44.17 | F4: 9.18 | G4: 0.164 | H4: 0.154
A5: =A4+0.1 -> 1.7 | B5: 1432 | C5: 9.22 | D5: 4277 | E5: 44.15 | F5: 9.23 | G5: 0.173 | H5: 0.162
A6: =A5+0.1 -> 1.8 | B6: 1525 | C6: 8.84 | D6: 4336 | E6: 44.14 | F6: 9.28 | G6: 0.181 | H6: 0.17
A7: =A6+0.1 -> 1.9 | B7: 1618 | C7: 8.5 | D7: 4396 | E7: 44.12 | F7: 9.33 | G7: 0.189 | H7: 0.179
A8: =A7+0.1 -> 2 | B8: 1711 | C8: 8.21 | D8: 4457 | E8: 44.11 | F8: 9.38 | G8: 0.197 | H8: 0.187
A9: =A8+0.1 -> 2.1 | B9: 1805 | C9: 7.94 | D9: 4518 | E9: 44.09 | F9: 9.43 | G9: 0.205 | H9: 0.196
A10: =A9+0.1 -> 2.2 | B10: 1900 | C10: 7.71 | D10: 4581 | E10: 44.07 | F10: 9.48 | G10: 0.213 | H10: 0.202
A11: =A10+0.1 -> 2.3 | B11: 1995 | C11: 7.5 | D11: 4646 | E11: 44.05 | F11: 9.54 | G11: 0.22 | H11: 0.21
A12: =A11+0.1 -> 2.4 | B12: 2091 | C12: 7.31 | D12: 4712 | E12: 44.03 | F12: 9.59 | G12: 0.227 | H12: 0.217
A13: =A12+0.1 -> 2.5 | B13: 2187 | C13: 7.15 | D13: 4780 | E13: 44 | F13: 9.64 | G13: 0.233 | H13: 0.224
A14: =A13+0.1 -> 2.6 | B14: 2283 | C14: 7 | D14: 4850 | E14: 43.97 | F14: 9.69 | G14: 0.24 | H14: 0.231
... A38: =A37+0.1 -> 5 | B38: 4766 | C38: 5.83 | D38: 6785 | E38: 42.95 | F38: 10.91 | G38: 0.332 | H38: 0.37

Sheet KN TABLE
A1: DRAFT (1) | B1: Displ.(2) | C1: 10 (3) | D1: 20 (4) | E1: 30(5) | F1: 40 (6) | G1: 50 (7) | H1: 60 (8) | I1: 70 (9) | J1: 80 (10) | K1: 90 (11)
A2: 1.4 | B2: 1158 | C2: 1.83 | D2: 3.24 | E2: 4.04 | F2: 4.53 | G2: 4.84 | H2: 4.9 | I2: 4.7 | J2: 4.43 | K2: 4.28
A3: =A2+0.1 -> 1.5 | B3: 1249 | C3: 1.74 | D3: 3.16 | E3: 3.99 | F3: 4.52 | G3: 4.85 | H3: 4.9 | I3: 4.71 | J3: 4.49 | K3: 4.35
A4: =A3+0.1 -> 1.6 | B4: 1340 | C4: 1.67 | D4: 3.05 | E4: 3.96 | F4: 4.5 | G4: 4.85 | H4: 4.89 | I4: 4.72 | J4: 4.55 | K4: 4.41
A5: =A4+0.1 -> 1.7 | B5: 1432 | C5: 1.6 | D5: 3 | E5: 3.89 | F5: 4.49 | G5: 4.85 | H5: 4.88 | I5: 4.74 | J5: 4.62 | K5: 4.45
A6: =A5+0.1 -> 1.8 | B6: 1525 | C6: 1.54 | D6: 2.93 | E6: 3.85 | F6: 4.47 | G6: 4.84 | H6: 4.87 | I6: 4.76 | J6: 4.66 | K6: 4.48
A7: =A6+0.1 -> 1.9 | B7: 1618 | C7: 1.48 | D7: 2.86 | E7: 3.81 | F7: 4.46 | G7: 4.82 | H7: 4.86 | I7: 4.78 | J7: 4.71 | K7: 4.51
A8: =A7+0.1 -> 2 | B8: 1711 | C8: 1.43 | D8: 2.79 | E8: 3.77 | F8: 4.44 | G8: 4.8 | H8: 4.85 | I8: 4.8 | J8: 4.75 | K8: 4.53
A9: =A8+0.1 -> 2.1 | B9: 1805 | C9: 1.39 | D9: 2.73 | E9: 3.73 | F9: 4.42 | G9: 4.78 | H9: 4.85 | I9: 4.83 | J9: 4.78 | K9: 4.54
A10: =A9+0.1 -> 2.2 | B10: 1900 | C10: 1.35 | D10: 2.67 | E10: 3.69 | F10: 4.4 | G10: 4.75 | H10: 4.84 | I10: 4.85 | J10: 4.81 | K10: 4.55
A11: =A10+0.1 -> 2.3 | B11: 1995 | C11: 1.31 | D11: 2.61 | E11: 3.66 | F11: 4.38 | G11: 4.72 | H11: 4.84 | I11: 4.88 | J11: 4.83 | K11: 4.57
A12: =A11+0.1 -> 2.4 | B12: 2091 | C12: 1.28 | D12: 2.56 | E12: 3.63 | F12: 4.35 | G12: 4.69 | H12: 4.84 | I12: 4.91 | J12: 4.85 | K12: 4.58
A13: =A12+0.1 -> 2.5 | B13: 2187 | C13: 1.25 | D13: 2.51 | E13: 3.59 | F13: 4.33 | G13: 4.67 | H13: 4.84 | I13: 4.93 | J13: 4.86 | K13: 4.58
A14: =A13+0.1 -> 2.6 | B14: 2283 | C14: 1.23 | D14: 2.47 | E14: 3.56 | F14: 4.3 | G14: 4.64 | H14: 4.84 | I14: 4.96 | J14: 4.88 | K14: 4.59
... A38: =A37+0.1 -> 5 | B38: 4766 | C38: 1.02 | D38: 1.97 | E38: 2.08 | F38: 3.61 | G38: 4.3 | H38: 4.71 | I38: 4.88 | J38: 4.86 | K38: 4.68

Sheet Calc
O1: Simpson's Rule
E2: DRAFT CORR | F2: Actual Draft
A3: draft F S | B3: ='DATA IN PUT'!B10 -> 3.97 | C3: DRAFT F | D3: =(B3+B4)/2 -> 3.97 | F3: =D3+E3 -> 3.97 | G3: 1 | H3: =F3*G3 -> 3.97 | O3: (i)
A4: draft F P | B4: ='DATA IN PUT'!B11 -> 3.97 | M4: h | N4: angle of heel | O4: co-ordinate | P4: GZ | Q4: MULTIPLE
A5: draft M S | B5: ='DATA IN PUT'!B12 -> 3.99 | C5: DRAFT M | D5: =(B5+B6)/2 -> 3.99 | F5: =D5+E5 -> 3.99 | G5: 6 | H5: =F5*G5 -> 23.94 | M5: =RADIANS(10) -> 0.17453293 | N5: 0 | O5: 1 | P5: =B38 -> 0 | Q5: =O5*P5 -> 0
A6: draft M P | B6: ='DATA IN PUT'!B13 -> 3.99 | N6: 10 | O6: 3 | P6: =C38 -> 0.23469033 | Q6: =O6*P6 -> 0.70407098
A7: draft A S | B7: ='DATA IN PUT'!B14 -> 4 | C7: DRAFT A | D7: =(B7+B8)/2 -> 4 | F7: =D7+E7 -> 4 | G7: 1 | H7: =F7*G7 -> 4 | N7: 20 | O7: 3 | P7: =D38 -> 0.52415343 | Q7: =O7*P7 -> 1.5724603
A8: draft A P | B8: ='DATA IN PUT'!B15 -> 4 | N8: 30 | O8: 1 | P8: =E38 -> 0.78240936 | Q8: =O8*P8 -> 0.78240936
D9: TMD | F9: True Trim | H9: Mean of Mean | Q9: =SUM(Q5:Q8) -> 3.0589406
A10: LBP | B10: 85.2 | D10: =(D3+D7)/2 -> 3.985 | F10: =F7-F3 -> 0.03 | H10: =SUM(H3:H8)/8 -> 3.98875 | O10: AREA | P10: =(M5/3)*Q9 -> 0.17796195
O12: (ii)
M13: h | N13: 0 | O13: 1 | P13: =B38 -> 0 | Q13: =O13*P13 -> 0
H14: REF | I14: MOM | J14: MOM+0.1 | M14: =RADIANS(10) -> 0.17453293 | N14: 10 | O14: 4 | P14: =C38 -> 0.23469033 | Q14: =O14*P14 -> 0.93876131
H15: =I15-TRUNC(I15,1) -> 0.08875 | I15: =H10 -> 3.98875 | J15: =I15+0.1 -> 4.08875 | N15: 20 | O15: 2 | P15: =D38 -> 0.52415343 | Q15: =O15*P15 -> 1.0483069
A16: Displacement | B16: =10*(H15*(J16-I16))+I16 -> 3683.1875 | H16: =H15 -> 0.08875 | I16: =VLOOKUP(I15,'Hydrostatic Table'!A2:H38,2,TRUE) -> 3590 | J16: =VLOOKUP(J15,'Hydrostatic Table'!A2:H38,2,TRUE) -> 3695 | N16: 30 | O16: 4 | P16: =E38 -> 0.78240936 | Q16: =O16*P16 -> 3.1296375
A17: LCB | B17: =10*(H16*(J17-I17))+I17-(B10/2) -> 0.885625 | H17: =H16 -> 0.08875 | I17: =VLOOKUP(I15,'Hydrostatic Table'!A2:H38,5,TRUE) -> 43.53 | J17: =VLOOKUP(J15,'Hydrostatic Table'!A2:H38,5,TRUE) -> 43.48 | N17: 40 | O17: 1 | P17: =F38 -> 0.85199565 | Q17: =O17*P17 -> 0.85199565
A18: TPC | B18: =10*(H17*(J18-I18))+I18 -> 10.482125 | G18: MOM +/- 50 | H18: =H17 -> 0.08875 | I18: =VLOOKUP(I15,'Hydrostatic Table'!A2:H38,6,TRUE) -> 10.42 | J18: =VLOOKUP(J15,'Hydrostatic Table'!A2:H38,6,TRUE) -> 10.49 | Q18: =SUM(Q13:Q17) -> 5.9687013
A19: MOM + 50 | B19: =10*(H18*(J19-I19))+I19 -> 5582.475 | G19: =H10+0.5 -> 4.48875 | H19: =G19-TRUNC(G19,1) -> 0.08875 | I19: =VLOOKUP(G19,'Hydrostatic Table'!A2:H38,4,TRUE) -> 6454 | J19: =VLOOKUP(G20,'Hydrostatic Table'!A2:H38,4,TRUE) -> 5472 | O19: AREA | P19: =(3*M14/8)*Q18 -> 0.39065059
A20: MOM - 50 | B20: =10*(H19*(J20-I20))+I20 -> 5472 | G20: =H10-0.5 -> 3.48875 | H20: =G20-TRUNC(G20,1) -> 0.08875 | I20: =VLOOKUP(G20,'Hydrostatic Table'!A2:H38,4,TRUE) -> 5472 | J20: =VLOOKUP(G20,'Hydrostatic Table'!A2:H38,4,TRUE) -> 5472
A21: DMZ | B21: =B19-B20 -> 110.475 | O21: (iii)
A22: KM | B22: =10*(H22*(J22-I22))+I22 -> 5.993375 | H22: =H15 -> 0.08875 | I22: =VLOOKUP(I15,'Hydrostatic Table'!A2:H38,3,TRUE) -> 6.02 | J22: =VLOOKUP(J15,'Hydrostatic Table'!A2:H38,3,TRUE) -> 5.99 | M22: h | N22: 30 | O22: 5 | P22: =E38 -> 0.78240936 | Q22: =O22*P22 -> 3.9120468
A23: FWA | B23: =B31/(B18*4) -> 87.852281 | C23: mm
A24: DWA | B24: =(B23*(1.025-'DATA IN PUT'!B16))/(1.025-1)/1000 -> 0.063253642 | C24: metre | M24: =RADIANS(10) -> 0.17453293 | N24: 40 | O24: 8 | P24: =F38 -> 0.85199565 | Q24: =O24*P24 -> 6.8159652
A25: FINAL DISPL. | B25: =10*(H27*(J28-I28))+I28 -> 3616.7712
G26: MOM+DWA
A27: TRIM CORR | G27: =H10-B24 -> 3.9254964 | H27: =I27-TRUNC(I27,1) -> 0.025496358 | I27: =G27 -> 3.9254964 | J27: =G27+0.1 -> 4.0254964 | N27: 50 | O27: -1 | P27: =G38 -> 0.85328248 | Q27: =O27*P27 -> -0.85328248
A28: 1ST CORR | B28: =(F10*B18*B17*100)/B10 -> 0.32687436 | C28: =(2*B10)/100 -> 1.704 | I28: =VLOOKUP(I27,'Hydrostatic Table'!A2:H38,2,TRUE) -> 3590 | J28: =VLOOKUP(J27,'Hydrostatic Table'!A2:H38,2,TRUE) -> 3695 | Q28: =SUM(Q22:Q27) -> 9.8747296
A29: 2ND CORR | B29: =IF(B28>C28,(F10*F10*50*B21)/B10,0) -> 0 | G29: LCB | I29: =VLOOKUP(I27,'Hydrostatic Table'!A2:H38,5,TRUE) -> 43.53 | J29: =VLOOKUP(J27,'Hydrostatic Table'!A2:H38,5,TRUE) -> 43.48 | O29: AREA | P29: =(M24/12)*Q28 -> 0.14362212
G30: =10*(H27*(J29-I29))+I29 -> 43.517252
A31: F.Displacement | B31: =B16+B28+B29 -> 3683.5144 | G31: LCB-LCG= | H31: =G30-'DATA OUT'!G35 -> 34.364149
O32: MAS GZ
O33: =MAXA(B38:K38) -> 0.85328248
A34: ANGLE OF HEEL | B34: ='GZ CURVE'!C2 -> 0 | C34: ='GZ CURVE'!D2 -> 10 | D34: ='GZ CURVE'!E2 -> 20 | E34: ='GZ CURVE'!F2 -> 30 | F34: ='GZ CURVE'!G2 -> 40 | G34: ='GZ CURVE'!H2 -> 50 | H34: ='GZ CURVE'!I2 -> 60 | I34: ='GZ CURVE'!J2 -> 70 | ... K34: ='GZ CURVE'!L2 -> 90 | O34: AT
A35: SIN HEEL | B35: =SIN(B34*PI()/180) -> 0 | C35: =SIN(C34*PI()/180) -> 0.17364818 | D35: =SIN(D34*PI()/180) -> 0.34202014 | E35: =SIN(E34*PI()/180) -> 0.5 | F35: =SIN(F34*PI()/180) -> 0.64278761 | G35: =SIN(G34*PI()/180) -> 0.76604444 | H35: =SIN(H34*PI()/180) -> 0.8660254 | I35: =SIN(I34*PI()/180) -> 0.93969262 | ... K35: =SIN(K34*PI()/180) -> 1 | O35: =IF(O33=B38,B34,IF(O33=C38,C34,IF(O33=D38,D34,IF(O33=E38,E34,IF(O33=F38,F34,IF(O33=G38,G34,IF(O33=H38,H34,IF(O33=I38,I34,0)))))))) -> 50
A36: KG | B36: ='DATA OUT'!E35 -> 4.6951813 | C36: =B36 -> 4.6951813 | D36: =C36 -> 4.6951813 | E36: =D36 -> 4.6951813 | F36: =E36 -> 4.6951813 | G36: =F36 -> 4.6951813 | H36: =G36 -> 4.6951813 | I36: =H36 -> 4.6951813 | J36: =I36 -> 4.6951813 | K36: =J36 -> 4.6951813
A37: KN | B37: 0 | C37: =VLOOKUP(D10,'KN TABLE'!A2:K38,3,TRUE) -> 1.05 | D37: =VLOOKUP(D10,'KN TABLE'!A2:K38,4,TRUE) -> 2.13 | E37: =VLOOKUP(D10,'KN TABLE'!A2:K38,5,TRUE) -> 3.13 | F37: =VLOOKUP(D10,'KN TABLE'!A2:K38,6,TRUE) -> 3.87 | G37: =VLOOKUP(D10,'KN TABLE'!A2:K38,7,TRUE) -> 4.45 | H37: =VLOOKUP(D10,'KN TABLE'!A2:K38,8,TRUE) -> 4.85 | I37: =VLOOKUP(D10,'KN TABLE'!A2:K38,9,TRUE) -> 4.99 | J37: =VLOOKUP(D10,'KN TABLE'!A2:K38,10,TRUE) -> 4.92 | K37: =VLOOKUP(D10,'KN TABLE'!A2:K38,11,TRUE) -> 4.67
A38: GZ | B38: =B37-(B36*B35) -> 0 | C38: =C37-(C36*C35) -> 0.23469033 | D38: =D37-(D36*D35) -> 0.52415343 | E38: =E37-(E36*E35) -> 0.78240936 | F38: =F37-(F36*F35) -> 0.85199565 | G38: =G37-(G36*G35) -> 0.85328248 | H38: =H37-(H36*H35) -> 0.78385374 | I38: =I37-(I36*I35) -> 0.57797281 | ... K38: =K37-(K36*K35) -> -0.025181272
B41: DO | C41: DO +2 | D41: REF | G41: FP TK | H41: FP TK +0.1 | I41: REF
A42: WEIGHT | B42: ='DATA IN PUT'!B38 -> 60.2 | C42: =B42+3 -> 63.2 | D42: =B42-TRUNC(B42,0) -> 0.2 | F42: SNDNG | G42: =IF('DATA IN PUT'!B22="F",6.8,'DATA IN PUT'!B22) -> 0 | H42: =G42+0.1 -> 0.1 | I42: =G42-TRUNC(G42,1) -> 0
A43: FSM | B43: =VLOOKUP(B42,'Sounding table'!A3:F48,6,TRUE) -> 0.2 | C43: =VLOOKUP(C42,'Sounding table'!A3:F48,6,TRUE) -> 0.2 | D43: =IF(TRUNC(B42,0)=B42,B43,(D42*(C43-B43))+B43) -> 0.2 | F43: V | G43: =VLOOKUP(G42,'Sounding table'!H3:M71,2,TRUE) -> 0.097560976 | H43: =VLOOKUP(H42,'Sounding table'!H3:M71,2,TRUE) -> 0.48780488 | I43: =IF(TRUNC(G42,1)=G42,G43,(I42*(H43-G43))+G43) -> 0.097560976
...

Sheet Sounding table
A1: DIESEL OIL TANK | H1: FORE PK TANK | O1: DEEP TANK | V1: DB 1 P&S | AC1: DB 2 P&S | AJ1: DB 3 P&S | AQ1: TST 1 P&S | AX1: TST 2 S | BE1: TST 2 P | BL1: TST 3 P &S | BS1: AFT PK TANK
A2: WEIGHT(1) | B2: cbm(2) | C2: sounding(3) | D2: LCG(4) | E2: KG(5) | F2: FSM(6) | H2: Souynding(1) | I2: cbm(2) | J2: WEIGHT(3) | K2: LCG(4) | L2: KG(5) | M2: FSM(6) | O2: Souynding(1) | P2: cbm(2) | Q2: WEIGHT(3) | R2: LCG(4) | S2: KG(5) | T2: FSM(6) | V2: Souynding(1) | W2: cbm(2) | X2: WEIGHT(3) | Y2: LCG(4) | Z2: KG(5) | AA2: FSM(6) | AC2: Souynding(1) | AD2: cbm(2) | AE2: WEIGHT(3) | AF2: LCG(4) | AG2: KG(5) | AH2: FSM(6) | AJ2: Souynding(1) | AK2: cbm(2) | AL2: WEIGHT(3) | AM2: LCG(4) | AN2: KG(5) | AO2: FSM(6) | AQ2: Souynding(1) | AR2: cbm | AS2: WEIGHT(2) | AT2: LCG(3) | AU2: KG(4) | AV2: FSM(5) | AX2: Souynding(1) | AY2: cbm(2) | AZ2: WEIGHT(3) | BA2: LCG(4) | BB2: KG(5) | BC2: FSM(6) | BE2: Souynding(1) | BF2: cbm(2) | BG2: WEIGHT(3) | BH2: LCG(4) | BI2: KG(5) | BJ2: FSM(6) | BL2: Souynding(1) | BM2: cbm | BN2: WEIGHT(2) | BO2: LCG(3) | BP2: KG(4) | BQ2: FSM(5) | BS2: WEIGHT(1) | BT2: cbm(2) | BU2: sounding(3) | BV2: LCG(4) | BW2: KG(5) | BX2: FSM(6)
A3: 0.4 | B3: =A3/0.852 -> 0.46948357 | C3: 0 | D3: 47.4 | E3: 0.02 | F3: 0.7 | H3: 0 | I3: =J3/1.025 -> 0.097560976 | J3: 0.1 | K3: 80.84 | L3: 0.01 | M3: 0.1 | O3: 0 | P3: =Q3/1.025 -> 0 | Q3: 0 | R3: 72.6 | S3: 1.31 | T3: 0.5 | V3: 0 | W3: =X3/1.025 -> 0.97560976 | X3: 1 | Y3: 68.73 | Z3: 0.01 | AA3: 0.7 | AC3: 0 | AD3: =AE3/1.025 -> 1.3658537 | AE3: 1.4 | AF3: 56.36 | AG3: 0.01 | AH3: 2.3 | AJ3: 0 | AK3: =AL3/1.025 -> 0.97560976 | AL3: 1 | AM3: 25.78 | AN3: 0.01 | AO3: 1.5 | AQ3: 0 | AR3: =AS3/1.025 -> 0.58536585 | AS3: 0.6 | AT3: 59 | AU3: 1.3 | AV3: 4.3 | AX3: 0 | AY3: =AZ3/1.025 -> 0.48780488 | AZ3: 0.5 | BA3: 37.8 | BB3: 1.3 | BC3: 0.2 | BE3: 0 | BF3: =BG3/1.025 -> 0.58536585 | BG3: 0.6 | BH3: 40.2 | BI3: 1.3 | BJ3: 6.7 | BL3: 0 | BM3: =BN3/1.025 -> 0.29268293 | BN3: 0.3 | BO3: 25.68 | BP3: 1.3 | BQ3: 3.6 | BS3: 0 | BT3: =BS3 -> 0 | BU3: 0 | BV3: 4.95 | BW3: 2 | BX3: 0
A4: 2.5 | B4: =A4/0.852 -> 2.9342723 | C4: =C3+0.1 -> 0.1 | D4: 47.4 | E4: 0.06 | F4: 3.7 | H4: =H3+0.1 -> 0.1 | I4: =J4/1.025 -> 0.48780488 | J4: 0.5 | K4: 80.86 | L4: 0.07 | M4: 0.3 | O4: =O3+0.1 -> 0.1 | P4: =Q4/1.025 -> 0.19512195 | Q4: 0.2 | R4: 72.6 | S4: 1.36 | T4: 2 | V4: =V3+0.1 -> 0.1 | W4: =X4/1.025 -> 5.6585366 | X4: 5.8 | Y4: 67.78 | Z4: 0.06 | AA4: 3.6 | AC4: =AC3+0.1 -> 0.1 | AD4: =AE4/1.025 -> 7.5121951 | AE4: 7.7 | AF4: 56.36 | AG4: 0.05 | AH4: 11.4 | AJ4: =AJ3+0.1 -> 0.1 | AK4: =AL4/1.025 -> 5.6585366 | AL4: 5.8 | AM4: 25.77 | AN4: 0.06 | AO4: 7.6 | AQ4: =AQ3+0.1 -> 0.1 | AR4: =AS4/1.025 -> 3.5121951 | AS4: 3.6 | AT4: 59.2 | AU4: 1.35 | AV4: 6.7 | AX4: =AX3+0.1 -> 0.1 | AY4: =AZ4/1.025 -> 2.7317073 | AZ4: 2.8 | BA4: 37.8 | BB4: 1.35 | BC4: 1.3 | BE4: =BE3+0.1 -> 0.1 | BF4: =BG4/1.025 -> 3.6097561 | BG4: 3.7 | BH4: 40.2 | BI4: 1.35 | BJ4: 6.7 | BL4: =BL3+0.1 -> 0.1 | BM4: =BN4/1.025 -> 1.8536585 | BN4: 1.9 | BO4: 25.67 | BP4: 1.35 | BQ4: 3.6 | BS4: 0.5 | BT4: =BS4 -> 0.5 | BU4: =BU3+0.1 -> 0.1 | BV4: 4.94 | BW4: 2.05 | BX4: 0.1
A5: 4.6 | B5: =A5/0.852 -> 5.399061 | C5: =C4+0.1 -> 0.2 | D5: 47.4 | E5: 0.11 | F5: 5.8 | H5: =H4+0.1 -> 0.2 | I5: =J5/1.025 -> 1.0731707 | J5: 1.1 | K5: 80.88 | L5: 0.13 | M5: 0.6 | O5: =O4+0.1 -> 0.2 | P5: =Q5/1.025 -> 0.3902439 | Q5: 0.4 | R5: 72.6 | S5: 1.4 | T5: 2.4 | V5: =V4+0.1 -> 0.2 | W5: =X5/1.025 -> 10.536585 | X5: 10.8 | Y5: 68.4 | Z5: 0.11 | AA5: 5.8 | AC5: =AC4+0.1 -> 0.2 | AD5: =AE5/1.025 -> 13.95122 | AE5: 14.3 | AF5: 56.36 | AG5: 0.1 | AH5: 18.2 | AJ5: =AJ4+0.1 -> 0.2 | AK5: =AL5/1.025 -> 10.634146 | AL5: 10.9 | AM5: 25.76 | AN5: 0.11 | AO5: 12.1 | AQ5: =AQ4+0.1 -> 0.2 | AR5: =AS5/1.025 -> 6.5365854 | AS5: 6.7 | AT5: 59.6 | AU5: 1.4 | AV5: 6.7 | AX5: =AX4+0.1 -> 0.2 | AY5: =AZ5/1.025 -> 4.9756098 | AZ5: 5.1 | BA5: 37.8 | BB5: 1.4 | BC5: 2.3 | BE5: =BE4+0.1 -> 0.2 | BF5: =BG5/1.025 -> 6.6341463 | BG5: 6.8 | BH5: 40.2 | BI5: 1.4 | BJ5: 6.7 | BL5: =BL4+0.1 -> 0.2 | BM5: =BN5/1.025 -> 3.4146341 | BN5: 3.5 | BO5: 25.66 | BP5: 1.4 | BQ5: 3.6 | BS5: 1 | BT5: =BS5 -> 1 | BU5: =BU4+0.1 -> 0.2 | BV5: 4.92 | BW5: 2.1 | BX5: 0.2
A6: 6.7 | B6: =A6/0.852 -> 7.8638498 | C6: =C5+0.1 -> 0.3 | D6: 47.4 | E6: 0.16 | F6: 7.2 | H6: =H5+0.1 -> 0.3 | I6: =J6/1.025 -> 1.7560976 | J6: 1.8 | K6: 80.9 | L6: 0.19 | M6: 0.9 | O6: =O5+0.1 -> 0.3 | P6: =Q6/1.025 -> 0.68292683 | Q6: 0.7 | R6: 72.68 | S6: 1.47 | T6: 5.6 | V6: =V5+0.1 -> 0.3 | W6: =X6/1.025 -> 15.804878 | X6: 16.2 | Y6: 68.89 | Z6: 0.16 | AA6: 7.3 | AC6: =AC5+0.1 -> 0.3 | AD6: =AE6/1.025 -> 20.487805 | AE6: 21 | AF6: 56.36 | AG6: 0.15 | AH6: 22.7 | AJ6: =AJ5+0.1 -> 0.3 | AK6: =AL6/1.025 -> 15.804878 | AL6: 16.2 | AM6: 25.75 | AN6: 0.16 | AO6: 14.9 | AQ6: =AQ5+0.1 -> 0.3 | AR6: =AS6/1.025 -> 9.5609756 | AS6: 9.8 | AT6: 59.11 | AU6: 1.45 | AV6: 6.7 | AX6: =AX5+0.1 -> 0.3 | AY6: =AZ6/1.025 -> 7.3170732 | AZ6: 7.5 | BA6: 37.8 | BB6: 1.45 | BC6: 3.2 | BE6: =BE5+0.1 -> 0.3 | BF6: =BG6/1.025 -> 9.7560976 | BG6: 10 | BH6: 40.2 | BI6: 1.45 | BJ6: 6.7 | BL6: =BL5+0.1 -> 0.3 | BM6: =BN6/1.025 -> 4.9756098 | BN6: 5.1 | BO6: 25.66 | BP6: 1.45 | BQ6: 3.6 | BS6: 1.7 | BT6: =BS6 -> 1.7 | BU6: =BU5+0.1 -> 0.3 | BV6: 4.9 | BW6: 2.16 | BX6: 0.3
A7: 9 | B7: =A7/0.852 -> 10.56338 | C7: =C6+0.1 -> 0.4 | D7: 47.4 | E7: 0.21 | F7: 7.7 | H7: =H6+0.1 -> 0.4 | I7: =J7/1.025 -> 2.4390244 | J7: 2.5 | K7: 80.92 | L7: 0.25 | M7: 1.2 | O7: =O6+0.1 -> 0.4 | P7: =Q7/1.025 -> 1.2682927 | Q7: 1.3 | R7: 72.83 | S7: 1.55 | T7: 10.8 | V7: =V6+0.1 -> 0.4 | W7: =X7/1.025 -> 21.268293 | X7: 21.8 | Y7: 68.94 | Z7: 0.21 | AA7: 8.1 | AC7: =AC6+0.1 -> 0.4 | AD7: =AE7/1.025 -> 27.121951 | AE7: 27.8 | AF7: 56.36 | AG7: 0.2 | AH7: 24.9 | AJ7: =AJ6+0.1 -> 0.4 | AK7: =AL7/1.025 -> 21.073171 | AL7: 21.6 | AM7: 25.74 | AN7: 0.22 | AO7: 16.1 | AQ7: =AQ6+0.1 -> 0.4 | AR7: =AS7/1.025 -> 12.585366 | AS7: 12.9 | AT7: 59.15 | AU7: 1.5 | AV7: 6.7 | AX7: =AX6+0.1 -> 0.4 | AY7: =AZ7/1.025 -> 9.5609756 | AZ7: 9.8 | BA7: 37.8 | BB7: 1.5 | BC7: 3.9 | BE7: =BE6+0.1 -> 0.4 | BF7: =BG7/1.025 -> 12.780488 | BG7: 13.1 | BH7: 40.2 | BI7: 1.5 | BJ7: 6.7 | BL7: =BL6+0.1 -> 0.4 | BM7: =BN7/1.025 -> 6.5365854 | BN7: 6.7 | BO7: 25.65 | BP7: 1.5 | BQ7: 3.6 | BS7: 2.4 | BT7: =BS7 -> 2.4 | BU7: =BU6+0.1 -> 0.4 | BV7: 4.88 | BW7: 2.21 | BX7: 0.4
A8: 11.3 | B8: =A8/0.852 -> 13.262911 | C8: =C7+0.1 -> 0.5 | D8: 47.4 | E8: 0.26 | F8: 7.4 | H8: =H7+0.1 -> 0.5 | I8: =J8/1.025 -> 3.3170732 | J8: 3.4 | K8: 80.94 | L8: 0.31 | M8: 1.4 | O8: =O7+0.1 -> 0.5 | P8: =Q8/1.025 -> 2.1463415 | Q8: 2.2 | R8: 72.93 | S8: 1.63 | T8: 11.8 | V8: =V7+0.1 -> 0.5 | W8: =X8/1.025 -> 27.02439 | X8: 27.7 | Y8: 69 | Z8: 0.26 | AA8: 8.2 | AC8: =AC7+0.1 -> 0.5 | AD8: =AE8/1.025 -> 34.04878 | AE8: 34.9 | AF8: 56.36 | AG8: 0.25 | AH8: 24.8 | AJ8: =AJ7+0.1 -> 0.5 | AK8: =AL8/1.025 -> 26.536585 | AL8: 27.2 | AM8: 25.74 | AN8: 0.27 | AO8: 15.9 | AQ8: =AQ7+0.1 -> 0.5 | AR8: =AS8/1.025 -> 15.609756 | AS8: 16 | AT8: 59.19 | AU8: 1.55 | AV8: 6.7 | AX8: =AX7+0.1 -> 0.5 | AY8: =AZ8/1.025 -> 11.804878 | AZ8: 12.1 | BA8: 37.8 | BB8: 1.55 | BC8: 4.5 | BE8: =BE7+0.1 -> 0.5 | BF8: =BG8/1.025 -> 15.804878 | BG8: 16.2 | BH8: 40.2 | BI8: 1.55 | BJ8: 6.7 | BL8: =BL7+0.1 -> 0.5 | BM8: =BN8/1.025 -> 8.097561 | BN8: 8.3 | BO8: 25.65 | BP8: 1.56 | BQ8: 3.6 | BS8: 3.2 | BT8: =BS8 -> 3.2 | BU8: =BU7+0.1 -> 0.5 | BV8: 4.86 | BW8: 2.27 | BX8: 0.5
A9: 13.6 | B9: =A9/0.852 -> 15.962441 | C9: =C8+0.1 -> 0.6 | D9: 47.4 | E9: 0.31 | F9: 7.7 | H9: =H8+0.1 -> 0.6 | I9: =J9/1.025 -> 4.2926829 | J9: 4.4 | K9: 80.96 | L9: 0.37 | M9: 1.7 | O9: =O8+0.1 -> 0.6 | P9: =Q9/1.025 -> 3.3170732 | Q9: 3.4 | R9: 72.98 | S9: 1.69 | T9: 11.4 | V9: =V8+0.1 -> 0.6 | W9: =X9/1.025 -> 32.97561 | X9: 33.8 | Y9: 69.4 | Z9: 0.31 | AA9: 8.5 | AC9: =AC8+0.1 -> 0.6 | AD9: =AE9/1.025 -> 41.073171 | AE9: 42.1 | AF9: 56.37 | AG9: 0.29 | AH9: 24.7 | AJ9: =AJ8+0.1 -> 0.6 | AK9: =AL9/1.025 -> 32.097561 | AL9: 32.9 | AM9: 25.73 | AN9: 0.32 | AO9: 16.6 | AQ9: =AQ8+0.1 -> 0.6 | AR9: =AS9/1.025 -> 18.634146 | AS9: 19.1 | AT9: 59.24 | AU9: 1.61 | AV9: 6.9 | AX9: =AX8+0.1 -> 0.6 | AY9: =AZ9/1.025 -> 14.146341 | AZ9: 14.5 | BA9: 37.8 | BB9: 1.6 | BC9: 5 | BE9: =BE8+0.1 -> 0.6 | BF9: =BG9/1.025 -> 18.829268 | BG9: 19.3 | BH9: 40.2 | BI9: 1.6 | BJ9: 6.7 | BL9: =BL8+0.1 -> 0.6 | BM9: =BN9/1.025 -> 9.6585366 | BN9: 9.9 | BO9: 25.64 | BP9: 1.61 | BQ9: 3.6 | BS9: 4.1 | BT9: =BS9 -> 4.1 | BU9: =BU8+0.1 -> 0.6 | BV9: 4.84 | BW9: 2.32 | BX9: 0.6
A10: 15.9 | B10: =A10/0.852 -> 18.661972 | C10: =C9+0.1 -> 0.7 | D10: 47.4 | E10: 0.36 | F10: 7.9 | H10: =H9+0.1 -> 0.7 | I10: =J10/1.025 -> 5.4634146 | J10: 5.6 | K10: 80.98 | L10: 0.43 | M10: 2 | O10: =O9+0.1 -> 0.7 | P10: =Q10/1.025 -> 4.097561 | Q10: 4.2 | R10: 73.01 | S10: 1.73 | T10: 11.8 | V10: =V9+0.1 -> 0.7 | W10: =X10/1.025 -> 38.926829 | X10: 39.9 | Y10: 69.7 | Z10: 0.36 | AA10: 8.9 | AC10: =AC9+0.1 -> 0.7 | AD10: =AE10/1.025 -> 48 | AE10: 49.2 | AF10: 56.37 | AG10: 0.34 | AH10: 25.5 | AJ10: =AJ9+0.1 -> 0.7 | AK10: =AL10/1.025 -> 37.756098 | AL10: 38.7 | AM10: 25.72 | AN10: 0.39 | AO10: 17.3 | AQ10: =AQ9+0.1 -> 0.7 | AR10: =AS10/1.025 -> 21.756098 | AS10: 22.3 | AT10: 59.3 | AU10: 1.66 | AV10: 6.9 | AX10: =AX9+0.1 -> 0.7 | AY10: =AZ10/1.025 -> 16.390244 | AZ10: 16.8 | BA10: 37.8 | BB10: 1.65 | BC10: 5.3 | BE10: =BE9+0.1 -> 0.7 | BF10: =BG10/1.025 -> 21.853659 | BG10: 22.4 | BH10: 40.2 | BI10: 1.65 | BJ10: 6.7 | BL10: =BL9+0.1 -> 0.7 | BM10: =BN10/1.025 -> 11.219512 | BN10: 11.5 | BO10: 25.64 | BP10: 1.66 | BQ10: 3.6 | BS10: 5 | BT10: =BS10 -> 5 | BU10: =BU9+0.1 -> 0.7 | BV10: 4.83 | BW10: 2.38 | BX10: 0.7
A11: 18.2 | B11: =A11/0.852 -> 21.361502 | C11: =C10+0.1 -> 0.8 | D11: 47.4 | E11: 0.41 | F11: 8.1 | H11: =H10+0.1 -> 0.8 | I11: =J11/1.025 -> 6.6341463 | J11: 6.8 | K11: 81 | L11: 0.49 | M11: 2.3 | O11: =O10+0.1 -> 0.8 | P11: =Q11/1.025 -> 8 | Q11: 8.2 | R11: 73.4 | S11: 1.81 | T11: 20 | V11: =V10+0.1 -> 0.8 | W11: =X11/1.025 -> 44.878049 | X11: 46 | Y11: 69.1 | Z11: 0.41 | AA11: 9.2 | AC11: =AC10+0.1 -> 0.8 | AD11: =AE11/1.025 -> 55.121951 | AE11: 56.5 | AF11: 56.37 | AG11: 0.39 | AH11: 26.2 | AJ11: =AJ10+0.1 -> 0.8 | AK11: =AL11/1.025 -> 43.414634 | AL11: 44.5 | AM11: 25.71 | AN11: 0.42 | AO11: 18 | AQ11: =AQ10+0.1 -> 0.8 | AR11: =AS11/1.025 -> 24.97561 | AS11: 25.6 | AT11: 59.37 | AU11: 1.71 | AV11: 6.9 | AX11: =AX10+0.1 -> 0.8 | AY11: =AZ11/1.025 -> 18.634146 | AZ11: 19.1 | BA11: 37.8 | BB11: 1.7 | BC11: 5.6 | BE11: =BE10+0.1 -> 0.8 | BF11: =BG11/1.025 -> 24.878049 | BG11: 25.5 | BH11: 40.2 | BI11: 1.7 | BJ11: 6.7 | BL11: =BL10+0.1 -> 0.8 | BM11: =BN11/1.025 -> 12.878049 | BN11: 13.2 | BO11: 25.63 | BP11: 1.71 | BQ11: 3.6 | BS11: 6 | BT11: =BS11 -> 6 | BU11: =BU10+0.1 -> 0.8 | BV11: 4.81 | BW11: 2.45 | BX11: 0.9
A12: 20.6 | B12: =A12/0.852 -> 24.178404 | C12: =C11+0.1 -> 0.9 | D12: 47.4 | E12: 0.46 | F12: 8.1 | H12: =H11+0.1 -> 0.9 | I12: =J12/1.025 -> 7.804878 | J12: 8 | K12: 81.01 | L12: 0.55 | M12: 2.6 | O12: =O11+0.1 -> 0.9 | P12: =Q12/1.025 -> 12 | Q12: 12.3 | R12: 73.74 | S12: 1.89 | T12: 27.4 | V12: =V11+0.1 -> 0.9 | W12: =X12/1.025 -> 50.926829 | X12: 52.2 | Y12: 69.12 | Z12: 0.46 | AA12: 9.6 | AC12: =AC11+0.1 -> 0.9 | AD12: =AE12/1.025 -> 62.243902 | AE12: 63.8 | AF12: 56.37 | AG12: 0.43 | AH12: 26.7 | AJ12: =AJ11+0.1 -> 0.9 | AK12: =AL12/1.025 -> 49.170732 | AL12: 50.4 | AM12: 25.7 | AN12: 0.48 | AO12: 18.6 | AQ12: =AQ11+0.1 -> 0.9 | AR12: =AS12/1.025 -> 28.195122 | AS12: 28.9 | AT12: 59.43 | AU12: 1.76 | AV12: 6.9 | AX12: =AX11+0.1 -> 0.9 | AY12: =AZ12/1.025 -> 20.97561 | AZ12: 21.5 | BA12: 37.8 | BB12: 1.75 | BC12: 5.7 | BE12: =BE11+0.1 -> 0.9 | BF12: =BG12/1.025 -> 27.902439 | BG12: 28.6 | BH12: 40.2 | BI12: 1.75 | BJ12: 6.7 | BL12: =BL11+0.1 -> 0.9 | BM12: =BN12/1.025 -> 14.439024 | BN12: 14.8 | BO12: 25.62 | BP12: 1.76 | BQ12: 3.6 | BS12: 7.1 | BT12: =BS12 -> 7.1 | BU12: =BU11+0.1 -> 0.9 | BV12: 4.79 | BW12: 2.51 | BX12: 1.2
A13: 22.9 | B13: =A13/0.852 -> 26.877934 | C13: =C12+0.1 -> 1 | D13: 47.4 | E13: 0.51 | F13: 8.3 | H13: =H12+0.1 -> 1 | I13: =J13/1.025 -> 9.0731707 | J13: 9.3 | K13: 81.02 | L13: 0.61 | M13: 3 | O13: =O12+0.1 -> 1 | P13: =Q13/1.025 -> 16.195122 | Q13: 16.6 | R13: 74.04 | S13: 1.96 | T13: 33.9 | V13: =V12+0.1 -> 1 | W13: =X13/1.025 -> 56.97561 | X13: 58.4 | Y13: 69.14 | Z13: 0.51 | AA13: 9.9 | AC13: =AC12+0.1 -> 1 | AD13: =AE13/1.025 -> 69.463415 | AE13: 71.2 | AF13: 56.37 | AG13: 0.48 | AH13: 27.2 | AJ13: =AJ12+0.1 -> 1 | AK13: =AL13/1.025 -> 55.02439 | AL13: 56.4 | AM13: 25.7 | AN13: 0.53 | AO13: 19.1 | AQ13: =AQ12+0.1 -> 1 | AR13: =AS13/1.025 -> 31.414634 | AS13: 32.2 | AT13: 59.48 | AU13: 1.81 | AV13: 6.9 | AX13: =AX12+0.1 -> 1 | AY13: =AZ13/1.025 -> 23.219512 | AZ13: 23.8 | BA13: 37.8 | BB13: 1.8 | BC13: 5.6 | BE13: =BE12+0.1 -> 1 | BF13: =BG13/1.025 -> 30.926829 | BG13: 31.7 | BH13: 40.2 | BI13: 1.8 | BJ13: 6.7 | BL13: =BL12+0.1 -> 1 | BM13: =BN13/1.025 -> 16 | BN13: 16.4 | BO13: 25.62 | BP13: 1.81 | BQ13: 3.6 | BS13: 8.4 | BT13: =BS13 -> 8.4 | BU13: =BU12+0.1 -> 1 | BV13: 4.77 | BW13: 2.58 | BX13: 1.6
A14: 25.3 | B14: =A14/0.852 -> 29.694836 | C14: =C13+0.1 -> 1.1 | D14: 47.4 | E14: 0.56 | F14: 8.4 | H14: =H13+0.1 -> 1.1 | I14: =J14/1.025 -> 10.341463 | J14: 10.6 | K14: 81.04 | L14: 0.66 | M14: 3.3 | O14: =O13+0.1 -> 1.1 | P14: =Q14/1.025 -> 20.390244 | Q14: 20.9 | R14: 74.29 | S14: 2.03 | T14: 39.5 | V14: =V13+0.1 -> 1.1 | W14: =X14/1.025 -> 64.390244 | X14: 66 | Y14: 69.16 | Z14: 0.56 | AA14: 10.2 | AC14: =AC13+0.1 -> 1.1 | AD14: =AE14/1.025 -> 76.682927 | AE14: 78.6 | AF14: 56.37 | AG14: 0.53 | AH14: 27.5 | AJ14: =AJ13+0.1 -> 1.1 | AK14: =AL14/1.025 -> 60.878049 | AL14: 62.4 | AM14: 25.69 | AN14: 0.58 | AO14: 19.5 | AQ14: =AQ13+0.1 -> 1.1 | AR14: =AS14/1.025 -> 34.634146 | AS14: 35.5 | AT14: 59.54 | AU14: 1.86 | AV14: 6.9 | AX14: =AX13+0.1 -> 1.1 | AY14: =AZ14/1.025 -> 25.463415 | AZ14: 26.1 | BA14: 37.8 | BB14: 1.85 | BC14: 5.5 | BE14: =BE13+0.1 -> 1.1 | BF14: =BG14/1.025 -> 33.95122 | BG14: 34.8 | BH14: 40.2 | BI14: 1.85 | BJ14: 6.7 | BL14: =BL13+0.1 -> 1.1 | BM14: =BN14/1.025 -> 17.658537 | BN14: 18.1 | BO14: 25.61 | BP14: 1.86 | BQ14: 3.6 | BS14: 9.8 | BT14: =BS14 -> 9.8 | BU14: =BU13+0.1 -> 1.1 | BV14: 4.75 | BW14: 2.64 | BX14: 2
A15: 27.6 | B15: =A15/0.852 -> 32.394366 | C15: =C14+0.1 -> 1.2 | D15: 47.4 | E15: 0.61 | F15: 8.5 | H15: =H14+0.1 -> 1.2 | I15: =J15/1.025 -> 11.707317 | J15: 12 | K15: 81.05 | L15: 0.72 | M15: 3.7 | O15: =O14+0.1 -> 1.2 | P15: =Q15/1.025 -> 24.682927 | Q15: 25.3 | R15: 74.49 | S15: 2.1 | T15: 44.2 | V15: =V14+0.1 -> 1.2 | W15: =X15/1.025 -> 72.780488 | X15: 74.6 | Y15: 69.19 | Z15: 0.63 | AA15: 10.5 | AC15: =AC14+0.1 -> 1.2 | AD15: =AE15/1.025 -> 83.902439 | AE15: 86 | AF15: 56.37 | AG15: 0.58 | AH15: 27.7 | AJ15: =AJ14+0.1 -> 1.2 | AK15: =AL15/1.025 -> 66.829268 | AL15: 68.5 | AM15: 25.68 | AN15: 0.63 | AO15: 19.9 | AQ15: =AQ14+0.1 -> 1.2 | AR15: =AS15/1.025 -> 37.95122 | AS15: 38.9 | AT15: 59.9 | AU15: 1.91 | AV15: 7 | AX15: =AX14+0.1 -> 1.2 | AY15: =AZ15/1.025 -> 27.804878 | AZ15: 28.5 | BA15: 37.8 | BB15: 1.9 | BC15: 5.2 | BE15: =BE14+0.1 -> 1.2 | BF15: =BG15/1.025 -> 36.97561 | BG15: 37.9 | BH15: 40.2 | BI15: 1.9 | BJ15: 6.7 | BL15: =BL14+0.1 -> 1.2 | BM15: =BN15/1.025 -> 19.219512 | BN15: 19.7 | BO15: 25.61 | BP15: 1.91 | BQ15: 3.6 | BS15: 11.4 | BT15: =BS15 -> 11.4 | BU15: =BU14+0.1 -> 1.2 | BV15: 4.73 | BW15: 2.71 | BX15: 2.6
A16: 30.1 | B16: =A16/0.852 -> 35.328638 | C16: =C15+0.1 -> 1.3 | D16: 47.4 | E16: 0.66 | F16: 8.5 | H16: =H15+0.1 -> 1.3 | I16: =J16/1.025 -> 13.073171 | J16: 13.4 | K16: 81.06 | L16: 0.78 | M16: 4.1 | O16: =O15+0.1 -> 1.3 | P16: =Q16/1.025 -> 29.170732 | Q16: 29.9 | R16: 74.65 | S16: 2.16 | T16: 48.1 | V16: =V15+0.1 -> 1.3 | W16: =X16/1.025 -> 78.243902 | X16: 80.2 | Y16: 69.2 | Z16: 0.67 | AA16: 10.7 | AC16: =AC15+0.1 -> 1.3 | AD16: =AE16/1.025 -> 91.219512 | AE16: 93.5 | AF16: 56.37 | AG16: 0.62 | AH16: 27.9 | AJ16: =AJ15+0.1 -> 1.3 | AK16: =AL16/1.025 -> 70.731707 | AL16: 72.5 | AM16: 25.68 | AN16: 0.67 | AO16: 20.1 | AQ16: =AQ15+0.1 -> 1.3 | AR16: =AS16/1.025 -> 41.170732 | AS16: 42.2 | AT16: 59.65 | AU16: 1.97 | AV16: 7 | AX16: =AX15+0.1 -> 1.3 | AY16: =AZ16/1.025 -> 30.04878 | AZ16: 30.8 | BA16: 37.8 | BB16: 1.95 | BC16: 5 | BE16: =BE15+0.1 -> 1.3 | BF16: =BG16/1.025 -> 40 | BG16: 41 | BH16: 40.2 | BI16: 1.95 | BJ16: 6.7 | BL16: =BL15+0.1 -> 1.3 | BM16: =BN16/1.025 -> 20.780488 | BN16: 21.3 | BO16: 25.6 | BP16: 1.96 | BQ16: 3.6 | BS16: 13.1 | BT16: =BS16 -> 13.1 | BU16: =BU15+0.1 -> 1.3 | BV16: 4.7 | BW16: 2.79 | BX16: 3.2
A17: 30.7 | B17: =A17/0.852 -> 36.032864 | C17: =C16+0.1 -> 1.4 | D17: 47.4 | E17: 0.68 | F17: 6.7 | H17: =H16+0.1 -> 1.4 | I17: =J17/1.025 -> 14.536585 | J17: 14.9 | K17: 81.7 | L17: 0.84 | M17: 4.5 | O17: =O16+0.1 -> 1.4 | P17: =Q17/1.025 -> 33.658537 | Q17: 34.5 | R17: 74.75 | S17: 2.22 | T17: 51.1 | V17: =V16+0.1 -> 1.4 | W17: =X17/1.025 -> 80.585366 | X17: 82.6 | Y17: 69.3 | Z17: 0.69 | AA17: 4.1 | AC17: =AC16+0.1 -> 1.4 | AD17: =AE17/1.025 -> 96.878049 | AE17: 99.3 | AF17: 56.37 | AG17: 0.66 | AH17: 28 | AQ17: =AQ16+0.1 -> 1.4 | AR17: =AS17/1.025 -> 44.487805 | AS17: 45.6 | AT17: 59.7 | AU17: 2.2 | AV17: 7 | AX17: =AX16+0.1 -> 1.4 | AY17: =AZ17/1.025 -> 32.292683 | AZ17: 33.1 | BA17: 37.8 | BB17: 2 | BC17: 5 | BE17: =BE16+0.1 -> 1.4 | BF17: =BG17/1.025 -> 43.121951 | BG17: 44.2 | BH17: 40.2 | BI17: 2 | BJ17: 6.7 | BL17: =BL16+0.1 -> 1.4 | BM17: =BN17/1.025 -> 22.439024 | BN17: 23 | BO17: 25.6 | BP17: 2.01 | BQ17: 3.6 | BS17: 15 | BT17: =BS17 -> 15 | BU17: =BU16+0.1 -> 1.4 | BV17: 4.66 | BW17: 2.86 | BX17: 3.9
A18: 31.3 | B18: =A18/0.852 -> 36.737089 | C18: =C17+0.1 -> 1.5 | D18: 47.4 | E18: 0.69 | F18: 5 | H18: =H17+0.1 -> 1.5 | I18: =J18/1.025 -> 16.097561 | J18: 16.5 | K18: 81.8 | L18: 0.9 | M18: 4.9 | O18: =O17+0.1 -> 1.5 | P18: =Q18/1.025 -> 38.341463 | Q18: 39.3 | R18: 74.81 | S18: 2.27 | T18: 53.2 | V18: =V17+0.1 -> 1.5 | W18: =X18/1.025 -> 82.341463 | X18: 84.4 | Y18: 69.42 | Z18: 0.7 | AA18: 0.2 | AQ18: =AQ17+0.1 -> 1.5 | AR18: =AS18/1.025 -> 47.902439 | AS18: 49.1 | AT18: 59.74 | AU18: 2.07 | AV18: 7 | AX18: =AX17+0.1 -> 1.5 | AY18: =AZ18/1.025 -> 34.634146 | AZ18: 35.5 | BA18: 37.8 | BB18: 2.05 | BC18: 5 | BE18: =BE17+0.1 -> 1.5 | BF18: =BG18/1.025 -> 46.146341 | BG18: 47.3 | BH18: 40.2 | BI18: 2.05 | BJ18: 6.7 | BL18: =BL17+0.1 -> 1.5 | BM18: =BN18/1.025 -> 24 | BN18: 24.6 | BO18: 25.59 | BP18: 2.06 | BQ18: 3.6 | BS18: 17.2 | BT18: =BS18 -> 17.2 | BU18: =BU17+0.1 -> 1.5 | BV18: 4.62 | BW18: 2.93 | BX18: 4.8
A19: 32 | B19: =A19/0.852 -> 37.558685 | C19: =C18+0.1 -> 1.6 | D19: 47.4 | E19: 0.71 | F19: 3.6 | H19: =H18+0.1 -> 1.6 | I19: =J19/1.025 -> 17.658537 | J19: 18.1 | K19: 81.09 | L19: 0.96 | M19: 5.3 | O19: =O18+0.1 -> 1.6 | P19: =Q19/1.025 -> 43.02439 | Q19: 44.1 | R19: 74.82 | S19: 2.32 | T19: 54.4 | V19: =V18+0.1 -> 1.6 | W19: =X19/1.025 -> 84.097561 | X19: 86.2 | Y19: 69.53 | Z19: 0.72 | AA19: 1.4 | AQ19: =AQ18+0.1 -> 1.6 | AR19: =AS19/1.025 -> 51.219512 | AS19: 52.5 | AT19: 59.79 | AU19: 2.12 | AV19: 7.1 | AX19: =AX18+0.1 -> 1.6 | AY19: =AZ19/1.025 -> 36.878049 | AZ19: 37.8 | BA19: 37.8 | BB19: 2.1 | BC19: 5 | BE19: =BE18+0.1 -> 1.6 | BF19: =BG19/1.025 -> 49.170732 | BG19: 50.4 | BH19: 40.2 | BI19: 2.1 | BJ19: 6.7 | BL19: =BL18+0.1 -> 1.6 | BM19: =BN19/1.025 -> 25.658537 | BN19: 26.3 | BO19: 25.58 | BP19: =BP18+0.05 -> 2.11 | BQ19: 3.6 | BS19: 19.5 | BT19: =BS19 -> 19.5 | BU19: =BU18+0.1 -> 1.6 | BV19: 4.57 | BW19: 3.01 | BX19: 5.8
A20: 32.6 | B20: =A20/0.852 -> 38.262911 | C20: =C19+0.1 -> 1.7 | D20: 47.4 | E20: 0.73 | F20: 2.4 | H20: =H19+0.1 -> 1.7 | I20: =J20/1.025 -> 19.219512 | J20: 19.7 | K20: 81.09 | L20: 1.02 | M20: 5.7 | O20: =O19+0.1 -> 1.7 | P20: =Q20/1.025 -> 47.902439 | Q20: 49.1 | R20: 74.79 | S20: 2.37 | T20: 54.7 | V20: =V19+0.1 -> 1.7 | W20: =X20/1.025 -> 85.756098 | X20: 87.9 | Y20: 69.64 | Z20: 0.74 | AA20: 1.2 | AQ20: =AQ19+0.1 -> 1.7 | AR20: =AS20/1.025 -> 54.536585 | AS20: 55.9 | AT20: 59.84 | AU20: 2.17 | AV20: 7.1 | AX20: =AX19+0.1 -> 1.7 | AY20: =AZ20/1.025 -> 39.121951 | AZ20: 40.1 | BA20: 37.8 | BB20: 2.15 | BC20: 5 | BE20: =BE19+0.1 -> 1.7 | BF20: =BG20/1.025 -> 52.195122 | BG20: 53.5 | BH20: 40.2 | BI20: 2.15 | BJ20: 6.7 | BL20: =BL19+0.1 -> 1.7 | BM20: =BN20/1.025 -> 27.219512 | BN20: 27.9 | BO20: 25.58 | BP20: =BP19+0.05 -> 2.16 | BQ20: 3.6 | BS20: 22.1 | BT20: =BS20 -> 22.1 | BU20: =BU19+0.1 -> 1.7 | BV20: 4.52 | BW20: 3.08 | BX20: 7
A21: 33.2 | B21: =A21/0.852 -> 38.967136 | C21: =C20+0.1 -> 1.8 | D21: 47.4 | E21: 0.75 | F21: 1.3 | H21: =H20+0.1 -> 1.8 | I21: =J21/1.025 -> 20.878049 | J21: 21.4 | K21: 81.1 | L21: 1.08 | M21: 6.1 | O21: =O20+0.1 -> 1.8 | P21: =Q21/1.025 -> 52.878049 | Q21: 54.2 | R21: 74.73 | S21: 2.41 | T21: 54.7 | V21: =V20+0.1 -> 1.8 | W21: =X21/1.025 -> 87.121951 | X21: 89.3 | Y21: 69.73 | Z21: 0.75 | AA21: 1.2 | AQ21: =AQ20+0.1 -> 1.8 | AR21: =AS21/1.025 -> 57.95122 | AS21: 59.4 | AT21: 59.88 | AU21: 2.22 | AV21: 7.1 | AX21: =AX20+0.1 -> 1.8 | AY21: =AZ21/1.025 -> 41.463415 | AZ21: 42.5 | BA21: 37.8 | BB21: 2.2 | BC21: 5 | BE21: =BE20+0.1 -> 1.8 | BF21: =BG21/1.025 -> 55.219512 | BG21: 56.6 | BH21: 40.2 | BI21: 2.2 | BJ21: 6.7 | BL21: =BL20+0.1 -> 1.8 | BM21: =BN21/1.025 -> 28.878049 | BN21: 29.6 | BO21: 25.57 | BP21: =BP20+0.05 -> 2.21 | BQ21: 3.6 | BS21: 25 | BT21: =BS21 -> 25 | BU21: =BU20+0.1 -> 1.8 | BV21: 4.47 | BW21: 3.16 | BX21: 8.4
A22: 33.9 | B22: =A22/0.852 -> 39.788732 | C22: =C21+0.1 -> 1.9 | D22: 47.4 | E22: 0.77 | F22: 0.5 | H22: =H21+0.1 -> 1.9 | I22: =J22/1.025 -> 22.634146 | J22: 23.2 | K22: 81.11 | L22: 1.14 | M22: 6.6 | O22: =O21+0.1 -> 1.9 | P22: =Q22/1.025 -> 57.756098 | Q22: 59.2 | R22: 74.74 | S22: 2.47 | T22: 56.4 | V22: =V21+0.1 -> 1.9 | W22: =X22/1.025 -> 88.780488 | X22: 91 | Y22: 69.84 | Z22: 0.77 | AA22: 1.3 | AQ22: =AQ21+0.1 -> 1.9 | AR22: =AS22/1.025 -> 61.365854 | AS22: 62.9 | AT22: 59.92 | AU22: 2.28 | AV22: 7.2 | AX22: =AX21+0.1 -> 1.9 | AY22: =AZ22/1.025 -> 43.707317 | AZ22: 44.8 | BA22: 37.8 | BB22: 2.25 | BC22: 5 | BE22: =BE21+0.1 -> 1.9 | BF22: =BG22/1.025 -> 58.243902 | BG22: 59.7 | BH22: 40.2 | BI22: 2.25 | BJ22: 6.7 | BL22: =BL21+0.1 -> 1.9 | BM22: =BN22/1.025 -> 30.536585 | BN22: 31.3 | BO22: 25.57 | BP22: =BP21+0.05 -> 2.26 | BQ22: 3.6 | BS22: 28.1 | BT22: =BS22 -> 28.1 | BU22: =BU21+0.1 -> 1.9 | BV22: 4.43 | BW22: 3.23 | BX22: 10
A23: 34.5 | B23: =A23/0.852 -> 40.492958 | C23: =C22+0.1 -> 2 | D23: 47.4 | E23: 0.79 | F23: -0.1 | H23: =H22+0.1 -> 2 | I23: =J23/1.025 -> 24.195122 | J23: 24.8 | K23: 81.12 | L23: 1.19 | M23: 6.9 | O23: =O22+0.1 -> 2 | P23: =Q23/1.025 -> 62.829268 | Q23: 64.4 | R23: 74.75 | S23: 2.52 | T23: 50.8 | V23: =V22+0.1 -> 2 | W23: =X23/1.025 -> 89.560976 | X23: 91.8 | Y23: 69.89 | Z23: 0.79 | AA23: 1.3 | AQ23: =AQ22+0.1 -> 2 | AR23: =AS23/1.025 -> 64.780488 | AS23: 66.4 | AT23: 59.96 | AU23: 2.33 | AV23: 7.2 | AX23: =AX22+0.1 -> 2 | AY23: =AZ23/1.025 -> 45.95122 | AZ23: 47.1 | BA23: 37.8 | BB23: 2.3 | BC23: 5 | BE23: =BE22+0.1 -> 2 | BF23: =BG23/1.025 -> 61.268293 | BG23: 62.8 | BH23: 40.2 | BI23: 2.3 | BJ23: 6.7 | BL23: =BL22+0.1 -> 2 | BM23: =BN23/1.025 -> 32.097561 | BN23: 32.9 | BO23: 25.56 | BP23: =BP22+0.05 -> 2.31 | BQ23: 3.6 | BS23: 31.4 | BT23: =BS23 -> 31.4 | BU23: =BU22+0.1 -> 2 | BV23: 4.38 | BW23: 3.31 | BX23: 11.6
A24: 35.1 | B24: =A24/0.852 -> 41.197183 | C24: =C23+0.1 -> 2.1 | D24: 47.4 | E24: 0.82 | F24: -0.6 | H24: =H23+0.1 -> 2.1 | I24: =J24/1.025 -> 25.658537 | J24: 26.3 | K24: 81.14 | L24: 1.25 | M24: 7.3 | O24: =O23+0.1 -> 2.1 | P24: =Q24/1.025 -> 67.902439 | Q24: 69.6 | R24: 74.76 | S24: 2.57 | T24: 59.6 | AQ24: =AQ23+0.1 -> 2.1 | AR24: =AS24/1.025 -> 68.195122 | AS24: 69.9 | AT24: 60 | AU24: 2.38 | AV24: 7.2 | AX24: =AX23+0.1 -> 2.1 | AY24: =AZ24/1.025 -> 48.292683 | AZ24: 49.5 | BA24: 37.8 | BB24: 2.35 | BC24: 5 | BE24: =BE23+0.1 -> 2.1 | BF24: =BG24/1.025 -> 64.292683 | BG24: 65.9 | BH24: 40.2 | BI24: 2.35 | BJ24: 6.7 | BL24: =BL23+0.1 -> 2.1 | BM24: =BN24/1.025 -> 33.756098 | BN24: 34.6 | BO24: 25.56 | BP24: =BP23+0.05 -> 2.36 | BQ24: 3.6 | BS24: 34.9 | BT24: =BS24 -> 34.9 | BU24: =BU23+0.1 -> 2.1 | BV24: 4.33 | BW24: 3.38 | BX24: 13.4
A25: 35.8 | B25: =A25/0.852 -> 42.018779 | C25: =C24+0.1 -> 2.2 | D25: 47.4 | E25: 0.84 | F25: -0.8 | H25: =H24+0.1 -> 2.2 | I25: =J25/1.025 -> 27.219512 | J25: 27.9 | K25: 81.15 | L25: 1.3 | M25: 7.7 | O25: =O24+0.1 -> 2.2 | P25: =Q25/1.025 -> 73.073171 | Q25: 74.9 | R25: 74.77 | S25: 2.62 | T25: 61.3 | AQ25: =AQ24+0.1 -> 2.2 | AR25: =AS25/1.025 -> 71.609756 | AS25: 73.4 | AT25: 60.4 | AU25: 2.43 | AV25: 7.3 | AX25: =AX24+0.1 -> 2.2 | AY25: =AZ25/1.025 -> 50.536585 | AZ25: 51.8 | BA25: 37.8 | BB25: 2.4 | BC25: 5 | BE25: =BE24+0.1 -> 2.2 | BF25: =BG25/1.025 -> 67.317073 | BG25: 69 | BH25: 40.2 | BI25: 2.4 | BJ25: 6.7 | BL25: =BL24+0.1 -> 2.2 | BM25: =BN25/1.025 -> 35.317073 | BN25: 36.2 | BO25: 25.55 | BP25: =BP24+0.05 -> 2.41 | BQ25: 3.6 | BS25: 38.6 | BT25: =BS25 -> 38.6 | BU25: =BU24+0.1 -> 2.2 | BV25: 4.29 | BW25: 3.46 | BX25: 15.3
A26: 36.4 | B26: =A26/0.852 -> 42.723005 | C26: =C25+0.1 -> 2.3 | D26: 47.4 | E26: 0.86 | F26: -0.9 | H26: =H25+0.1 -> 2.3 | I26: =J26/1.025 -> 28.878049 | J26: 29.6 | K26: 81.16 | L26: 1.35 | M26: 8.2 | O26: =O25+0.1 -> 2.3 | P26: =Q26/1.025 -> 78.243902 | Q26: 80.2 | R26: 74.78 | S26: 2.68 | T26: 63 | AQ26: =AQ25+0.1 -> 2.3 | AR26: =AS26/1.025 -> 75.121951 | AS26: 77 | AT26: 60.7 | AU26: 2.48 | AV26: 7.3 | AX26: =AX25+0.1 -> 2.3 | AY26: =AZ26/1.025 -> 52.780488 | AZ26: 54.1 | BA26: 37.8 | BB26: 2.45 | BC26: 5 | BE26: =BE25+0.1 -> 2.3 | BF26: =BG26/1.025 -> 70.341463 | BG26: 72.1 | BH26: 40.2 | BI26: 2.45 | BJ26: 6.7 | BL26: =BL25+0.1 -> 2.3 | BM26: =BN26/1.025 -> 36.97561 | BN26: 37.9 | BO26: 25.55 | BP26: =BP25+0.05 -> 2.46 | BQ26: 3.6 | BS26: 42.5 | BT26: =BS26 -> 42.5 | BU26: =BU25+0.1 -> 2.3 | BV26: 4.25 | BW26: 3.53 | BX26: 17.2
A27: 37 | B27: =A27/0.852 -> 43.42723 | C27: =C26+0.1 -> 2.4 | D27: 47.4 | E27: 0.89 | F27: -0.7 | H27: =H26+0.1 -> 2.4 | I27: =J27/1.025 -> 30.536585 | J27: 31.3 | K27: 81.18 | L27: 1.41 | M27: 8.6 | O27: =O26+0.1 -> 2.4 | P27: =Q27/1.025 -> 83.512195 | Q27: 85.6 | R27: 74.79 | S27: 2.73 | T27: 64.7 | AQ27: =AQ26+0.1 -> 2.4 | AR27: =AS27/1.025 -> 78.536585 | AS27: 80.5 | AT27: 60.11 | AU27: 2.54 | AV27: 7.4 | AX27: =AX26+0.1 -> 2.4 | AY27: =AZ27/1.025 -> 55.02439 | AZ27: 56.4 | BA27: 37.8 | BB27: 2.5 | BC27: 5 | BE27: =BE26+0.1 -> 2.4 | BF27: =BG27/1.025 -> 73.463415 | BG27: 75.3 | BH27: 40.2 | BI27: 2.5 | BJ27: 6.7 | BL27: =BL26+0.1 -> 2.4 | BM27: =BN27/1.025 -> 38.634146 | BN27: 39.6 | BO27: 25.55 | BP27: =BP26+0.05 -> 2.51 | BQ27: 3.6 | BS27: 46.6 | BT27: =BS27 -> 46.6 | BU27: =BU26+0.1 -> 2.4 | BV27: 4.21 | BW27: 3.6 | BX27: 19.3
A28: 37.7 | B28: =A28/0.852 -> 44.248826 | C28: =C27+0.1 -> 2.5 | D28: 47.4 | E28: 0.91 | F28: -0.4 | H28: =H27+0.1 -> 2.5 | I28: =J28/1.025 -> 32.195122 | J28: 33 | K28: 81.19 | L28: 1.46 | M28: 9.1 | O28: =O27+0.1 -> 2.5 | P28: =Q28/1.025 -> 88.878049 | Q28: 91.1 | R28: 74.79 | S28: 2.78 | T28: 66.4 | AQ28: =AQ27+0.1 -> 2.5 | AR28: =AS28/1.025 -> 82.04878 | AS28: 84.1 | AT28: 60.14 | AU28: 2.59 | AV28: 7.4 | AX28: =AX27+0.1 -> 2.5 | AY28: =AZ28/1.025 -> 57.365854 | AZ28: 58.8 | BA28: 37.8 | BB28: 2.55 | BC28: 5 | BE28: =BE27+0.1 -> 2.5 | BF28: =BG28/1.025 -> 76.487805 | BG28: 78.4 | BH28: 40.2 | BI28: 2.55 | BJ28: 6.7 | BL28: =BL27+0.1 -> 2.5 | BM28: =BN28/1.025 -> 40.195122 | BN28: 41.2 | BO28: 25.55 | BP28: =BP27+0.05 -> 2.56 | BQ28: 3.6 | BS28: 50 | BT28: =BS28 -> 50 | BU28: =BU27+0.1 -> 2.5 | BV28: 4.19 | BW28: 3.66 | BX28: 20.9
A29: 38.3 | B29: =A29/0.852 -> 44.953052 | C29: =C28+0.1 -> 2.6 | D29: 47.4 | E29: 0.94 | F29: 0.2 | H29: =H28+0.1 -> 2.6 | I29: =J29/1.025 -> 33.95122 | J29: 34.8 | K29: 81.2 | L29: 1.52 | M29: 9.7 | O29: =O28+0.1 -> 2.6 | P29: =Q29/1.025 -> 94.341463 | Q29: 96.7 | R29: 74.8 | S29: 2.84 | T29: 68.1 | AQ29: =AQ28+0.1 -> 2.6 | AR29: =AS29/1.025 -> 85.560976 | AS29: 87.7 | AT29: 60.17 | AU29: 2.64 | AV29: 7.5 | AX29: =AX28+0.1 -> 2.6 | AY29: =AZ29/1.025 -> 59.609756 | AZ29: 61.1 | BA29: 37.8 | BB29: 2.6 | BC29: 5 | BE29: =BE28+0.1 -> 2.6 | BF29: =BG29/1.025 -> 79.512195 | BG29: 81.5 | BH29: 40.2 | BI29: 2.6 | BJ29: 6.7 | BL29: =BL28+0.1 -> 2.6 | BM29: =BN29/1.025 -> 41.853659 | BN29: 42.9 | BO29: 25.55 | BP29: =BP28+0.05 -> 2.61 | BQ29: 3.6
A30: 39 | B30: =A30/0.852 -> 45.774648 | C30: =C29+0.1 -> 2.7 | D30: 47.4 | E30: 0.96 | F30: 0.2 | H30: =H29+0.1 -> 2.7 | I30: =J30/1.025 -> 35.317073 | J30: 36.2 | K30: 81.21 | L30: 1.58 | M30: 10.2 | O30: =O29+0.1 -> 2.7 | P30: =Q30/1.025 -> 99.804878 | Q30: 102.3 | R30: 74.81 | S30: 2.89 | T30: 69.8 | AQ30: =AQ29+0.1 -> 2.7 | AR30: =AS30/1.025 -> 89.073171 | AS30: 91.3 | AT30: 60.2 | AU30: 2.69 | AV30: 7.5 | AX30: =AX29+0.1 -> 2.7 | AY30: =AZ30/1.025 -> 61.853659 | AZ30: 63.4 | BA30: 37.8 | BB30: 2.65 | BC30: 5 | BE30: =BE29+0.1 -> 2.7 | BF30: =BG30/1.025 -> 82.536585 | BG30: 84.6 | BH30: 40.2 | BI30: 2.65 | BJ30: 6.7 | BL30: =BL29+0.1 -> 2.7 | BM30: =BN30/1.025 -> 43.414634 | BN30: 44.5 | BO30: 25.54 | BP30: =BP29+0.05 -> 2.66 | BQ30: 3.6
A31: 39.6 | B31: =A31/0.852 -> 46.478873 | C31: =C30+0.1 -> 2.8 | D31: 47.4 | E31: 0.99 | F31: 0.2 | H31: =H30+0.1 -> 2.8 | I31: =J31/1.025 -> 37.560976 | J31: 38.5 | K31: 81.22 | L31: 1.63 | M31: 10.8 | O31: =O30+0.1 -> 2.8 | P31: =Q31/1.025 -> 105.36585 | Q31: 108 | R31: 74.81 | S31: 2.95 | T31: 71.6 | AQ31: =AQ30+0.1 -> 2.8 | AR31: =AS31/1.025 -> 92.585366 | AS31: 94.9 | AT31: 60.22 | AU31: 2.74 | AV31: 7.6 | AX31: =AX30+0.1 -> 2.8 | AY31: =AZ31/1.025 -> 64.195122 | AZ31: 65.8 | BA31: 37.8 | BB31: 2.7 | BC31: 5 | BE31: =BE30+0.1 -> 2.8 | BF31: =BG31/1.025 -> 85.560976 | BG31: 87.7 | BH31: 40.2 | BI31: 2.7 | BJ31: 6.7 | BL31: =BL30+0.1 -> 2.8 | BM31: =BN31/1.025 -> 45.073171 | BN31: 46.2 | BO31: 25.54 | BP31: =BP30+0.05 -> 2.71 | BQ31: 3.6
A32: 40.3 | B32: =A32/0.852 -> 47.300469 | C32: =C31+0.1 -> 2.9 | D32: 47.4 | E32: 1.02 | F32: 0.2 | H32: =H31+0.1 -> 2.9 | I32: =J32/1.025 -> 39.414634 | J32: 40.4 | K32: 81.23 | L32: 1.69 | M32: 11.5 | O32: =O31+0.1 -> 2.9 | P32: =Q32/1.025 -> 110.92683 | Q32: 113.7 | R32: 74.82 | S32: 3 | T32: 73.3 | AQ32: =AQ31+0.1 -> 2.9 | AR32: =AS32/1.025 -> 96.097561 | AS32: 98.5 | AT32: 60.25 | AU32: 2.8 | AV32: 7.7 | AX32: =AX31+0.1 -> 2.9 | AY32: =AZ32/1.025 -> 66.439024 | AZ32: 68.1 | BA32: 37.8 | BB32: 2.754 | BC32: 5 | BE32: =BE31+0.1 -> 2.9 | BF32: =BG32/1.025 -> 88.585366 | BG32: 90.8 | BH32: 40.2 | BI32: 2.75 | BJ32: 6.7 | BL32: =BL31+0.1 -> 2.9 | BM32: =BN32/1.025 -> 46.634146 | BN32: 47.8 | BO32: 25.54 | BP32: =BP31+0.05 -> 2.76 | BQ32: 3.6
A33: 40.9 | B33: =A33/0.852 -> 48.004695 | C33: =C32+0.1 -> 3 | D33: 47.4 | E33: 1.05 | F33: 0.2 | H33: =H32+0.1 -> 3 | I33: =J33/1.025 -> 41.268293 | J33: 42.3 | K33: 81.24 | L33: 1.75 | M33: 12.1 | O33: =O32+0.1 -> 3 | P33: =Q33/1.025 -> 116.58537 | Q33: 119.5 | R33: 74.82 | S33: 3.05 | T33: 75 | AQ33: =AQ32+0.1 -> 3 | AR33: =AS33/1.025 -> 99.707317 | AS33: 102.2 | AT33: 60.28 | AU33: 2.85 | AV33: 7.7 | AX33: =AX32+0.1 -> 3 | AY33: =AZ33/1.025 -> 68.682927 | AZ33: 70.4 | BA33: 37.8 | BB33: 2.8 | BC33: 5 | BE33: =BE32+0.1 -> 3 | BF33: =BG33/1.025 -> 91.609756 | BG33: 93.9 | BH33: 40.2 | BI33: 2.8 | BJ33: 6.7 | BL33: =BL32+0.1 -> 3 | BM33: =BN33/1.025 -> 48.292683 | BN33: 49.5 | BO33: 25.54 | BP33: =BP32+0.05 -> 2.81 | BQ33: 3.6
A34: 41.6 | B34: =A34/0.852 -> 48.826291 | C34: =C33+0.1 -> 3.1 | D34: 47.4 | E34: 1.08 | F34: 0.2 | H34: =H33+0.1 -> 3.1 | I34: =J34/1.025 -> 43.219512 | J34: 44.3 | K34: 81.25 | L34: 1.81 | M34: 12.8 | O34: =O33+0.1 -> 3.1 | P34: =Q34/1.025 -> 122.2439 | Q34: 125.3 | R34: 74.82 | S34: 3.11 | T34: 76.6 | AQ34: =AQ33+0.1 -> 3.1 | AR34: =AS34/1.025 -> 103.21951 | AS34: 105.8 | AT34: 60.3 | AU34: 2.9 | AV34: 7.7 | AX34: =AX33+0.1 -> 3.1 | AY34: =AZ34/1.025 -> 71.02439 | AZ34: 72.8 | BA34: 37.8 | BB34: 2.85 | BC34: 5 | BE34: =BE33+0.1 -> 3.1 | BF34: =BG34/1.025 -> 94.634146 | BG34: 97 | BH34: 40.2 | BI34: 2.85 | BJ34: 6.7 | BL34: =BL33+0.1 -> 3.1 | BM34: =BN34/1.025 -> 49.853659 | BN34: 51.1 | BO34: 25.54 | BP34: =BP33+0.05 -> 2.86 | BQ34: 3.6
A35: 42.2 | B35: =A35/0.852 -> 49.530516 | C35: =C34+0.1 -> 3.2 | D35: 47.4 | E35: 1.1 | F35: 0.2 | H35: =H34+0.1 -> 3.2 | I35: =J35/1.025 -> 45.268293 | J35: 46.4 | K35: 81.26 | L35: 1.878 | M35: 13.6 | O35: =O34+0.1 -> 3.2 | P35: =Q35/1.025 -> 127.90244 | Q35: 131.1 | R35: 74.83 | S35: 3.16 | T35: 78.3 | AQ35: =AQ34+0.1 -> 3.2 | AR35: =AS35/1.025 -> 106.73171 | AS35: 109.4 | AT35: 60.33 | AU35: 2.95 | AV35: 7.8 | AX35: =AX34+0.1 -> 3.2 | AY35: =AZ35/1.025 -> 73.560976 | AZ35: 75.4 | BA35: 37.83 | BB35: 2.9 | BC35: 5.2 | BE35: =BE34+0.1 -> 3.2 | BF35: =BG35/1.025 -> 97.658537 | BG35: 100.1 | BH35: 40.2 | BI35: 2.9 | BJ35: 6.7 | BL35: =BL34+0.1 -> 3.2 | BM35: =BN35/1.025 -> 51.512195 | BN35: 52.8 | BO35: 25.54 | BP35: =BP34+0.05 -> 2.91 | BQ35: 3.6
A36: 42.9 | B36: =A36/0.852 -> 50.352113 | C36: =C35+0.1 -> 3.3 | D36: 47.4 | E36: 1.14 | F36: 0.2 | H36: =H35+0.1 -> 3.3 | I36: =J36/1.025 -> 47.317073 | J36: 48.5 | K36: 81.26 | L36: 1.93 | M36: 14.3 | O36: =O35+0.1 -> 3.3 | P36: =Q36/1.025 -> 133.46341 | Q36: 136.8 | R36: 74.83 | S36: 3.22 | T36: 79.9 | AQ36: =AQ35+0.1 -> 3.3 | AR36: =AS36/1.025 -> 110.34146 | AS36: 113.1 | AT36: 60.35 | AU36: 3 | AV36: 7.8 | AX36: =AX35+0.1 -> 3.3 | AY36: =AZ36/1.025 -> 76.585366 | AZ36: 78.5 | BA36: 37.92 | BB36: 2.97 | BC36: 5.7 | BE36: =BE35+0.1 -> 3.3 | BF36: =BG36/1.025 -> 100.68293 | BG36: 103.2 | BH36: 40.2 | BI36: 2.95 | BJ36: 6.7 | BL36: =BL35+0.1 -> 3.3 | BM36: =BN36/1.025 -> 53.463415 | BN36: 54.8 | BO36: 25.54 | BP36: =BP35+0.05 -> 2.96 | BQ36: 3.6
A37: 43.5 | B37: =A37/0.852 -> 51.056338 | C37: =C36+0.1 -> 3.4 | D37: 47.4 | E37: 1.17 | F37: 0.2 | H37: =H36+0.1 -> 3.4 | I37: =J37/1.025 -> 49.365854 | J37: 50.6 | K37: 81.27 | L37: 1.99 | M37: 15.1 | AQ37: =AQ36+0.1 -> 3.4 | AR37: =AS37/1.025 -> 113.85366 | AS37: 116.7 | AT37: 60.38 | AU37: 3.05 | AV37: 7.9 | AX37: =AX36+0.1 -> 3.4 | AY37: =AZ37/1.025 -> 79.609756 | AZ37: 81.6 | BA37: 38.01 | BB37: 3.03 | BC37: 6.2 | BE37: =BE36+0.1 -> 3.4 | BF37: =BG37/1.025 -> 103.80488 | BG37: 106.4 | BH37: 40.2 | BI37: 3 | BJ37: 6.7 | BL37: =BL36+0.1 -> 3.4 | BM37: =BN37/1.025 -> 54.731707 | BN37: 56.1 | BO37: 25.53 | BP37: =BP36+0.05 -> 3.01 | BQ37: 3.6
A38: 44.1 | B38: =A38/0.852 -> 51.760563 | C38: =C37+0.1 -> 3.5 | D38: 47.4 | E38: 1.2 | F38: 0.2 | H38: =H37+0.1 -> 3.5 | I38: =J38/1.025 -> 51.512195 | J38: 52.8 | K38: 81.28 | L38: 2.05 | M38: 15.9 | AQ38: =AQ37+0.1 -> 3.5 | AR38: =AS38/1.025 -> 117.46341 | AS38: 120.4 | AT38: 60.4 | AU38: 3.11 | AV38: 7.9 | AX38: =AX37+0.1 -> 3.5 | AY38: =AZ38/1.025 -> 82.634146 | AZ38: 84.7 | BA38: 38.09 | BB38: 3.1 | BC38: 6.5 | BE38: =BE37+0.1 -> 3.5 | BF38: =BG38/1.025 -> 106.82927 | BG38: 109.5 | BH38: 40.2 | BI38: 3.05 | BJ38: 6.7 | BL38: =BL37+0.1 -> 3.5 | BM38: =BN38/1.025 -> 56.292683 | BN38: 57.7 | BO38: 25.53 | BP38: =BP37+0.05 -> 3.06 | BQ38: 3.6
A39: 44.8 | B39: =A39/0.852 -> 52.58216 | C39: =C38+0.1 -> 3.6 | D39: 47.4 | E39: 1.23 | F39: 0.2 | H39: =H38+0.1 -> 3.6 | I39: =J39/1.025 -> 53.658537 | J39: 55 | K39: 81.28 | L39: 2.11 | M39: 16.8 | AQ39: =AQ38+0.1 -> 3.6 | AR39: =AS39/1.025 -> 121.07317 | AS39: 124.1 | AT39: 60.42 | AU39: 3.16 | AV39: 7.9 | AX39: =AX38+0.1 -> 3.6 | AY39: =AZ39/1.025 -> 85.658537 | AZ39: 87.8 | BA39: 38.17 | BB39: 3.16 | BC39: 6.7 | BE39: =BE38+0.1 -> 3.6 | BF39: =BG39/1.025 -> 109.85366 | BG39: 112.6 | BH39: 40.2 | BI39: 3.1 | BJ39: 6.7 | BL39: =BL38+0.1 -> 3.6 | BM39: =BN39/1.025 -> 57.95122 | BN39: 59.4 | BO39: 25.53 | BP39: =BP38+0.05 -> 3.11 | BQ39: 3.6
