Workbook
Name LAT: GC!$B$2:$B$5
Name NOO: GC!$J$2:$J$9
Name SIMPLE: C_R!$AP$4:$AP$8
Name SIMPLE: C_R!$AP$4:$AP$8
Name SIMPLE: GC!$D$2:$D$6
Name TC: C_R!$AM$4:$AM$6
Name TC: C_R!$AM$4:$AM$6
Name TC: GC!$F$2:$F$4
Name YES: C_R!$AM$7:$AM$8
Name YES: C_R!$AM$7:$AM$8
Name YES: GC!$H$2:$H$3

Sheet GREAT CIRCLE
A1: GREAT CIRCLE SAILING
I2: 1 | J2: TYPE OF CALCULATION | K2: WP Great Circle Sailing
C3: LAT | D3: LONG | F3: Course | G3: Distance | I3: 2 | J3: ROUND LAT.? | K3: ###° #5,00"
A4: DEPARTURE | C4: 4620 | D4: 14030 | E4: GREAT CIRCLE | F4: =ROUND(GC!G15,1) -> 61.3 | G4: =ROUND(GC!F15,2) -> 4113.28 | I4: 3 | J4: CALCULATION METHOD: | K4: TRUE WGS84
A5: ARRIVAL | C5: 3500 | D5: -12430 | F5: =ROUND(GC!H15,1) -> 132.4 | H5: WIN / LOSE | I5: 4 | J5: TC ACCURACY | K5: 000.0°
A6: VERTEX | C6: =GC!B20 -> 5244.7534 | D6: =GC!C20 -> 17740.591 | E6: Rhumb Line | F6: =GC!AY78 -> 98.9 | G6: =ROUND(GC!AZ78,2) -> 4372.98 | H6: =ROUND('GREAT CIRCLE'!G4-'GREAT CIRCLE'!G6,2) -> -259.7 | I6: 5 | J6: DISTANCE BY COURSE? | K6: NO
A7: GC Cross Equat. | C7: =GC!D18 -> 8740.5912 | D7: =GC!E18 -> -9219.4088 | E7: =IF(OR(GC!A11=1,GC!A11=2),"GC Sailing",IF(GC!A11=3,"Composite","ANA Sailing")) -> GC Sailing | F7: =IF(GC!F9=1,"NO SAILING",GC!AY25) -> 70 | G7: =IF(GC!F9=1,"NO SAILING",GC!BA25) -> 4142.21 | H7: =IF(GC!F9=1,"",CONCATENATE(GC!AC5," / ",GC!AD5)) -> 230.77 / 28.93 | I7: 6 | J7: G.C. DIST CORR.? | K7: NO
A8: =GC!G7 -> WP NR. | C8: 5 | D8: =GC!H7 -> MIN 3 WP; MAX 51 WP | E8: =IF(GC!F8=1,"","LIMIT LAT") | F8: 4620 | G8: =IF(GC!F8=1,"",GC!AF16) | I8: =IF(GC!A11=1,"","7") -> 7 | J8: =IF(GC!A11=1,"","ROUND LONG.?") -> ROUND LONG.? | K8: NO
G9: =IF(GC!F8=1,"",GC!AF17)
B11: W.PT | C11: LATITUDE | D11: LONGITUDE | E11: COURSE | F11: DISTANCE | G11: D.T.G
B12: =IF(C12="","",IF(GC!A11=4,"A",0)) -> 0 | C12: =GC!AW25 -> 4620 | D12: =GC!AX25 -> 14030 | E12: =GC!AY25 -> 70 | F12: =GC!AZ25 -> 993.89 | G12: =GC!BA25 -> 4142.21
B13: =IF(B12="A","N",IF(C13="","",B12+1)) -> 1 | C13: =GC!AW26 -> 5200 | D13: =GC!AX26 -> 16415 | E13: =GC!AY26 -> 88.7 | F13: =GC!AZ26 -> 877.68 | G13: =GC!BA26 -> 3148.32
B14: =IF(B13="N","A",IF(C14="","",B13+1)) -> 2 | C14: =GC!AW27 -> 5220 | D14: =GC!AX27 -> -17200 | E14: =GC!AY27 -> 107.8 | F14: =GC!AZ27 -> 966.92 | G14: =GC!BA27 -> 2270.64
B15: =IF(C15="","",B14+1) -> 3 | C15: =GC!AW28 -> 4725 | D15: =GC!AX28 -> -14815 | E15: =GC!AY28 -> 124.8 | F15: =GC!AZ28 -> 1303.72 | G15: =GC!BA28 -> 1303.72
B16: =IF(C16="","",B15+1) -> 4 | C16: =GC!AW29 -> 3500 | D16: =GC!AX29 -> -12430 | E16: =GC!AY29 | F16: =GC!AZ29 | G16: =GC!BA29
B17: =IF(C17="","",B16+1) | C17: =GC!AW30 | D17: =GC!AX30 | E17: =GC!AY30 | F17: =GC!AZ30 | G17: =GC!BA30
B18: =IF(C18="","",B17+1) | C18: =GC!AW31 | D18: =GC!AX31 | E18: =GC!AY31 | F18: =GC!AZ31 | G18: =GC!BA31
B19: =IF(C19="","",B18+1) | C19: =GC!AW32 | D19: =GC!AX32 | E19: =GC!AY32 | F19: =GC!AZ32 | G19: =GC!BA32
B20: =IF(C20="","",B19+1) | C20: =GC!AW33 | D20: =GC!AX33 | E20: =GC!AY33 | F20: =GC!AZ33 | G20: =GC!BA33
B21: =IF(C21="","",B20+1) | C21: =GC!AW34 | D21: =GC!AX34 | E21: =GC!AY34 | F21: =GC!AZ34 | G21: =GC!BA34
B22: =IF(C22="","",B21+1) | C22: =GC!AW35 | D22: =GC!AX35 | E22: =GC!AY35 | F22: =GC!AZ35 | G22: =GC!BA35
B23: =IF(C23="","",B22+1) | C23: =GC!AW36 | D23: =GC!AX36 | E23: =GC!AY36 | F23: =GC!AZ36 | G23: =GC!BA36
B24: =IF(C24="","",B23+1) | C24: =GC!AW37 | D24: =GC!AX37 | E24: =GC!AY37 | F24: =GC!AZ37 | G24: =GC!BA37
B25: =IF(C25="","",B24+1) | C25: =GC!AW38 | D25: =GC!AX38 | E25: =GC!AY38 | F25: =GC!AZ38 | G25: =GC!BA38
B26: =IF(C26="","",B25+1) | C26: =GC!AW39 | D26: =GC!AX39 | E26: =GC!AY39 | F26: =GC!AZ39 | G26: =GC!BA39
... B61: =IF(C61="","",B60+1) | C61: =GC!AW74 | D61: =GC!AX74 | E61: =GC!AY74 | F61: =GC!AZ74 | G61: =GC!BA74
B62: =IF(C62="","",B61+1) | C62: =GC!AW75 | D62: =GC!AX75

Sheet GC
A1: 1 | C1: 3 | E1: 4 | G1: 5 | I1: 6 | AF1: E | AG1: =(6378137^2-(6378137*(1-1/298.257223563))^2)^0.5/6378137 -> 0.081819191
A2: 1 | B2: LAT Great Circle Sailing | C2: 1 | D2: SIMPLE | E2: 1 | F2: 000.0° | G2: 1 | H2: YES | I2: 1 | J2: NO | K2: X | M2: GRAF | AF2: Corr | AG2: =6378137*2*PI()/21600/1852 -> 1.0017953
A3: 2 | B3: WP Great Circle Sailing | C3: 2 | D3: SPHERE | E3: 2 | F3: 000.5° | G3: 2 | H3: NO | I3: 2 | J3: ###° ##,#0" | K3: 0.1 | M3: =IF(OR(A11=1,AND(A11=3,T23=1)),"DEGREES","")
A4: 3 | B4: LAT Composite Sailing | C4: 3 | D4: SPHERE Corr. | E4: 3 | F4: 000° | I4: 3 | J4: ###° ##,50" | K4: 0.5 | AG4: 1.0017953
A5: 4 | B5: ANA Sailing | C5: 4 | D5: SPHEROID WGS84 | I5: 4 | J5: ###° ##,00" | K5: 1 | AB5: 3 | AC5: =ROUND('GREAT CIRCLE'!G6-'GREAT CIRCLE'!G7,2) -> 230.77 | AD5: =ROUND('GREAT CIRCLE'!G7-'GREAT CIRCLE'!G4,2) -> 28.93
C6: 5 | D6: TRUE WGS84 | I6: 5 | J6: ###° #2,00" | K6: 2
E7: LAT/ WP | F7: =IF(OR(A11=1,AND(A11=3,T23=1),A11=2),1,2) -> 1 | G7: =IF(OR(A11=1,AND(A11=3,T23=1)),"LAT DIV",IF(A11=4,"","WP NR.")) -> WP NR. | H7: =IF(OR(A11=1,AND(A11=3,T23=1)),"DEGREES",IF(A11=4,"","MIN 3 WP; MAX 51 WP")) -> MIN 3 WP; MAX 51 WP | I7: 6 | J7: ###° #2,50" | K7: 2.5
E8: LIM | F8: =IF(OR(A11=1,A11=2,A11=4,AND(A11=3,T23=2)),1,2) -> 1 | I8: 7 | J8: ###° #5,00" | K8: 5
F9: =IF(OR(AND(A11=3,T23=2),AND(A11=4,AB18=2)),1,2) -> 2 | I9: 8 | J9: ###° #0,00" | K9: 10
A10: 1 | B10: 2 | C10: 3 | D10: 4 | E10: 5 | F10: 6 | G10: 7 | AB10: =IF(AD16=M16,1,2) -> 1
A11: =MATCH('GREAT CIRCLE'!K2,LAT,0) -> 2 | B11: =VLOOKUP(MATCH('GREAT CIRCLE'!K3,NOO,0),GC!I2:K9,3) -> 5 | C11: =MATCH('GREAT CIRCLE'!K4,SIMPLE,0) -> 5 | D11: =MATCH('GREAT CIRCLE'!K5,TC,0) -> 1 | E11: =MATCH('GREAT CIRCLE'!K6,YES,0) -> 2 | F11: =MATCH('GREAT CIRCLE'!K7,YES,0) -> 2 | G11: =MATCH('GREAT CIRCLE'!K8,NOO,0) -> 1
G12: =VLOOKUP(G11,I2:K9,3) -> X
B13: LAT | C13: LONG | D13: Δϕ | E13: Δλ | F13: DISTANCE | G13: IN COR | H13: END COR
A14: 1 | B14: =TRUNC('GREAT CIRCLE'!C4/100)+('GREAT CIRCLE'!C4/100-TRUNC('GREAT CIRCLE'!C4/100))/0.6 -> 46.333333 | C14: =TRUNC('GREAT CIRCLE'!D4/100)+('GREAT CIRCLE'!D4/100-TRUNC('GREAT CIRCLE'!D4/100))/0.6 -> 140.5 | D14: =B15-B14 -> -11.333333 | E14: =IF((C15-C14)<-180,(C15-C14)+360,IF((C15-C14)>180,(C15-C14)-360,(C15-C14))) -> 95 | F14: =DEGREES(ACOS(SIN(RADIANS(B14))*SIN(RADIANS(B15))+COS(RADIANS(B14))*COS(RADIANS(B15))*COS(RADIANS(E14))))*60 -> 4113.2823 | G14: =DEGREES(ACOS((SIN(RADIANS(B15))-SIN(RADIANS(B14))*COS(RADIANS(F15/60)))/(SIN(RADIANS(F15/60))*COS(RADIANS(B14))))) -> 61.250835 | H14: =DEGREES(ACOS((SIN(RADIANS(B14))-SIN(RADIANS(B15))*COS(RADIANS(F15/60)))/(SIN(RADIANS(F15/60))*COS(RADIANS(B15))))) -> 47.646063 | I14: =ROUND('GREAT CIRCLE'!C8,0) -> 5
A15: 2 | B15: =TRUNC('GREAT CIRCLE'!C5/100)+('GREAT CIRCLE'!C5/100-TRUNC('GREAT CIRCLE'!C5/100))/0.6 -> 35 | C15: =TRUNC('GREAT CIRCLE'!D5/100)+('GREAT CIRCLE'!D5/100-TRUNC('GREAT CIRCLE'!D5/100))/0.6 -> -124.5 | F15: =IF(F11=1,F14*1.00179527351758,F14) -> 4113.2823 | G15: =IF(E14<0,360-G14,G14) -> 61.250835 | H15: =IF(E14>0,180-H14,180+H14) -> 132.35394 | I15: =IF(OR(AND(C14>0,E14>0),AND(C14<0,E14<0)),ROUNDUP($C$14/I14,)*I14,TRUNC($C$14/I14,)*I14) -> 145 | P15: 1 | R15: 4 | T15: 23 | W15: 14 | X15: ANA | AC15: =IF(AD17>0,IF(AND(M16>=AD16,M16<=AD17),1,0),IF(AND(M16>=AD17,M16<=AD16),1,0)) -> 1
B16: VERTEX | I16: =IF(OR(AND(C15>0,E14>0),AND(C15<0,E14<0)),TRUNC($C$15/I14,)*I14,ROUNDUP($C$15/I14,)*I14) -> -125 | M16: =TRUNC('GREAT CIRCLE'!F8/100)+('GREAT CIRCLE'!F8/100-TRUNC('GREAT CIRCLE'!F8/100))/0.6 -> 46.333333 | N16: =DEGREES(ACOS(TAN(RADIANS(B14))/TAN(RADIANS(M16)))) -> 0 | O16: =IF(T23=1,IF(E14>0,C14+N16,C14-N16),IF(OR(AND(B14<0,G14<90,E14<0),AND(B14<0,G14>90,E14>0),AND(B14>0,G14>90,E14<0),AND(B14>0,G14<90,E14>0)),C14+N16,C14-N16)) -> 140.5 | P16: =IF(O16>180,O16-360,IF(O16<-180,O16+360,O16)) -> 140.5 | Q16: =IF(P16="","",TRUNC(P16)*100+(P16-TRUNC(P16))*60) -> 14030 | R16: =TRUNC(Q16/100)+(ROUND(((Q16/100-TRUNC(Q16/100))*100)/$G$12,)*$G$12)/60 -> #VALUE! | S16: =IF($G$12="X",P16,R16) -> 140.5 | T16: =IF(N16=0,P16,S16) -> 140.5 | U16: =IF(OR(AND(T16>0,E14>0),AND(T16<0,E14<0)),TRUNC(T16/I14,)*I14,ROUNDUP(T16/I14,)*I14) -> 140 | V16: =IF(U16=-180,180,U16) -> 140 | W16: =IF(AND(N16>0,N16<I14),C14,V16) -> 140 | X16: =IF(B14>0,90-B14,90+B14) -> 43.666667 | Y16: =IF(X17>X16,B14,B15) -> 46.333333 | Z16: =ABS(((3437.74677078*(LN((TAN(RADIANS(45+B15/2)))/(TAN(RADIANS(45+B14/2)))))-((SIN(RADIANS(B15))-SIN(RADIANS(B14)))*23.0135831934767)-((SIN(RADIANS(B15))^3)-(SIN(RADIANS(B14))^3))*(0.051353890277194)-((SIN(RADIANS(B15))^5)-(SIN(RADIANS(B14))^5))*(0.000206269473292)))*TAN(ASIN(((3437.74677078*(LN((TAN(RADIANS(45+B15/2)))/(TAN(RADIANS(45+B14/2)))))-((SIN(RADIANS(B15))-SIN(RADIANS(B14)))*23.0135831934767)-((SIN(RADIANS(B15))^3)-(SIN(RADIANS(B14))^3))*(0.051353890277194)-((SIN(RADIANS(B15))^5)-(SIN(RADIANS(B14))^5))*(0.000206269473292)))*(COS(RADIANS(Y16))/((1-0.0818191908426215^2*((SIN(RADIANS(Y16))^2)))^0.5))/(((60.006994*D14)-8.660102*(SIN(RADIANS((2*B15)))-SIN(RADIANS((2*B14))))))))/60) -> 33.370225 | AA16: =IF(E14>0,C14+Z16,C14-Z16) -> 173.87022 | AB16: =IF(AA16>180,AA16-360,IF(AA16<-180,AA16+360,AA16)) -> 173.87022 | AC16: MIN | AD16: =Y16 -> 46.333333 | AE16: =TRUNC(AD16)*100+(AD16-TRUNC(AD16))*60 -> 4620 | AF16: =CONCATENATE("MIN: ",TEXT(AE16,"[>0]#00°00.00' \N;#00°00.00' \S;#")) -> MIN: 46°20.00' N
B17: =IF(A11=3,M16,DEGREES(ACOS(COS(RADIANS(B14))*SIN(RADIANS(G14))))) -> 52.745891 | C17: =DEGREES(ACOS(TAN(RADIANS((B14)))/TAN(RADIANS(B18)))) -> 37.176519 | D17: =IF(C19>0,C19-90,C19+90) -> 87.676519 | E17: =IF(D17<0,D17+180,D17-180) -> -92.323481 | I17: =IF(AND(A11=3,I14>51),2,1) -> 1 | M17: =IF(TAN(RADIANS(B14))/TAN(RADIANS(M16))>1,1,2) -> 2 | N17: =DEGREES(ACOS(TAN(RADIANS(B15))/TAN(RADIANS(M16)))) -> 48.059854 | O17: =IF(T23=1,IF(E14<0,C15+N17,C15-N17),IF(OR(AND(B15<0,H14<90,E14>0),AND(B15<0,H14>90,E14<0),AND(B15>0,H14>90,E14>0),AND(B15>0,H14<90,E14<0)),C15+N17,C15-N17)) -> -172.55985 | P17: =IF(O17>180,O17-360,IF(O17<-180,O17+360,O17)) -> -172.55985 | Q17: =IF(P17="","",TRUNC(P17)*100+(P17-TRUNC(P17))*60) -> -17233.591 | R17: =TRUNC(Q17/100)+(ROUND(((Q17/100-TRUNC(Q17/100))*100)/$G$12,)*$G$12)/60 -> #VALUE! | S17: =IF($G$12="X",P17,R17) -> -172.55985 | T17: =IF(N17=0,P17,S17) -> -172.55985 | U17: =IF(OR(AND(T17>0,E14>0),AND(T17<0,E14<0)),ROUNDUP(T17/I14,)*I14,TRUNC(T17/I14,)*I14) -> -170 | V17: =IF(U17=T17,IF($E$14>0,IF(U17+$I$14>180,U17+$I$14-360,IF(U17+$I$14<-180,U17+$I$14+360,U17+$I$14)),IF(U17-$I$14>180,U17-$I$14-360,IF(U17-$I$14<-180,U17-$I$14+360,U17-$I$14))),U17) -> -170 | W17: =IF(AND(E14>0,V17=-180),180,V17) -> -170 | X17: =IF(B15>0,90-B15,90+B15) -> 55 | AA17: =TRUNC(AB16)*100+(AB16-TRUNC(AB16))*60 -> 17352.213 | AB17: =IF($G$12="X",AB16,(TRUNC(AA17/100)+(ROUND(((AA17/100-TRUNC(AA17/100))*100)/$G$12,)*$G$12)/60)) -> 173.87022 | AC17: MAX | AD17: =IF(AND(G14>90,H14>90),-DEGREES(ACOS(COS(RADIANS(B14))*SIN(RADIANS(G14)))),DEGREES(ACOS(COS(RADIANS(B14))*SIN(RADIANS(G14))))) -> 52.745891 | AE17: =TRUNC(AD17)*100+(AD17-TRUNC(AD17))*60 -> 5244.7534 | AF17: =CONCATENATE("MAX: ",TEXT(AE17,"[>0]#00°00.00' \N;#00°00.00' \S;#")) -> MAX: 52°44.75' N
B18: =IF(A11=3,M16,IF(OR(B14<0,AND(G14>90,H14>90)),-B17,B17)) -> 52.745891 | C18: =IF(T23=1,IF(E14>0,C14+C17,C14-C17),IF(OR(AND(B14<0,G14<90,E14<0),AND(B14<0,G14>90,E14>0),AND(B14>0,G14>90,E14<0),AND(B14>0,G14<90,E14>0)),C14+C17,C14-C17)) -> 177.67652 | D18: =TRUNC(D17)*100+(D17-TRUNC(D17))*60 -> 8740.5912 | E18: =TRUNC(E17)*100+(E17-TRUNC(E17))*60 -> -9219.4088 | AA18: =IF((AB17-C14)<-180,(AB17-C14)+360,IF((AB17-C14)>180,(AB17-C14)-360,(AB17-C14))) -> 33.370225 | AB18: =IF(OR(AND(E14>0,AA18<E14),AND(E14<0,AA18>E14)),1,2) -> 1
C19: =IF(C18<-180,C18+360,IF(C18>180,C18-360,C18)) -> 177.67652 | T19: =MATCH(M16,$S$25:$S$75,0) -> #N/A | U19: =IF(M16>0,MATCH(MAX($Q$25:$Q$75),$Q$25:$Q$75,0),MATCH(MIN($Q$25:$Q$75),$Q$25:$Q$75,0)) -> 3 | BC19: 60
B20: =TRUNC(B18)*100+(B18-TRUNC(B18))*60 -> 5244.7534 | C20: =TRUNC(C19)*100+(C19-TRUNC(C19))*60 -> 17740.591 | T20: =IF(T19=1,2,COUNTIF(S25:S75,M16)+MATCH(M16,$S$25:$S$75,0)-1) -> #N/A | U20: =IF(M16>0,COUNTIF(Q25:Q75,MAX($Q$25:$Q$75))+MATCH(MAX($Q$25:$Q$75),$Q$25:$Q$75,0)-1,COUNTIF(Q25:Q75,MIN($Q$25:$Q$75))+MATCH(MIN($Q$25:$Q$75),$Q$25:$Q$75,0)-1) -> 3 | BC20: =1/COS(RADIANS(BC19)) -> 2
T21: =MATCH("",S25:S75,0)-1 -> 5
C22: 1 | D22: 3 | E22: 4 | T22: =MATCH(B15,$S$25:$S$75,0) -> 5
B23: LAT DIV | C23: 1 | E23: 4 | G23: WP NR | J23: 2 | T23: =IF(OR(AND(G14<90,H14<90),AND(G14>90,H14>90)),1,2) -> 1 | AB23: DPM | AE23: TC | AJ23: S | AO23: TC | AQ23: S | AV23: S
G24: =IF(I17=2,ABS(E14/50),ABS(E14/(I14-1))) -> 23.75 | L24: 1 | M24: 2 | T24: COMPOSITE | X24: LAT | Y24: LONG | Z24: Δϕ | AA24: Δλ | AB24: 2 | AC24: 4 | AD24: 5 | AE24: 1 | AF24: 2 | AG24: 3 | AH24: 4 | AI24: 5 | AJ24: 1 | AK24: 2 | AL24: 3 | AM24: 4 | AN24: 5 | AQ24: 1 | AR24: 2 | AS24: 3 | AT24: 4 | AU24: 5 | AW24: LAT | AX24: LONG | AY24: CC | AZ24: TO GO | BA24: TOTAL TO GO | BD24: x | BE24: y | BH24: X | BI24: Y
A25: 1 | B25: =C14 -> 140.5 | C25: =C14 -> 140.5 | D25: =C14 -> 140.5 | E25: =C14 -> 140.5 | F25: 1 | G25: =C14 -> 140.5 | H25: =C14 -> 140.5 | J25: =C14 -> 140.5 | K25: 1 | L25: =C14 -> 140.5 | M25: =IF($A$11=4,"",$C$19-L25) -> 37.176519 | N25: =IF($A$11=4,$B$14,IF(M25="","",IF(M26="",$B$15,DEGREES(ATAN(COS(RADIANS(M25))*TAN(RADIANS($B$18))))))) -> 46.333333 | P25: 1 | Q25: =N25 -> 46.333333 | R25: =IF(Q25="","",TRUNC(Q25)*100+(Q25-TRUNC(Q25))*60) -> 4620 | S25: =TRUNC(R25/100)+(R25/100-TRUNC(R25/100))/0.6 -> 46.333333 | T25: =MATCH(Q25,$Q$25:$Q$75,0) -> 1 | U25: =T25 -> 1 | V25: =VLOOKUP(U25,$P$25:$Q$75,2) -> 46.333333 | W25: =VLOOKUP(U25,$K$25:$L$75,2) -> 140.5 | X25: =IF(OR(AND($A$11=4,$AB$18=2),AND($A$11=3,$T$23=2)),"",B14) -> 46.333333 | Y25: =IF(OR(AND($A$11=4,$AB$18=2),AND($A$11=3,$T$23=2)),"",C14) -> 140.5 | Z25: =IF(X26="","",IF(X26-X25>180,X26-X25-360,IF(X26-X25<-180,X26-X25+360,X26-X25))) -> 5.6666667 | AA25: =IF(Y26="","",IF(ABS(Y26-Y25)<=180,Y26-Y25,(360-ABS(Y26-Y25))*-SIGN(Y26-Y25))) -> 23.75 | AB25: =IF(X26="","",7915.70447*LOG(TAN(RADIANS((45+X26/2)))/TAN(RADIANS((45+X25/2))))) -> 520.76998 | AC25: =IF(X26="","",7915.70446789782*LOG((TAN(RADIANS(45+X26/2))*(((1-0.0818191908426215*SIN(RADIANS(X26)))/(1+0.0818191908426215*SIN(RADIANS(X26))))^(0.0818191908426215/2)))/(TAN(RADIANS(45+X25/2))*(((1-0.0818191908426215*SIN(RADIANS(X25)))/(1+0.0818191908426215*SIN(RADIANS(X25))))^(0.0818191908426215/2))))) -> 519.27662 | AD25: =IF(X26="","",DEGREES(ATAN2(3437.74677078*(LN((TAN(RADIANS(45+X26/2)))/(TAN(RADIANS(45+X25/2)))))-((SIN(RADIANS(X26))-SIN(RADIANS(X25)))*23.0135831934767)-((SIN(RADIANS(X26))^3)-(SIN(RADIANS(X25))^3))*(0.051353890277194)-((SIN(RADIANS(X26))^5)-(SIN(RADIANS(X25))^5))*(0.000206269473292),AA25*60))) -> 69.978025 | AE25: =IF(X26="","",IF(AA25<0,360+DEGREES(ATAN2(Z25,AA25*COS(RADIANS((X26+X25)/2)))),DEGREES(ATAN2(Z25,AA25*COS(RADIANS((X26+X25)/2)))))) -> 69.952769 | AF25: =IF(X26="","",IF(AA25<0,360+DEGREES(ATAN2(AB25,AA25*60)),DEGREES(ATAN2(AB25,AA25*60)))) -> 69.925037 | AG25: =AF25 -> 69.925037 | AH25: =IF(X26="","",IF(AA25<0,360+DEGREES(ATAN2(AC25,(AA25*60))),DEGREES(ATAN2(AC25,(AA25*60))))) -> 69.978025 | AI25: =IF(AA25<0,360+AD25,AD25) -> 69.978025 | AJ25: =IF(X26="","",IF(Z25=0,(AA25*COS(RADIANS((X26+X25)/2)))*60/SIN(RADIANS(AE25)),Z25*60/COS(RADIANS(AE25)))) -> 991.84745 | AK25: =IF(X26="","",ABS(IF(Z25=0,(AA25)*60*COS(RADIANS(X25)),IF(AA25=0,(Z25*60),(Z25/COS(RADIANS(AF25)))*60)))) -> 990.53371 | AL25: =IF(AK25="","",AK25*1.00179527351758) -> 992.31199 | AM25: =IF(X26="","",ABS(IF(Z25=0,AA25*60*COS(RADIANS(X26)),(Z25/COS(RADIANS(AH25)))*60))) -> 993.04712 | AN25: =IF(X26="","",IF(Z25=0,ABS(AA25*60*COS(((ATAN(TAN(RADIANS(X26))*(1-0.08181919034^2)^0.5))))*1.001795274),IF(AA25=0,ABS(((60.006994*Z25)-8.660102*(SIN(RADIANS((2*X26)))-SIN(RADIANS((2*X25)))))),ABS((((60.006994*Z25)-8.660102*(SIN(RADIANS((2*X26)))-SIN(RADIANS((2*X25))))))/COS(RADIANS(AI25)))))) -> 993.88682 | AO25: =HLOOKUP($C$11,$AE$24:$AI$75,P25+1) -> 69.978025 | AP25: =IF(X26="","",IF($D$11=3,ROUND(AO25,),IF($D$11=2,0.5*ROUND(AO25/0.5,),ROUND(AO25,1)))) -> 70 | AQ25: =IF(X26="","",IF(Z25=0,(AA25*COS(RADIANS((X26+X25)/2)))*60/SIN(RADIANS(AP25)),Z25*60/COS(RADIANS(AP25)))) -> 994.0935 | AR25: =IF(X26="","",ABS(IF(Z25=0,(AA25)*60*COS(RADIANS(X25)),IF(AA25=0,(Z25*60),(Z25/COS(RADIANS(AP25)))*60)))) -> 994.0935 | AS25: =IF(AR25="","",AR25*1.00179527351758) -> 995.87817 | AT25: =IF(X26="","",ABS(IF(Z25=0,AA25*60*COS(RADIANS(X26)),(Z25/COS(RADIANS(AP25)))*60))) -> 994.0935 | AU25: =IF(X26="","",IF(Z25=0,ABS(AA25*60*COS(((ATAN(TAN(RADIANS(X26))*(1-0.08181919034^2)^0.5))))*1.001795274),IF(AA25=0,ABS(((60.006994*Z25)-8.660102*(SIN(RADIANS((2*X26)))-SIN(RADIANS((2*X25)))))),ABS((((60.006994*Z25)-8.660102*(SIN(RADIANS((2*X26)))-SIN(RADIANS((2*X25))))))/COS(RADIANS(AP25)))))) -> 994.93408 | AV25: =IF($E$11=1,HLOOKUP($C$11,$AQ$24:$AU$75,P25+1),HLOOKUP($C$11,$AJ$24:$AN$75,P25+1)) -> 993.88682 | AW25: =IF(X25="","",TRUNC(X25)*100+(X25-TRUNC(X25))*60) -> 4620 | AX25: =IF(Y25="","",TRUNC(Y25)*100+(Y25-TRUNC(Y25))*60) -> 14030 | AY25: =IF(AP25="","",AP25) -> 70 | AZ25: =IF(AV25="","",ROUND(AV25,2)) -> 993.89 | BA25: =IF(SUM(AZ25:AZ75)=0,"",SUM(AZ25:AZ75)) -> 4142.21 | BC25: 0 | BD25: 0 | BE25: 0 | BH25: 0 | BI25: =IF(X25="",BI24,X25*(1/COS(RADIANS(X25)))) -> 67.104858
A26: 2 | B26: =IF($C$14=$I$15,IF($E$14>0,IF($I$15+$I$14>180,$I$15+$I$14-360,IF($I$15+$I$14<-180,$I$15+$I$14+360,$I$15+$I$14)),IF($I$15-$I$14>180,$I$15-$I$14-360,IF($I$15-$I$14<-180,$I$15-$I$14+360,$I$15-I14))),$I$15) -> 145 | C26: =IF(OR(C25="",C25=$C$15),"",IF(B26=$I$16,$I$16,IF(C25=$I$16,$C$15,B26))) -> 145 | D26: =IF(OR(D25="",D25=$C$15),"",IF(D25=$W$16,$T$16,IF(D25=$T$16,$T$17,IF(D25=$T$17,$W$17,VLOOKUP(MATCH(D25,$C$25:$C$75,0)+1,$A$25:$C$75,3))))) -> -172.55985 | E26: =AB17 -> 173.87022 | F26: 2 | G26: =IF($E$14>0,IF(G25+$G$24>180,G25+$G$24-360,IF(G25+$G$24<-180,G25+$G$24+360,G25+$G$24)),IF(G25-$G$24>180,G25-$G$24-360,IF(G25-$G$24<-180,G25-$G$24+360,G25-$G$24))) -> 164.25 | H26: =IF(OR(H25="",F26=$I$14+1),"",G26) -> 164.25 | I26: =IF(H26="","",TRUNC(H26)*100+(H26-TRUNC(H26))*60) -> 16415 | J26: =IF(I26="","",IF($G$12="X",H26,(TRUNC(I26/100)+(ROUND(((I26/100-TRUNC(I26/100))*100)/$G$12,)*$G$12)/60))) -> 164.25 | K26: 2 | L26: =IF($A$11=1,C26,IF($A$11=3,D26,IF($A$11=4,E26,J26))) -> 164.25 | M26: =IF(OR($A$11=1,$A$11=2),$C$18-L26,IF($A$11=4,"",IF(OR(L26=$T$16,L26=$T$17),0,IF(OR(M25=0,M25=$T$17-L25),$T$17-L26,$T$16-L26)))) -> 13.426519 | N26: =IF($A$11=4,Y16,IF(M26="","",IF(M27="",$B$15,DEGREES(ATAN(COS(RADIANS(M26))*TAN(RADIANS($B$18))))))) -> 51.978098 | O26: =IF(N26="","",TRUNC(N26)*100+(N26-TRUNC(N26))*60) -> 5158.6859 | P26: 2 | Q26: =IF(O26="","",IF(OR($B$11="X",A11=4),N26,TRUNC(O26/100)+(ROUND(((O26/100-TRUNC(O26/100))*100)/$B$11,)*$B$11)/60)) -> 52 | R26: =IF(Q26="","",TRUNC(Q26)*100+(Q26-TRUNC(Q26))*60) -> 5200 | S26: =IF(R26="","",TRUNC(R26/100)+(R26/100-TRUNC(R26/100))/0.6) -> 52 | T26: =IF(OR(T25="",T25=$T$21),"",IF(T25=$T$19,$T$20,IF(T25>=$T$20,T25+1,MATCH(S25,$S$25:$S$75,0)+1))) -> #N/A | U26: =IF(U25="","",IF(U25=$T$21,"",IF(T26=$T$22,$T$21,T26))) -> #N/A | V26: =IF(U26="","",VLOOKUP(U26,$P$25:$S$75,4)) -> #N/A | W26: =IF(U26="","",VLOOKUP(U26,$K$25:$L$75,2)) -> #N/A | X26: =IF(OR(AND($A$11=4,$AB$18=2),AND($A$11=3,$T$23=2)),"",IF($A$11=3,V26,S26)) -> 52 | Y26: =IF(OR(AND($A$11=4,$AB$18=2),AND($A$11=3,$T$23=2)),"",IF($A$11=3,W26,L26)) -> 164.25 | Z26: =IF(X27="","",IF(X27-X26>180,X27-X26-360,IF(X27-X26<-180,X27-X26+360,X27-X26))) -> 0.33333333 | AA26: =IF(Y27="","",IF(ABS(Y27-Y26)<=180,Y27-Y26,(360-ABS(Y27-Y26))*-SIGN(Y27-Y26))) -> 23.75 | AB26: =IF(X27="","",7915.70447*LOG(TAN(RADIANS((45+X27/2)))/TAN(RADIANS((45+X26/2))))) -> 32.607123 | AC26: =IF(X27="","",7915.70446789782*LOG((TAN(RADIANS(45+X27/2))*(((1-0.0818191908426215*SIN(RADIANS(X27)))/(1+0.0818191908426215*SIN(RADIANS(X27))))^(0.0818191908426215/2)))/(TAN(RADIANS(45+X26/2))*(((1-0.0818191908426215*SIN(RADIANS(X26)))/(1+0.0818191908426215*SIN(RADIANS(X26))))^(0.0818191908426215/2))))) -> 32.524657 | AD26: =IF(X27="","",DEGREES(ATAN2(3437.74677078*(LN((TAN(RADIANS(45+X27/2)))/(TAN(RADIANS(45+X26/2)))))-((SIN(RADIANS(X27))-SIN(RADIANS(X26)))*23.0135831934767)-((SIN(RADIANS(X27))^3)-(SIN(RADIANS(X26))^3))*(0.051353890277194)-((SIN(RADIANS(X27))^5)-(SIN(RADIANS(X26))^5))*(0.000206269473292),AA26*60))) -> 88.69249 | AE26: =IF(X27="","",IF(AA26<0,360+DEGREES(ATAN2(Z26,AA26*COS(RADIANS((X27+X26)/2)))),DEGREES(ATAN2(Z26,AA26*COS(RADIANS((X27+X26)/2)))))) -> 88.689184 | AF26: =IF(X27="","",IF(AA26<0,360+DEGREES(ATAN2(AB26,AA26*60)),DEGREES(ATAN2(AB26,AA26*60)))) -> 88.689176 | AG26: =AF26 -> 88.689176 | AH26: =IF(X27="","",IF(AA26<0,360+DEGREES(ATAN2(AC26,(AA26*60))),DEGREES(ATAN2(AC26,(AA26*60))))) -> 88.69249 | AI26: =IF(AA26<0,360+AD26,AD26) -> 88.69249 | AJ26: =IF(X27="","",IF(Z26=0,(AA26*COS(RADIANS((X27+X26)/2)))*60/SIN(RADIANS(AE26)),Z26*60/COS(RADIANS(AE26)))) -> 874.27626 | AK26: =IF(X27="","",ABS(IF(Z26=0,(AA26)*60*COS(RADIANS(X26)),IF(AA26=0,(Z26*60),(Z26/COS(RADIANS(AF26)))*60)))) -> 874.27094 | AL26: =IF(AK26="","",AK26*1.00179527351758) -> 875.84049 | AM26: =IF(X27="","",ABS(IF(Z26=0,AA26*60*COS(RADIANS(X27)),(Z26/COS(RADIANS(AH26)))*60))) -> 876.4865 | AN26: =IF(X27="","",IF(Z26=0,ABS(AA26*60*COS(((ATAN(TAN(RADIANS(X27))*(1-0.08181919034^2)^0.5))))*1.001795274),IF(AA26=0,ABS(((60.006994*Z26)-8.660102*(SIN(RADIANS((2*X27)))-SIN(RADIANS((2*X26)))))),ABS((((60.006994*Z26)-8.660102*(SIN(RADIANS((2*X27)))-SIN(RADIANS((2*X26))))))/COS(RADIANS(AI26)))))) -> 877.68189 | AO26: =HLOOKUP($C$11,$AE$24:$AI$75,P26+1) -> 88.69249 | AP26: =IF(X27="","",IF($D$11=3,ROUND(AO26,),IF($D$11=2,0.5*ROUND(AO26/0.5,),ROUND(AO26,1)))) -> 88.7 | AQ26: =IF(X27="","",IF(Z26=0,(AA26*COS(RADIANS((X27+X26)/2)))*60/SIN(RADIANS(AP26)),Z26*60/COS(RADIANS(AP26)))) -> 881.54917 | AR26: =IF(X27="","",ABS(IF(Z26=0,(AA26)*60*COS(RADIANS(X26)),IF(AA26=0,(Z26*60),(Z26/COS(RADIANS(AP26)))*60)))) -> 881.54917 | AS26: =IF(AR26="","",AR26*1.00179527351758) -> 883.13179 | AT26: =IF(X27="","",ABS(IF(Z26=0,AA26*60*COS(RADIANS(X27)),(Z26/COS(RADIANS(AP26)))*60))) -> 881.54917 | AU26: =IF(X27="","",IF(Z26=0,ABS(AA26*60*COS(((ATAN(TAN(RADIANS(X27))*(1-0.08181919034^2)^0.5))))*1.001795274),IF(AA26=0,ABS(((60.006994*Z26)-8.660102*(SIN(RADIANS((2*X27)))-SIN(RADIANS((2*X26)))))),ABS((((60.006994*Z26)-8.660102*(SIN(RADIANS((2*X27)))-SIN(RADIANS((2*X26))))))/COS(RADIANS(AP26)))))) -> 882.75146 | AV26: =IF($E$11=1,HLOOKUP($C$11,$AQ$24:$AU$75,P26+1),HLOOKUP($C$11,$AJ$24:$AN$75,P26+1)) -> 877.68189 | AW26: =IF(X26="","",TRUNC(X26)*100+(X26-TRUNC(X26))*60) -> 5200 | AX26: =IF(Y26="","",TRUNC(Y26)*100+(Y26-TRUNC(Y26))*60) -> 16415 | AY26: =IF(AP26="","",AP26) -> 88.7 | AZ26: =IF(AV26="","",ROUND(AV26,2)) -> 877.68 | BA26: =IF(AW27="","",BA25-AZ25) -> 3148.32 | BC26: =IF(AA25="","",BC25+1) -> 1 | BD26: =IF(AA25="",BD25,BD25+AA25) -> 23.75 | BE26: =IF(Z25="",BE25,Z25+BE25) -> 5.6666667 | BH26: =IF(AA25="",BH25,BH25+AA25) -> 23.75 | BI26: =IF(X26="",BI25,X26*(1/COS(RADIANS(X26)))) -> 84.462001
A27: 3 | B27: =IF($E$14>0,IF(B26+$I$14>180,B26+$I$14-360,IF(B26+$I$14<-180,B26+$I$14+360,B26+$I$14)),IF(B26-$I$14>180,B26-$I$14-360,IF(B26-$I$14<-180,B26-$I$14+360,B26-$I$14))) -> 150 | C27: =IF(OR(C26="",C26=$C$15),"",IF(B27=$I$16,$I$16,IF(C26=$I$16,$C$15,B27))) -> 150 | D27: =IF(OR(D26="",D26=$C$15),"",IF(D26=$W$16,$T$16,IF(D26=$T$16,$T$17,IF(D26=$T$17,$W$17,VLOOKUP(MATCH(D26,$C$25:$C$75,0)+1,$A$25:$C$75,3))))) -> -170 | E27: =C15 -> -124.5 | F27: 3 | G27: =IF($E$14>0,IF(G26+$G$24>180,G26+$G$24-360,IF(G26+$G$24<-180,G26+$G$24+360,G26+$G$24)),IF(G26-$G$24>180,G26-$G$24-360,IF(G26-$G$24<-180,G26-$G$24+360,G26-$G$24))) -> -172 | H27: =IF(OR(H26="",F27=$I$14+1),"",G27) -> -172 | I27: =IF(H27="","",TRUNC(H27)*100+(H27-TRUNC(H27))*60) -> -17200 | J27: =IF(I27="","",IF($G$12="X",H27,(TRUNC(I27/100)+(ROUND(((I27/100-TRUNC(I27/100))*100)/$G$12,)*$G$12)/60))) -> -172 | K27: 3 | L27: =IF($A$11=1,C27,IF($A$11=3,D27,IF($A$11=4,E27,J27))) -> -172 | M27: =IF(OR($A$11=1,$A$11=2),$C$18-L27,IF($A$11=4,"",IF(OR(L27=$T$16,L27=$T$17),0,IF(OR(M26=0,M26=$T$17-L26),$T$17-L27,$T$16-L27)))) -> 349.67652 | N27: =IF($A$11=4,B15,IF(M27="","",IF(M28="",$B$15,DEGREES(ATAN(COS(RADIANS(M27))*TAN(RADIANS($B$18))))))) -> 52.294357 | O27: =IF(N27="","",TRUNC(N27)*100+(N27-TRUNC(N27))*60) -> 5217.6614 | P27: 3 | Q27: =IF(O27="","",IF(OR($B$11="X",A11=4),N27,TRUNC(O27/100)+(ROUND(((O27/100-TRUNC(O27/100))*100)/$B$11,)*$B$11)/60)) -> 52.333333 | R27: =IF(Q27="","",TRUNC(Q27)*100+(Q27-TRUNC(Q27))*60) -> 5220 | S27: =IF(R27="","",TRUNC(R27/100)+(R27/100-TRUNC(R27/100))/0.6) -> 52.333333 | T27: =IF(OR(T26="",T26=$T$21),"",IF(T26=$T$19,$T$20,IF(T26>=$T$20,T26+1,MATCH(S26,$S$25:$S$75,0)+1))) -> #N/A | U27: =IF(U26="","",IF(U26=$T$21,"",IF(T27=$T$22,$T$21,T27))) -> #N/A | V27: =IF(U27="","",VLOOKUP(U27,$P$25:$S$75,4)) -> #N/A | W27: =IF(U27="","",VLOOKUP(U27,$K$25:$L$75,2)) -> #N/A | X27: =IF(OR(AND($A$11=4,$AB$18=2),AND($A$11=3,$T$23=2)),"",IF($A$11=3,V27,S27)) -> 52.333333 | Y27: =IF(OR(AND($A$11=4,$AB$18=2),AND($A$11=3,$T$23=2)),"",IF($A$11=3,W27,L27)) -> -172 | Z27: =IF(X28="","",IF(X28-X27>180,X28-X27-360,IF(X28-X27<-180,X28-X27+360,X28-X27))) -> -4.9166667 | AA27: =IF(Y28="","",IF(ABS(Y28-Y27)<=180,Y28-Y27,(360-ABS(Y28-Y27))*-SIGN(Y28-Y27))) -> 23.75 | AB27: =IF(X28="","",7915.70447*LOG(TAN(RADIANS((45+X28/2)))/TAN(RADIANS((45+X27/2))))) -> -458.28654 | AC27: =IF(X28="","",7915.70446789782*LOG((TAN(RADIANS(45+X28/2))*(((1-0.0818191908426215*SIN(RADIANS(X28)))/(1+0.0818191908426215*SIN(RADIANS(X28))))^(0.0818191908426215/2)))/(TAN(RADIANS(45+X27/2))*(((1-0.0818191908426215*SIN(RADIANS(X27)))/(1+0.0818191908426215*SIN(RADIANS(X27))))^(0.0818191908426215/2))))) -> -457.00923 | AD27: =IF(X28="","",DEGREES(ATAN2(3437.74677078*(LN((TAN(RADIANS(45+X28/2)))/(TAN(RADIANS(45+X27/2)))))-((SIN(RADIANS(X28))-SIN(RADIANS(X27)))*23.0135831934767)-((SIN(RADIANS(X28))^3)-(SIN(RADIANS(X27))^3))*(0.051353890277194)-((SIN(RADIANS(X28))^5)-(SIN(RADIANS(X27))^5))*(0.000206269473292),AA27*60))) -> 107.78147 | AE27: =IF(X28="","",IF(AA27<0,360+DEGREES(ATAN2(Z27,AA27*COS(RADIANS((X28+X27)/2)))),DEGREES(ATAN2(Z27,AA27*COS(RADIANS((X28+X27)/2)))))) -> 107.80846 | AF27: =IF(X28="","",IF(AA27<0,360+DEGREES(ATAN2(AB27,AA27*60)),DEGREES(ATAN2(AB27,AA27*60)))) -> 107.82803 | AG27: =AF27 -> 107.82803 | AH27: =IF(X28="","",IF(AA27<0,360+DEGREES(ATAN2(AC27,(AA27*60))),DEGREES(ATAN2(AC27,(AA27*60))))) -> 107.78147 | AI27: =IF(AA27<0,360+AD27,AD27) -> 107.78147 | AJ27: =IF(X28="","",IF(Z27=0,(AA27*COS(RADIANS((X28+X27)/2)))*60/SIN(RADIANS(AE27)),Z27*60/COS(RADIANS(AE27)))) -> 964.56977 | AK27: =IF(X28="","",ABS(IF(Z27=0,(AA27)*60*COS(RADIANS(X27)),IF(AA27=0,(Z27*60),(Z27/COS(RADIANS(AF27)))*60)))) -> 963.54517 | AL27: =IF(AK27="","",AK27*1.00179527351758) -> 965.27499 | AM27: =IF(X28="","",ABS(IF(Z27=0,AA27*60*COS(RADIANS(X28)),(Z27/COS(RADIANS(AH27)))*60))) -> 965.98609 | AN27: =IF(X28="","",IF(Z27=0,ABS(AA27*60*COS(((ATAN(TAN(RADIANS(X28))*(1-0.08181919034^2)^0.5))))*1.001795274),IF(AA27=0,ABS(((60.006994*Z27)-8.660102*(SIN(RADIANS((2*X28)))-SIN(RADIANS((2*X27)))))),ABS((((60.006994*Z27)-8.660102*(SIN(RADIANS((2*X28)))-SIN(RADIANS((2*X27))))))/COS(RADIANS(AI27)))))) -> 966.92188 | AO27: =HLOOKUP($C$11,$AE$24:$AI$75,P27+1) -> 107.78147 | AP27: =IF(X28="","",IF($D$11=3,ROUND(AO27,),IF($D$11=2,0.5*ROUND(AO27/0.5,),ROUND(AO27,1)))) -> 107.8 | AQ27: =IF(X28="","",IF(Z27=0,(AA27*COS(RADIANS((X28+X27)/2)))*60/SIN(RADIANS(AP27)),Z27*60/COS(RADIANS(AP27)))) -> 965.01319 | AR27: =IF(X28="","",ABS(IF(Z27=0,(AA27)*60*COS(RADIANS(X27)),IF(AA27=0,(Z27*60),(Z27/COS(RADIANS(AP27)))*60)))) -> 965.01319 | AS27: =IF(AR27="","",AR27*1.00179527351758) -> 966.74565 | AT27: =IF(X28="","",ABS(IF(Z27=0,AA27*60*COS(RADIANS(X28)),(Z27/COS(RADIANS(AP27)))*60))) -> 965.01319 | AU27: =IF(X28="","",IF(Z27=0,ABS(AA27*60*COS(((ATAN(TAN(RADIANS(X28))*(1-0.08181919034^2)^0.5))))*1.001795274),IF(AA27=0,ABS(((60.006994*Z27)-8.660102*(SIN(RADIANS((2*X28)))-SIN(RADIANS((2*X27)))))),ABS((((60.006994*Z27)-8.660102*(SIN(RADIANS((2*X28)))-SIN(RADIANS((2*X27))))))/COS(RADIANS(AP27)))))) -> 965.94804 | AV27: =IF($E$11=1,HLOOKUP($C$11,$AQ$24:$AU$75,P27+1),HLOOKUP($C$11,$AJ$24:$AN$75,P27+1)) -> 966.92188 | AW27: =IF(X27="","",TRUNC(X27)*100+(X27-TRUNC(X27))*60) -> 5220 | AX27: =IF(Y27="","",TRUNC(Y27)*100+(Y27-TRUNC(Y27))*60) -> -17200 | AY27: =IF(AP27="","",AP27) -> 107.8 | AZ27: =IF(AV27="","",ROUND(AV27,2)) -> 966.92 | BA27: =IF(AW28="","",BA26-AZ26) -> 2270.64 | BC27: =IF(AA26="","",BC26+1) -> 2 | BD27: =IF(AA26="",BD26,BD26+AA26) -> 47.5 | BE27: =IF(Z26="",BE26,Z26+BE26) -> 6 | BH27: =IF(AA26="",BH26,BH26+AA26) -> 47.5 | BI27: =IF(X27="",BI26,X27*(1/COS(RADIANS(X27)))) -> 85.642599
A28: 4 | B28: =IF($E$14>0,IF(B27+$I$14>180,B27+$I$14-360,IF(B27+$I$14<-180,B27+$I$14+360,B27+$I$14)),IF(B27-$I$14>180,B27-$I$14-360,IF(B27-$I$14<-180,B27-$I$14+360,B27-$I$14))) -> 155 | C28: =IF(OR(C27="",C27=$C$15),"",IF(B28=$I$16,$I$16,IF(C27=$I$16,$C$15,B28))) -> 155 | D28: =IF(OR(D27="",D27=$C$15),"",IF(D27=$W$16,$T$16,IF(D27=$T$16,$T$17,IF(D27=$T$17,$W$17,VLOOKUP(MATCH(D27,$C$25:$C$75,0)+1,$A$25:$C$75,3))))) -> -165 | F28: 4 | G28: =IF($E$14>0,IF(G27+$G$24>180,G27+$G$24-360,IF(G27+$G$24<-180,G27+$G$24+360,G27+$G$24)),IF(G27-$G$24>180,G27-$G$24-360,IF(G27-$G$24<-180,G27-$G$24+360,G27-$G$24))) -> -148.25 | H28: =IF(OR(H27="",F28=$I$14+1),"",G28) -> -148.25 | I28: =IF(H28="","",TRUNC(H28)*100+(H28-TRUNC(H28))*60) -> -14815 | J28: =IF(I28="","",IF($G$12="X",H28,(TRUNC(I28/100)+(ROUND(((I28/100-TRUNC(I28/100))*100)/$G$12,)*$G$12)/60))) -> -148.25 | K28: 4 | L28: =IF($A$11=1,C28,IF($A$11=3,D28,IF($A$11=4,"",J28))) -> -148.25 | M28: =IF((L28=""),"",IF(OR($A$11=1,$A$11=2),$C$18-L28,IF(OR(L28=$T$16,L28=$T$17),0,IF(OR(M27=0,M27=$T$17-L27),$T$17-L28,$T$16-L28)))) -> 325.92652 | N28: =IF($A$11=4,"",IF(M28="","",IF(M29="",$B$15,DEGREES(ATAN(COS(RADIANS(M28))*TAN(RADIANS($B$18))))))) -> 47.443063 | O28: =IF(N28="","",TRUNC(N28)*100+(N28-TRUNC(N28))*60) -> 4726.5838 | P28: 4 | Q28: =IF(O28="","",IF($B$11="X",N28,IF(O29="",$B$15,TRUNC(O28/100)+(ROUND(((O28/100-TRUNC(O28/100))*100)/$B$11,)*$B$11)/60))) -> 47.416667 | R28: =IF(Q28="","",TRUNC(Q28)*100+(Q28-TRUNC(Q28))*60) -> 4725 | S28: =IF(R28="","",TRUNC(R28/100)+(R28/100-TRUNC(R28/100))/0.6) -> 47.416667 | T28: =IF(OR(T27="",T27=$T$21),"",IF(T27=$T$19,$T$20,IF(T27>=$T$20,T27+1,MATCH(S27,$S$25:$S$75,0)+1))) -> #N/A | U28: =IF(U27="","",IF(U27=$T$21,"",IF(T28=$T$22,$T$21,T28))) -> #N/A | V28: =IF(U28="","",VLOOKUP(U28,$P$25:$S$75,4)) -> #N/A | W28: =IF(U28="","",VLOOKUP(U28,$K$25:$L$75,2)) -> #N/A | X28: =IF(OR(AND($A$11=4,$AB$18=2),AND($A$11=3,$T$23=2)),"",IF($A$11=3,V28,S28)) -> 47.416667 | Y28: =IF(OR(AND($A$11=4,$AB$18=2),AND($A$11=3,$T$23=2)),"",IF($A$11=3,W28,L28)) -> -148.25 | Z28: =IF(X29="","",IF(X29-X28>180,X29-X28-360,IF(X29-X28<-180,X29-X28+360,X29-X28))) -> -12.416667 | AA28: =IF(Y29="","",IF(ABS(Y29-Y28)<=180,Y29-Y28,(360-ABS(Y29-Y28))*-SIGN(Y29-Y28))) -> 23.75 | AB28: =IF(X29="","",7915.70447*LOG(TAN(RADIANS((45+X29/2)))/TAN(RADIANS((45+X28/2))))) -> -995.22772 | AC28: =IF(X29="","",7915.70446789782*LOG((TAN(RADIANS(45+X29/2))*(((1-0.0818191908426215*SIN(RADIANS(X29)))/(1+0.0818191908426215*SIN(RADIANS(X29))))^(0.0818191908426215/2)))/(TAN(RADIANS(45+X28/2))*(((1-0.0818191908426215*SIN(RADIANS(X28)))/(1+0.0818191908426215*SIN(RADIANS(X28))))^(0.0818191908426215/2))))) -> -991.47217 | AD28: =IF(X29="","",DEGREES(ATAN2(3437.74677078*(LN((TAN(RADIANS(45+X29/2)))/(TAN(RADIANS(45+X28/2)))))-((SIN(RADIANS(X29))-SIN(RADIANS(X28)))*23.0135831934767)-((SIN(RADIANS(X29))^3)-(SIN(RADIANS(X28))^3))*(0.051353890277194)-((SIN(RADIANS(X29))^5)-(SIN(RADIANS(X28))^5))*(0.000206269473292),AA28*60))) -> 124.82904 | AE28: =IF(X29="","",IF(AA28<0,360+DEGREES(ATAN2(Z28,AA28*COS(RADIANS((X29+X28)/2)))),DEGREES(ATAN2(Z28,AA28*COS(RADIANS((X29+X28)/2)))))) -> 124.79649 | AF28: =IF(X29="","",IF(AA28<0,360+DEGREES(ATAN2(AB28,AA28*60)),DEGREES(ATAN2(AB28,AA28*60)))) -> 124.93066 | AG28: =AF28 -> 124.93066 | AH28: =IF(X29="","",IF(AA28<0,360+DEGREES(ATAN2(AC28,(AA28*60))),DEGREES(ATAN2(AC28,(AA28*60))))) -> 124.82904 | AI28: =IF(AA28<0,360+AD28,AD28) -> 124.82904 | AJ28: =IF(X29="","",IF(Z28=0,(AA28*COS(RADIANS((X29+X28)/2)))*60/SIN(RADIANS(AE28)),Z28*60/COS(RADIANS(AE28)))) -> 1305.4985 | AK28: =IF(X29="","",ABS(IF(Z28=0,(AA28)*60*COS(RADIANS(X28)),IF(AA28=0,(Z28*60),(Z28/COS(RADIANS(AF28)))*60)))) -> 1301.1177 | AL28: =IF(AK28="","",AK28*1.00179527351758) -> 1303.4536 | AM28: =IF(X29="","",ABS(IF(Z28=0,AA28*60*COS(RADIANS(X29)),(Z28/COS(RADIANS(AH28)))*60))) -> 1304.4324 | AN28: =IF(X29="","",IF(Z28=0,ABS(AA28*60*COS(((ATAN(TAN(RADIANS(X29))*(1-0.08181919034^2)^0.5))))*1.001795274),IF(AA28=0,ABS(((60.006994*Z28)-8.660102*(SIN(RADIANS((2*X29)))-SIN(RADIANS((2*X28)))))),ABS((((60.006994*Z28)-8.660102*(SIN(RADIANS((2*X29)))-SIN(RADIANS((2*X28))))))/COS(RADIANS(AI28)))))) -> 1303.7239 | AO28: =HLOOKUP($C$11,$AE$24:$AI$75,P28+1) -> 124.82904 | AP28: =IF(X29="","",IF($D$11=3,ROUND(AO28,),IF($D$11=2,0.5*ROUND(AO28/0.5,),ROUND(AO28,1)))) -> 124.8 | AQ28: =IF(X29="","",IF(Z28=0,(AA28*COS(RADIANS((X29+X28)/2)))*60/SIN(RADIANS(AP28)),Z28*60/COS(RADIANS(AP28)))) -> 1305.3834 | AR28: =IF(X29="","",ABS(IF(Z28=0,(AA28)*60*COS(RADIANS(X28)),IF(AA28=0,(Z28*60),(Z28/COS(RADIANS(AP28)))*60)))) -> 1305.3834 | AS28: =IF(AR28="","",AR28*1.00179527351758) -> 1307.7269 | AT28: =IF(X29="","",ABS(IF(Z28=0,AA28*60*COS(RADIANS(X29)),(Z28/COS(RADIANS(AP28)))*60))) -> 1305.3834 | AU28: =IF(X29="","",IF(Z28=0,ABS(AA28*60*COS(((ATAN(TAN(RADIANS(X29))*(1-0.08181919034^2)^0.5))))*1.001795274),IF(AA28=0,ABS(((60.006994*Z28)-8.660102*(SIN(RADIANS((2*X29)))-SIN(RADIANS((2*X28)))))),ABS((((60.006994*Z28)-8.660102*(SIN(RADIANS((2*X29)))-SIN(RADIANS((2*X28))))))/COS(RADIANS(AP28)))))) -> 1304.6744 | AV28: =IF($E$11=1,HLOOKUP($C$11,$AQ$24:$AU$75,P28+1),HLOOKUP($C$11,$AJ$24:$AN$75,P28+1)) -> 1303.7239 | AW28: =IF(X28="","",TRUNC(X28)*100+(X28-TRUNC(X28))*60) -> 4725 | AX28: =IF(Y28="","",TRUNC(Y28)*100+(Y28-TRUNC(Y28))*60) -> -14815 | AY28: =IF(AP28="","",AP28) -> 124.8 | AZ28: =IF(AV28="","",ROUND(AV28,2)) -> 1303.72 | BA28: =IF(AW29="","",BA27-AZ27) -> 1303.72 | BC28: =IF(AA27="","",BC27+1) -> 3 | BD28: =IF(AA27="",BD27,BD27+AA27) -> 71.25 | BE28: =IF(Z27="",BE27,Z27+BE27) -> 1.0833333 | BH28: =IF(AA27="",BH27,BH27+AA27) -> 71.25 | BI28: =IF(X28="",BI27,X28*(1/COS(RADIANS(X28)))) -> 70.074394
A29: 5 | B29: =IF($E$14>0,IF(B28+$I$14>180,B28+$I$14-360,IF(B28+$I$14<-180,B28+$I$14+360,B28+$I$14)),IF(B28-$I$14>180,B28-$I$14-360,IF(B28-$I$14<-180,B28-$I$14+360,B28-$I$14))) -> 160 | C29: =IF(OR(C28="",C28=$C$15),"",IF(B29=$I$16,$I$16,IF(C28=$I$16,$C$15,B29))) -> 160 | D29: =IF(OR(D28="",D28=$C$15),"",IF(D28=$W$16,$T$16,IF(D28=$T$16,$T$17,IF(D28=$T$17,$W$17,VLOOKUP(MATCH(D28,$C$25:$C$75,0)+1,$A$25:$C$75,3))))) -> -160 | F29: 5 | G29: =IF($E$14>0,IF(G28+$G$24>180,G28+$G$24-360,IF(G28+$G$24<-180,G28+$G$24+360,G28+$G$24)),IF(G28-$G$24>180,G28-$G$24-360,IF(G28-$G$24<-180,G28-$G$24+360,G28-$G$24))) -> -124.5 | H29: =IF(OR(H28="",F29=$I$14+1),"",G29) -> -124.5 | I29: =IF(H29="","",TRUNC(H29)*100+(H29-TRUNC(H29))*60) -> -12430 | J29: =IF(I29="","",IF($G$12="X",H29,(TRUNC(I29/100)+(ROUND(((I29/100-TRUNC(I29/100))*100)/$G$12,)*$G$12)/60))) -> -124.5 | K29: 5 | L29: =IF($A$11=1,C29,IF($A$11=3,D29,IF($A$11=4,"",J29))) -> -124.5 | M29: =IF(L29="","",IF(OR($A$11=1,$A$11=2),$C$18-L29,IF(OR(L29=$T$16,L29=$T$17),0,IF(OR(M28=0,M28=$T$17-L28),$T$17-L29,$T$16-L29)))) -> 302.17652 | N29: =IF($A$11=4,"",IF(M29="","",IF(M30="",$B$15,DEGREES(ATAN(COS(RADIANS(M29))*TAN(RADIANS($B$18))))))) -> 35 | O29: =IF(N29="","",TRUNC(N29)*100+(N29-TRUNC(N29))*60) -> 3500 | P29: 5 | Q29: =IF(O29="","",IF($B$11="X",N29,IF(O30="",$B$15,TRUNC(O29/100)+(ROUND(((O29/100-TRUNC(O29/100))*100)/$B$11,)*$B$11)/60))) -> 35 | R29: =IF(Q29="","",TRUNC(Q29)*100+(Q29-TRUNC(Q29))*60) -> 3500 | S29: =IF(R29="","",TRUNC(R29/100)+(R29/100-TRUNC(R29/100))/0.6) -> 35 | T29: =IF(OR(T28="",T28=$T$21),"",IF(T28=$T$19,$T$20,IF(T28>=$T$20,T28+1,MATCH(S28,$S$25:$S$75,0)+1))) -> #N/A | U29: =IF(U28="","",IF(U28=$T$21,"",IF(T29=$T$22,$T$21,T29))) -> #N/A | V29: =IF(U29="","",VLOOKUP(U29,$P$25:$S$75,4)) -> #N/A | W29: =IF(U29="","",VLOOKUP(U29,$K$25:$L$75,2)) -> #N/A | X29: =IF(OR(AND($A$11=4,$AB$18=2),AND($A$11=3,$T$23=2)),"",IF($A$11=3,V29,S29)) -> 35 | Y29: =IF(OR(AND($A$11=4,$AB$18=2),AND($A$11=3,$T$23=2)),"",IF($A$11=3,W29,L29)) -> -124.5 | Z29: =IF(X30="","",IF(X30-X29>180,X30-X29-360,IF(X30-X29<-180,X30-X29+360,X30-X29))) | AA29: =IF(Y30="","",IF(ABS(Y30-Y29)<=180,Y30-Y29,(360-ABS(Y30-Y29))*-SIGN(Y30-Y29))) | AB29: =IF(X30="","",7915.70447*LOG(TAN(RADIANS((45+X30/2)))/TAN(RADIANS((45+X29/2))))) | AC29: =IF(X30="","",7915.70446789782*LOG((TAN(RADIANS(45+X30/2))*(((1-0.0818191908426215*SIN(RADIANS(X30)))/(1+0.0818191908426215*SIN(RADIANS(X30))))^(0.0818191908426215/2)))/(TAN(RADIANS(45+X29/2))*(((1-0.0818191908426215*SIN(RADIANS(X29)))/(1+0.0818191908426215*SIN(RADIANS(X29))))^(0.0818191908426215/2))))) | AD29: =IF(X30="","",DEGREES(ATAN2(3437.74677078*(LN((TAN(RADIANS(45+X30/2)))/(TAN(RADIANS(45+X29/2)))))-((SIN(RADIANS(X30))-SIN(RADIANS(X29)))*23.0135831934767)-((SIN(RADIANS(X30))^3)-(SIN(RADIANS(X29))^3))*(0.051353890277194)-((SIN(RADIANS(X30))^5)-(SIN(RADIANS(X29))^5))*(0.000206269473292),AA29*60))) | AE29: =IF(X30="","",IF(AA29<0,360+DEGREES(ATAN2(Z29,AA29*COS(RADIANS((X30+X29)/2)))),DEGREES(ATAN2(Z29,AA29*COS(RADIANS((X30+X29)/2)))))) | AF29: =IF(X30="","",IF(AA29<0,360+DEGREES(ATAN2(AB29,AA29*60)),DEGREES(ATAN2(AB29,AA29*60)))) | AG29: =AF29 | AH29: =IF(X30="","",IF(AA29<0,360+DEGREES(ATAN2(AC29,(AA29*60))),DEGREES(ATAN2(AC29,(AA29*60))))) | AI29: =IF(AA29<0,360+AD29,AD29) | AJ29: =IF(X30="","",IF(Z29=0,(AA29*COS(RADIANS((X30+X29)/2)))*60/SIN(RADIANS(AE29)),Z29*60/COS(RADIANS(AE29)))) | AK29: =IF(X30="","",ABS(IF(Z29=0,(AA29)*60*COS(RADIANS(X29)),IF(AA29=0,(Z29*60),(Z29/COS(RADIANS(AF29)))*60)))) | AL29: =IF(AK29="","",AK29*1.00179527351758) | AM29: =IF(X30="","",ABS(IF(Z29=0,AA29*60*COS(RADIANS(X30)),(Z29/COS(RADIANS(AH29)))*60))) | AN29: =IF(X30="","",IF(Z29=0,ABS(AA29*60*COS(((ATAN(TAN(RADIANS(X30))*(1-0.08181919034^2)^0.5))))*1.001795274),IF(AA29=0,ABS(((60.006994*Z29)-8.660102*(SIN(RADIANS((2*X30)))-SIN(RADIANS((2*X29)))))),ABS((((60.006994*Z29)-8.660102*(SIN(RADIANS((2*X30)))-SIN(RADIANS((2*X29))))))/COS(RADIANS(AI29)))))) | AO29: =HLOOKUP($C$11,$AE$24:$AI$75,P29+1) | AP29: =IF(X30="","",IF($D$11=3,ROUND(AO29,),IF($D$11=2,0.5*ROUND(AO29/0.5,),ROUND(AO29,1)))) | AQ29: =IF(X30="","",IF(Z29=0,(AA29*COS(RADIANS((X30+X29)/2)))*60/SIN(RADIANS(AP29)),Z29*60/COS(RADIANS(AP29)))) | AR29: =IF(X30="","",ABS(IF(Z29=0,(AA29)*60*COS(RADIANS(X29)),IF(AA29=0,(Z29*60),(Z29/COS(RADIANS(AP29)))*60)))) | AS29: =IF(AR29="","",AR29*1.00179527351758) | AT29: =IF(X30="","",ABS(IF(Z29=0,AA29*60*COS(RADIANS(X30)),(Z29/COS(RADIANS(AP29)))*60))) | AU29: =IF(X30="","",IF(Z29=0,ABS(AA29*60*COS(((ATAN(TAN(RADIANS(X30))*(1-0.08181919034^2)^0.5))))*1.001795274),IF(AA29=0,ABS(((60.006994*Z29)-8.660102*(SIN(RADIANS((2*X30)))-SIN(RADIANS((2*X29)))))),ABS((((60.006994*Z29)-8.660102*(SIN(RADIANS((2*X30)))-SIN(RADIANS((2*X29))))))/COS(RADIANS(AP29)))))) | AV29: =IF($E$11=1,HLOOKUP($C$11,$AQ$24:$AU$75,P29+1),HLOOKUP($C$11,$AJ$24:$AN$75,P29+1)) | AW29: =IF(X29="","",TRUNC(X29)*100+(X29-TRUNC(X29))*60) -> 3500 | AX29: =IF(Y29="","",TRUNC(Y29)*100+(Y29-TRUNC(Y29))*60) -> -12430 | AY29: =IF(AP29="","",AP29) | AZ29: =IF(AV29="","",ROUND(AV29,2)) | BA29: =IF(AW30="","",BA28-AZ28) | BC29: =IF(AA28="","",BC28+1) -> 4 | BD29: =IF(AA28="",BD28,BD28+AA28) -> 95 | BE29: =IF(Z28="",BE28,Z28+BE28) -> -11.333333 | BH29: =IF(AA28="",BH28,BH28+AA28) -> 95 | BI29: =IF(X29="",BI28,X29*(1/COS(RADIANS(X29)))) -> 42.727111
A30: 6 | B30: =IF($E$14>0,IF(B29+$I$14>180,B29+$I$14-360,IF(B29+$I$14<-180,B29+$I$14+360,B29+$I$14)),IF(B29-$I$14>180,B29-$I$14-360,IF(B29-$I$14<-180,B29-$I$14+360,B29-$I$14))) -> 165 | C30: =IF(OR(C29="",C29=$C$15),"",IF(B30=$I$16,$I$16,IF(C29=$I$16,$C$15,B30))) -> 165 | D30: =IF(OR(D29="",D29=$C$15),"",IF(D29=$W$16,$T$16,IF(D29=$T$16,$T$17,IF(D29=$T$17,$W$17,VLOOKUP(MATCH(D29,$C$25:$C$75,0)+1,$A$25:$C$75,3))))) -> -155 | F30: 6 | G30: =IF($E$14>0,IF(G29+$G$24>180,G29+$G$24-360,IF(G29+$G$24<-180,G29+$G$24+360,G29+$G$24)),IF(G29-$G$24>180,G29-$G$24-360,IF(G29-$G$24<-180,G29-$G$24+360,G29-$G$24))) -> -100.75 | H30: =IF(OR(H29="",F30=$I$14+1),"",G30) | I30: =IF(H30="","",TRUNC(H30)*100+(H30-TRUNC(H30))*60) | J30: =IF(I30="","",IF($G$12="X",H30,(TRUNC(I30/100)+(ROUND(((I30/100-TRUNC(I30/100))*100)/$G$12,)*$G$12)/60))) | K30: 6 | L30: =IF($A$11=1,C30,IF($A$11=3,D30,IF($A$11=4,"",J30))) | M30: =IF(L30="","",IF(OR($A$11=1,$A$11=2),$C$18-L30,IF(OR(L30=$T$16,L30=$T$17),0,IF(OR(M29=0,M29=$T$17-L29),$T$17-L30,$T$16-L30)))) | N30: =IF($A$11=4,"",IF(M30="","",IF(M31="",$B$15,DEGREES(ATAN(COS(RADIANS(M30))*TAN(RADIANS($B$18))))))) | O30: =IF(N30="","",TRUNC(N30)*100+(N30-TRUNC(N30))*60) | P30: 6 | Q30: =IF(O30="","",IF($B$11="X",N30,IF(O31="",$B$15,TRUNC(O30/100)+(ROUND(((O30/100-TRUNC(O30/100))*100)/$B$11,)*$B$11)/60))) | R30: =IF(Q30="","",TRUNC(Q30)*100+(Q30-TRUNC(Q30))*60) | S30: =IF(R30="","",TRUNC(R30/100)+(R30/100-TRUNC(R30/100))/0.6) | T30: =IF(OR(T29="",T29=$T$21),"",IF(T29=$T$19,$T$20,IF(T29>=$T$20,T29+1,MATCH(S29,$S$25:$S$75,0)+1))) -> #N/A | U30: =IF(U29="","",IF(U29=$T$21,"",IF(T30=$T$22,$T$21,T30))) -> #N/A | V30: =IF(U30="","",VLOOKUP(U30,$P$25:$S$75,4)) -> #N/A | W30: =IF(U30="","",VLOOKUP(U30,$K$25:$L$75,2)) -> #N/A | X30: =IF(OR(AND($A$11=4,$AB$18=2),AND($A$11=3,$T$23=2)),"",IF($A$11=3,V30,S30)) | Y30: =IF(OR(AND($A$11=4,$AB$18=2),AND($A$11=3,$T$23=2)),"",IF($A$11=3,W30,L30)) | Z30: =IF(X31="","",IF(X31-X30>180,X31-X30-360,IF(X31-X30<-180,X31-X30+360,X31-X30))) | AA30: =IF(Y31="","",IF(ABS(Y31-Y30)<=180,Y31-Y30,(360-ABS(Y31-Y30))*-SIGN(Y31-Y30))) | AB30: =IF(X31="","",7915.70447*LOG(TAN(RADIANS((45+X31/2)))/TAN(RADIANS((45+X30/2))))) | AC30: =IF(X31="","",7915.70446789782*LOG((TAN(RADIANS(45+X31/2))*(((1-0.0818191908426215*SIN(RADIANS(X31)))/(1+0.0818191908426215*SIN(RADIANS(X31))))^(0.0818191908426215/2)))/(TAN(RADIANS(45+X30/2))*(((1-0.0818191908426215*SIN(RADIANS(X30)))/(1+0.0818191908426215*SIN(RADIANS(X30))))^(0.0818191908426215/2))))) | AD30: =IF(X31="","",DEGREES(ATAN2(3437.74677078*(LN((TAN(RADIANS(45+X31/2)))/(TAN(RADIANS(45+X30/2)))))-((SIN(RADIANS(X31))-SIN(RADIANS(X30)))*23.0135831934767)-((SIN(RADIANS(X31))^3)-(SIN(RADIANS(X30))^3))*(0.051353890277194)-((SIN(RADIANS(X31))^5)-(SIN(RADIANS(X30))^5))*(0.000206269473292),AA30*60))) | AE30: =IF(X31="","",IF(AA30<0,360+DEGREES(ATAN2(Z30,AA30*COS(RADIANS((X31+X30)/2)))),DEGREES(ATAN2(Z30,AA30*COS(RADIANS((X31+X30)/2)))))) | AF30: =IF(X31="","",IF(AA30<0,360+DEGREES(ATAN2(AB30,AA30*60)),DEGREES(ATAN2(AB30,AA30*60)))) | AG30: =AF30 | AH30: =IF(X31="","",IF(AA30<0,360+DEGREES(ATAN2(AC30,(AA30*60))),DEGREES(ATAN2(AC30,(AA30*60))))) | AI30: =IF(AA30<0,360+AD30,AD30) | AJ30: =IF(X31="","",IF(Z30=0,(AA30*COS(RADIANS((X31+X30)/2)))*60/SIN(RADIANS(AE30)),Z30*60/COS(RADIANS(AE30)))) | AK30: =IF(X31="","",ABS(IF(Z30=0,(AA30)*60*COS(RADIANS(X30)),IF(AA30=0,(Z30*60),(Z30/COS(RADIANS(AF30)))*60)))) | AL30: =IF(AK30="","",AK30*1.00179527351758) | AM30: =IF(X31="","",ABS(IF(Z30=0,AA30*60*COS(RADIANS(X31)),(Z30/COS(RADIANS(AH30)))*60))) | AN30: =IF(X31="","",IF(Z30=0,ABS(AA30*60*COS(((ATAN(TAN(RADIANS(X31))*(1-0.08181919034^2)^0.5))))*1.001795274),IF(AA30=0,ABS(((60.006994*Z30)-8.660102*(SIN(RADIANS((2*X31)))-SIN(RADIANS((2*X30)))))),ABS((((60.006994*Z30)-8.660102*(SIN(RADIANS((2*X31)))-SIN(RADIANS((2*X30))))))/COS(RADIANS(AI30)))))) | AO30: =HLOOKUP($C$11,$AE$24:$AI$75,P30+1) | AP30: =IF(X31="","",IF($D$11=3,ROUND(AO30,),IF($D$11=2,0.5*ROUND(AO30/0.5,),ROUND(AO30,1)))) | AQ30: =IF(X31="","",IF(Z30=0,(AA30*COS(RADIANS((X31+X30)/2)))*60/SIN(RADIANS(AP30)),Z30*60/COS(RADIANS(AP30)))) | AR30: =IF(X31="","",ABS(IF(Z30=0,(AA30)*60*COS(RADIANS(X30)),IF(AA30=0,(Z30*60),(Z30/COS(RADIANS(AP30)))*60)))) | AS30: =IF(AR30="","",AR30*1.00179527351758) | AT30: =IF(X31="","",ABS(IF(Z30=0,AA30*60*COS(RADIANS(X31)),(Z30/COS(RADIANS(AP30)))*60))) | AU30: =IF(X31="","",IF(Z30=0,ABS(AA30*60*COS(((ATAN(TAN(RADIANS(X31))*(1-0.08181919034^2)^0.5))))*1.001795274),IF(AA30=0,ABS(((60.006994*Z30)-8.660102*(SIN(RADIANS((2*X31)))-SIN(RADIANS((2*X30)))))),ABS((((60.006994*Z30)-8.660102*(SIN(RADIANS((2*X31)))-SIN(RADIANS((2*X30))))))/COS(RADIANS(AP30)))))) | AV30: =IF($E$11=1,HLOOKUP($C$11,$AQ$24:$AU$75,P30+1),HLOOKUP($C$11,$AJ$24:$AN$75,P30+1)) | AW30: =IF(X30="","",TRUNC(X30)*100+(X30-TRUNC(X30))*60) | AX30: =IF(Y30="","",TRUNC(Y30)*100+(Y30-TRUNC(Y30))*60) | AY30: =IF(AP30="","",AP30) | AZ30: =IF(AV30="","",ROUND(AV30,2)) | BA30: =IF(AW31="","",BA29-AZ29) | BC30: =IF(AA29="","",BC29+1) | BD30: =IF(AA29="",BD29,BD29+AA29) -> 95 | BE30: =IF(Z29="",BE29,Z29+BE29) -> -11.333333 | BH30: =IF(AA29="",BH29,BH29+AA29) -> 95 | BI30: =IF(X30="",BI29,X30*(1/COS(RADIANS(X30)))) -> 42.727111
A31: 7 | B31: =IF($E$14>0,IF(B30+$I$14>180,B30+$I$14-360,IF(B30+$I$14<-180,B30+$I$14+360,B30+$I$14)),IF(B30-$I$14>180,B30-$I$14-360,IF(B30-$I$14<-180,B30-$I$14+360,B30-$I$14))) -> 170 | C31: =IF(OR(C30="",C30=$C$15),"",IF(B31=$I$16,$I$16,IF(C30=$I$16,$C$15,B31))) -> 170 | D31: =IF(OR(D30="",D30=$C$15),"",IF(D30=$W$16,$T$16,IF(D30=$T$16,$T$17,IF(D30=$T$17,$W$17,VLOOKUP(MATCH(D30,$C$25:$C$75,0)+1,$A$25:$C$75,3))))) -> -150 | F31: 7 | G31: =IF($E$14>0,IF(G30+$G$24>180,G30+$G$24-360,IF(G30+$G$24<-180,G30+$G$24+360,G30+$G$24)),IF(G30-$G$24>180,G30-$G$24-360,IF(G30-$G$24<-180,G30-$G$24+360,G30-$G$24))) -> -77 | H31: =IF(OR(H30="",F31=$I$14+1),"",G31) | I31: =IF(H31="","",TRUNC(H31)*100+(H31-TRUNC(H31))*60) | J31: =IF(I31="","",IF($G$12="X",H31,(TRUNC(I31/100)+(ROUND(((I31/100-TRUNC(I31/100))*100)/$G$12,)*$G$12)/60))) | K31: 7 | L31: =IF($A$11=1,C31,IF($A$11=3,D31,IF($A$11=4,"",J31))) | M31: =IF(L31="","",IF(OR($A$11=1,$A$11=2),$C$18-L31,IF(OR(L31=$T$16,L31=$T$17),0,IF(OR(M30=0,M30=$T$17-L30),$T$17-L31,$T$16-L31)))) | N31: =IF($A$11=4,"",IF(M31="","",IF(M32="",$B$15,DEGREES(ATAN(COS(RADIANS(M31))*TAN(RADIANS($B$18))))))) | O31: =IF(N31="","",TRUNC(N31)*100+(N31-TRUNC(N31))*60) | P31: 7 | Q31: =IF(O31="","",IF($B$11="X",N31,IF(O32="",$B$15,TRUNC(O31/100)+(ROUND(((O31/100-TRUNC(O31/100))*100)/$B$11,)*$B$11)/60))) | R31: =IF(Q31="","",TRUNC(Q31)*100+(Q31-TRUNC(Q31))*60) | S31: =IF(R31="","",TRUNC(R31/100)+(R31/100-TRUNC(R31/100))/0.6) | T31: =IF(OR(T30="",T30=$T$21),"",IF(T30=$T$19,$T$20,IF(T30>=$T$20,T30+1,MATCH(S30,$S$25:$S$75,0)+1))) -> #N/A | U31: =IF(U30="","",IF(U30=$T$21,"",IF(T31=$T$22,$T$21,T31))) -> #N/A | V31: =IF(U31="","",VLOOKUP(U31,$P$25:$S$75,4)) -> #N/A | W31: =IF(U31="","",VLOOKUP(U31,$K$25:$L$75,2)) -> #N/A | X31: =IF(OR(AND($A$11=4,$AB$18=2),AND($A$11=3,$T$23=2)),"",IF($A$11=3,V31,S31)) | Y31: =IF(OR(AND($A$11=4,$AB$18=2),AND($A$11=3,$T$23=2)),"",IF($A$11=3,W31,L31)) | Z31: =IF(X32="","",IF(X32-X31>180,X32-X31-360,IF(X32-X31<-180,X32-X31+360,X32-X31))) | AA31: =IF(Y32="","",IF(ABS(Y32-Y31)<=180,Y32-Y31,(360-ABS(Y32-Y31))*-SIGN(Y32-Y31))) | AB31: =IF(X32="","",7915.70447*LOG(TAN(RADIANS((45+X32/2)))/TAN(RADIANS((45+X31/2))))) | AC31: =IF(X32="","",7915.70446789782*LOG((TAN(RADIANS(45+X32/2))*(((1-0.0818191908426215*SIN(RADIANS(X32)))/(1+0.0818191908426215*SIN(RADIANS(X32))))^(0.0818191908426215/2)))/(TAN(RADIANS(45+X31/2))*(((1-0.0818191908426215*SIN(RADIANS(X31)))/(1+0.0818191908426215*SIN(RADIANS(X31))))^(0.0818191908426215/2))))) | AD31: =IF(X32="","",DEGREES(ATAN2(3437.74677078*(LN((TAN(RADIANS(45+X32/2)))/(TAN(RADIANS(45+X31/2)))))-((SIN(RADIANS(X32))-SIN(RADIANS(X31)))*23.0135831934767)-((SIN(RADIANS(X32))^3)-(SIN(RADIANS(X31))^3))*(0.051353890277194)-((SIN(RADIANS(X32))^5)-(SIN(RADIANS(X31))^5))*(0.000206269473292),AA31*60))) | AE31: =IF(X32="","",IF(AA31<0,360+DEGREES(ATAN2(Z31,AA31*COS(RADIANS((X32+X31)/2)))),DEGREES(ATAN2(Z31,AA31*COS(RADIANS((X32+X31)/2)))))) | AF31: =IF(X32="","",IF(AA31<0,360+DEGREES(ATAN2(AB31,AA31*60)),DEGREES(ATAN2(AB31,AA31*60)))) | AG31: =AF31 | AH31: =IF(X32="","",IF(AA31<0,360+DEGREES(ATAN2(AC31,(AA31*60))),DEGREES(ATAN2(AC31,(AA31*60))))) | AI31: =IF(AA31<0,360+AD31,AD31) | AJ31: =IF(X32="","",IF(Z31=0,(AA31*COS(RADIANS((X32+X31)/2)))*60/SIN(RADIANS(AE31)),Z31*60/COS(RADIANS(AE31)))) | AK31: =IF(X32="","",ABS(IF(Z31=0,(AA31)*60*COS(RADIANS(X31)),IF(AA31=0,(Z31*60),(Z31/COS(RADIANS(AF31)))*60)))) | AL31: =IF(AK31="","",AK31*1.00179527351758) | AM31: =IF(X32="","",ABS(IF(Z31=0,AA31*60*COS(RADIANS(X32)),(Z31/COS(RADIANS(AH31)))*60))) | AN31: =IF(X32="","",IF(Z31=0,ABS(AA31*60*COS(((ATAN(TAN(RADIANS(X32))*(1-0.08181919034^2)^0.5))))*1.001795274),IF(AA31=0,ABS(((60.006994*Z31)-8.660102*(SIN(RADIANS((2*X32)))-SIN(RADIANS((2*X31)))))),ABS((((60.006994*Z31)-8.660102*(SIN(RADIANS((2*X32)))-SIN(RADIANS((2*X31))))))/COS(RADIANS(AI31)))))) | AO31: =HLOOKUP($C$11,$AE$24:$AI$75,P31+1) | AP31: =IF(X32="","",IF($D$11=3,ROUND(AO31,),IF($D$11=2,0.5*ROUND(AO31/0.5,),ROUND(AO31,1)))) | AQ31: =IF(X32="","",IF(Z31=0,(AA31*COS(RADIANS((X32+X31)/2)))*60/SIN(RADIANS(AP31)),Z31*60/COS(RADIANS(AP31)))) | AR31: =IF(X32="","",ABS(IF(Z31=0,(AA31)*60*COS(RADIANS(X31)),IF(AA31=0,(Z31*60),(Z31/COS(RADIANS(AP31)))*60)))) | AS31: =IF(AR31="","",AR31*1.00179527351758) | AT31: =IF(X32="","",ABS(IF(Z31=0,AA31*60*COS(RADIANS(X32)),(Z31/COS(RADIANS(AP31)))*60))) | AU31: =IF(X32="","",IF(Z31=0,ABS(AA31*60*COS(((ATAN(TAN(RADIANS(X32))*(1-0.08181919034^2)^0.5))))*1.001795274),IF(AA31=0,ABS(((60.006994*Z31)-8.660102*(SIN(RADIANS((2*X32)))-SIN(RADIANS((2*X31)))))),ABS((((60.006994*Z31)-8.660102*(SIN(RADIANS((2*X32)))-SIN(RADIANS((2*X31))))))/COS(RADIANS(AP31)))))) | AV31: =IF($E$11=1,HLOOKUP($C$11,$AQ$24:$AU$75,P31+1),HLOOKUP($C$11,$AJ$24:$AN$75,P31+1)) | AW31: =IF(X31="","",TRUNC(X31)*100+(X31-TRUNC(X31))*60) | AX31: =IF(Y31="","",TRUNC(Y31)*100+(Y31-TRUNC(Y31))*60) | AY31: =IF(AP31="","",AP31) | AZ31: =IF(AV31="","",ROUND(AV31,2)) | BA31: =IF(AW32="","",BA30-AZ30) | BC31: =IF(AA30="","",BC30+1) | BD31: =IF(AA30="",BD30,BD30+AA30) -> 95 | BE31: =IF(Z30="",BE30,Z30+BE30) -> -11.333333 | BH31: =IF(AA30="",BH30,BH30+AA30) -> 95 | BI31: =IF(X31="",BI30,X31*(1/COS(RADIANS(X31)))) -> 42.727111
A32: 8 | B32: =IF($E$14>0,IF(B31+$I$14>180,B31+$I$14-360,IF(B31+$I$14<-180,B31+$I$14+360,B31+$I$14)),IF(B31-$I$14>180,B31-$I$14-360,IF(B31-$I$14<-180,B31-$I$14+360,B31-$I$14))) -> 175 | C32: =IF(OR(C31="",C31=$C$15),"",IF(B32=$I$16,$I$16,IF(C31=$I$16,$C$15,B32))) -> 175 | D32: =IF(OR(D31="",D31=$C$15),"",IF(D31=$W$16,$T$16,IF(D31=$T$16,$T$17,IF(D31=$T$17,$W$17,VLOOKUP(MATCH(D31,$C$25:$C$75,0)+1,$A$25:$C$75,3))))) -> -145 | F32: 8 | G32: =IF($E$14>0,IF(G31+$G$24>180,G31+$G$24-360,IF(G31+$G$24<-180,G31+$G$24+360,G31+$G$24)),IF(G31-$G$24>180,G31-$G$24-360,IF(G31-$G$24<-180,G31-$G$24+360,G31-$G$24))) -> -53.25 | H32: =IF(OR(H31="",F32=$I$14+1),"",G32) | I32: =IF(H32="","",TRUNC(H32)*100+(H32-TRUNC(H32))*60) | J32: =IF(I32="","",IF($G$12="X",H32,(TRUNC(I32/100)+(ROUND(((I32/100-TRUNC(I32/100))*100)/$G$12,)*$G$12)/60))) | K32: 8 | L32: =IF($A$11=1,C32,IF($A$11=3,D32,IF($A$11=4,"",J32))) | M32: =IF(L32="","",IF(OR($A$11=1,$A$11=2),$C$18-L32,IF(OR(L32=$T$16,L32=$T$17),0,IF(OR(M31=0,M31=$T$17-L31),$T$17-L32,$T$16-L32)))) | N32: =IF($A$11=4,"",IF(M32="","",IF(M33="",$B$15,DEGREES(ATAN(COS(RADIANS(M32))*TAN(RADIANS($B$18))))))) | O32: =IF(N32="","",TRUNC(N32)*100+(N32-TRUNC(N32))*60) | P32: 8 | Q32: =IF(O32="","",IF($B$11="X",N32,IF(O33="",$B$15,TRUNC(O32/100)+(ROUND(((O32/100-TRUNC(O32/100))*100)/$B$11,)*$B$11)/60))) | R32: =IF(Q32="","",TRUNC(Q32)*100+(Q32-TRUNC(Q32))*60) | S32: =IF(R32="","",TRUNC(R32/100)+(R32/100-TRUNC(R32/100))/0.6) | T32: =IF(OR(T31="",T31=$T$21),"",IF(T31=$T$19,$T$20,IF(T31>=$T$20,T31+1,MATCH(S31,$S$25:$S$75,0)+1))) -> #N/A | U32: =IF(U31="","",IF(U31=$T$21,"",IF(T32=$T$22,$T$21,T32))) -> #N/A | V32: =IF(U32="","",VLOOKUP(U32,$P$25:$S$75,4)) -> #N/A | W32: =IF(U32="","",VLOOKUP(U32,$K$25:$L$75,2)) -> #N/A | X32: =IF(OR(AND($A$11=4,$AB$18=2),AND($A$11=3,$T$23=2)),"",IF($A$11=3,V32,S32)) | Y32: =IF(OR(AND($A$11=4,$AB$18=2),AND($A$11=3,$T$23=2)),"",IF($A$11=3,W32,L32)) | Z32: =IF(X33="","",IF(X33-X32>180,X33-X32-360,IF(X33-X32<-180,X33-X32+360,X33-X32))) | AA32: =IF(Y33="","",IF(ABS(Y33-Y32)<=180,Y33-Y32,(360-ABS(Y33-Y32))*-SIGN(Y33-Y32))) | AB32: =IF(X33="","",7915.70447*LOG(TAN(RADIANS((45+X33/2)))/TAN(RADIANS((45+X32/2))))) | AC32: =IF(X33="","",7915.70446789782*LOG((TAN(RADIANS(45+X33/2))*(((1-0.0818191908426215*SIN(RADIANS(X33)))/(1+0.0818191908426215*SIN(RADIANS(X33))))^(0.0818191908426215/2)))/(TAN(RADIANS(45+X32/2))*(((1-0.0818191908426215*SIN(RADIANS(X32)))/(1+0.0818191908426215*SIN(RADIANS(X32))))^(0.0818191908426215/2))))) | AD32: =IF(X33="","",DEGREES(ATAN2(3437.74677078*(LN((TAN(RADIANS(45+X33/2)))/(TAN(RADIANS(45+X32/2)))))-((SIN(RADIANS(X33))-SIN(RADIANS(X32)))*23.0135831934767)-((SIN(RADIANS(X33))^3)-(SIN(RADIANS(X32))^3))*(0.051353890277194)-((SIN(RADIANS(X33))^5)-(SIN(RADIANS(X32))^5))*(0.000206269473292),AA32*60))) | AE32: =IF(X33="","",IF(AA32<0,360+DEGREES(ATAN2(Z32,AA32*COS(RADIANS((X33+X32)/2)))),DEGREES(ATAN2(Z32,AA32*COS(RADIANS((X33+X32)/2)))))) | AF32: =IF(X33="","",IF(AA32<0,360+DEGREES(ATAN2(AB32,AA32*60)),DEGREES(ATAN2(AB32,AA32*60)))) | AG32: =AF32 | AH32: =IF(X33="","",IF(AA32<0,360+DEGREES(ATAN2(AC32,(AA32*60))),DEGREES(ATAN2(AC32,(AA32*60))))) | AI32: =IF(AA32<0,360+AD32,AD32) | AJ32: =IF(X33="","",IF(Z32=0,(AA32*COS(RADIANS((X33+X32)/2)))*60/SIN(RADIANS(AE32)),Z32*60/COS(RADIANS(AE32)))) | AK32: =IF(X33="","",ABS(IF(Z32=0,(AA32)*60*COS(RADIANS(X32)),IF(AA32=0,(Z32*60),(Z32/COS(RADIANS(AF32)))*60)))) | AL32: =IF(AK32="","",AK32*1.00179527351758) | AM32: =IF(X33="","",ABS(IF(Z32=0,AA32*60*COS(RADIANS(X33)),(Z32/COS(RADIANS(AH32)))*60))) | AN32: =IF(X33="","",IF(Z32=0,ABS(AA32*60*COS(((ATAN(TAN(RADIANS(X33))*(1-0.08181919034^2)^0.5))))*1.001795274),IF(AA32=0,ABS(((60.006994*Z32)-8.660102*(SIN(RADIANS((2*X33)))-SIN(RADIANS((2*X32)))))),ABS((((60.006994*Z32)-8.660102*(SIN(RADIANS((2*X33)))-SIN(RADIANS((2*X32))))))/COS(RADIANS(AI32)))))) | AO32: =HLOOKUP($C$11,$AE$24:$AI$75,P32+1) | AP32: =IF(X33="","",IF($D$11=3,ROUND(AO32,),IF($D$11=2,0.5*ROUND(AO32/0.5,),ROUND(AO32,1)))) | AQ32: =IF(X33="","",IF(Z32=0,(AA32*COS(RADIANS((X33+X32)/2)))*60/SIN(RADIANS(AP32)),Z32*60/COS(RADIANS(AP32)))) | AR32: =IF(X33="","",ABS(IF(Z32=0,(AA32)*60*COS(RADIANS(X32)),IF(AA32=0,(Z32*60),(Z32/COS(RADIANS(AP32)))*60)))) | AS32: =IF(AR32="","",AR32*1.00179527351758) | AT32: =IF(X33="","",ABS(IF(Z32=0,AA32*60*COS(RADIANS(X33)),(Z32/COS(RADIANS(AP32)))*60))) | AU32: =IF(X33="","",IF(Z32=0,ABS(AA32*60*COS(((ATAN(TAN(RADIANS(X33))*(1-0.08181919034^2)^0.5))))*1.001795274),IF(AA32=0,ABS(((60.006994*Z32)-8.660102*(SIN(RADIANS((2*X33)))-SIN(RADIANS((2*X32)))))),ABS((((60.006994*Z32)-8.660102*(SIN(RADIANS((2*X33)))-SIN(RADIANS((2*X32))))))/COS(RADIANS(AP32)))))) | AV32: =IF($E$11=1,HLOOKUP($C$11,$AQ$24:$AU$75,P32+1),HLOOKUP($C$11,$AJ$24:$AN$75,P32+1)) | AW32: =IF(X32="","",TRUNC(X32)*100+(X32-TRUNC(X32))*60) | AX32: =IF(Y32="","",TRUNC(Y32)*100+(Y32-TRUNC(Y32))*60) | AY32: =IF(AP32="","",AP32) | AZ32: =IF(AV32="","",ROUND(AV32,2)) | BA32: =IF(AW33="","",BA31-AZ31) | BC32: =IF(AA31="","",BC31+1) | BD32: =IF(AA31="",BD31,BD31+AA31) -> 95 | BE32: =IF(Z31="",BE31,Z31+BE31) -> -11.333333 | BH32: =IF(AA31="",BH31,BH31+AA31) -> 95 | BI32: =IF(X32="",BI31,X32*(1/COS(RADIANS(X32)))) -> 42.727111
A33: 9 | B33: =IF($E$14>0,IF(B32+$I$14>180,B32+$I$14-360,IF(B32+$I$14<-180,B32+$I$14+360,B32+$I$14)),IF(B32-$I$14>180,B32-$I$14-360,IF(B32-$I$14<-180,B32-$I$14+360,B32-$I$14))) -> 180 | C33: =IF(OR(C32="",C32=$C$15),"",IF(B33=$I$16,$I$16,IF(C32=$I$16,$C$15,B33))) -> 180 | D33: =IF(OR(D32="",D32=$C$15),"",IF(D32=$W$16,$T$16,IF(D32=$T$16,$T$17,IF(D32=$T$17,$W$17,VLOOKUP(MATCH(D32,$C$25:$C$75,0)+1,$A$25:$C$75,3))))) -> -140 | F33: 9 | G33: =IF($E$14>0,IF(G32+$G$24>180,G32+$G$24-360,IF(G32+$G$24<-180,G32+$G$24+360,G32+$G$24)),IF(G32-$G$24>180,G32-$G$24-360,IF(G32-$G$24<-180,G32-$G$24+360,G32-$G$24))) -> -29.5 | H33: =IF(OR(H32="",F33=$I$14+1),"",G33) | I33: =IF(H33="","",TRUNC(H33)*100+(H33-TRUNC(H33))*60) | J33: =IF(I33="","",IF($G$12="X",H33,(TRUNC(I33/100)+(ROUND(((I33/100-TRUNC(I33/100))*100)/$G$12,)*$G$12)/60))) | K33: 9 | L33: =IF($A$11=1,C33,IF($A$11=3,D33,IF($A$11=4,"",J33))) | M33: =IF(L33="","",IF(OR($A$11=1,$A$11=2),$C$18-L33,IF(OR(L33=$T$16,L33=$T$17),0,IF(OR(M32=0,M32=$T$17-L32),$T$17-L33,$T$16-L33)))) | N33: =IF($A$11=4,"",IF(M33="","",IF(M34="",$B$15,DEGREES(ATAN(COS(RADIANS(M33))*TAN(RADIANS($B$18))))))) | O33: =IF(N33="","",TRUNC(N33)*100+(N33-TRUNC(N33))*60) | P33: 9 | Q33: =IF(O33="","",IF($B$11="X",N33,IF(O34="",$B$15,TRUNC(O33/100)+(ROUND(((O33/100-TRUNC(O33/100))*100)/$B$11,)*$B$11)/60))) | R33: =IF(Q33="","",TRUNC(Q33)*100+(Q33-TRUNC(Q33))*60) | S33: =IF(R33="","",TRUNC(R33/100)+(R33/100-TRUNC(R33/100))/0.6) | T33: =IF(OR(T32="",T32=$T$21),"",IF(T32=$T$19,$T$20,IF(T32>=$T$20,T32+1,MATCH(S32,$S$25:$S$75,0)+1))) -> #N/A | U33: =IF(U32="","",IF(U32=$T$21,"",IF(T33=$T$22,$T$21,T33))) -> #N/A | V33: =IF(U33="","",VLOOKUP(U33,$P$25:$S$75,4)) -> #N/A | W33: =IF(U33="","",VLOOKUP(U33,$K$25:$L$75,2)) -> #N/A | X33: =IF(OR(AND($A$11=4,$AB$18=2),AND($A$11=3,$T$23=2)),"",IF($A$11=3,V33,S33)) | Y33: =IF(OR(AND($A$11=4,$AB$18=2),AND($A$11=3,$T$23=2)),"",IF($A$11=3,W33,L33)) | Z33: =IF(X34="","",IF(X34-X33>180,X34-X33-360,IF(X34-X33<-180,X34-X33+360,X34-X33))) | AA33: =IF(Y34="","",IF(ABS(Y34-Y33)<=180,Y34-Y33,(360-ABS(Y34-Y33))*-SIGN(Y34-Y33))) | AB33: =IF(X34="","",7915.70447*LOG(TAN(RADIANS((45+X34/2)))/TAN(RADIANS((45+X33/2))))) | AC33: =IF(X34="","",7915.70446789782*LOG((TAN(RADIANS(45+X34/2))*(((1-0.0818191908426215*SIN(RADIANS(X34)))/(1+0.0818191908426215*SIN(RADIANS(X34))))^(0.0818191908426215/2)))/(TAN(RADIANS(45+X33/2))*(((1-0.0818191908426215*SIN(RADIANS(X33)))/(1+0.0818191908426215*SIN(RADIANS(X33))))^(0.0818191908426215/2))))) | AD33: =IF(X34="","",DEGREES(ATAN2(3437.74677078*(LN((TAN(RADIANS(45+X34/2)))/(TAN(RADIANS(45+X33/2)))))-((SIN(RADIANS(X34))-SIN(RADIANS(X33)))*23.0135831934767)-((SIN(RADIANS(X34))^3)-(SIN(RADIANS(X33))^3))*(0.051353890277194)-((SIN(RADIANS(X34))^5)-(SIN(RADIANS(X33))^5))*(0.000206269473292),AA33*60))) | AE33: =IF(X34="","",IF(AA33<0,360+DEGREES(ATAN2(Z33,AA33*COS(RADIANS((X34+X33)/2)))),DEGREES(ATAN2(Z33,AA33*COS(RADIANS((X34+X33)/2)))))) | AF33: =IF(X34="","",IF(AA33<0,360+DEGREES(ATAN2(AB33,AA33*60)),DEGREES(ATAN2(AB33,AA33*60)))) | AG33: =AF33 | AH33: =IF(X34="","",IF(AA33<0,360+DEGREES(ATAN2(AC33,(AA33*60))),DEGREES(ATAN2(AC33,(AA33*60))))) | AI33: =IF(AA33<0,360+AD33,AD33) | AJ33: =IF(X34="","",IF(Z33=0,(AA33*COS(RADIANS((X34+X33)/2)))*60/SIN(RADIANS(AE33)),Z33*60/COS(RADIANS(AE33)))) | AK33: =IF(X34="","",ABS(IF(Z33=0,(AA33)*60*COS(RADIANS(X33)),IF(AA33=0,(Z33*60),(Z33/COS(RADIANS(AF33)))*60)))) | AL33: =IF(AK33="","",AK33*1.00179527351758) | AM33: =IF(X34="","",ABS(IF(Z33=0,AA33*60*COS(RADIANS(X34)),(Z33/COS(RADIANS(AH33)))*60))) | AN33: =IF(X34="","",IF(Z33=0,ABS(AA33*60*COS(((ATAN(TAN(RADIANS(X34))*(1-0.08181919034^2)^0.5))))*1.001795274),IF(AA33=0,ABS(((60.006994*Z33)-8.660102*(SIN(RADIANS((2*X34)))-SIN(RADIANS((2*X33)))))),ABS((((60.006994*Z33)-8.660102*(SIN(RADIANS((2*X34)))-SIN(RADIANS((2*X33))))))/COS(RADIANS(AI33)))))) | AO33: =HLOOKUP($C$11,$AE$24:$AI$75,P33+1) | AP33: =IF(X34="","",IF($D$11=3,ROUND(AO33,),IF($D$11=2,0.5*ROUND(AO33/0.5,),ROUND(AO33,1)))) | AQ33: =IF(X34="","",IF(Z33=0,(AA33*COS(RADIANS((X34+X33)/2)))*60/SIN(RADIANS(AP33)),Z33*60/COS(RADIANS(AP33)))) | AR33: =IF(X34="","",ABS(IF(Z33=0,(AA33)*60*COS(RADIANS(X33)),IF(AA33=0,(Z33*60),(Z33/COS(RADIANS(AP33)))*60)))) | AS33: =IF(AR33="","",AR33*1.00179527351758) | AT33: =IF(X34="","",ABS(IF(Z33=0,AA33*60*COS(RADIANS(X34)),(Z33/COS(RADIANS(AP33)))*60))) | AU33: =IF(X34="","",IF(Z33=0,ABS(AA33*60*COS(((ATAN(TAN(RADIANS(X34))*(1-0.08181919034^2)^0.5))))*1.001795274),IF(AA33=0,ABS(((60.006994*Z33)-8.660102*(SIN(RADIANS((2*X34)))-SIN(RADIANS((2*X33)))))),ABS((((60.006994*Z33)-8.660102*(SIN(RADIANS((2*X34)))-SIN(RADIANS((2*X33))))))/COS(RADIANS(AP33)))))) | AV33: =IF($E$11=1,HLOOKUP($C$11,$AQ$24:$AU$75,P33+1),HLOOKUP($C$11,$AJ$24:$AN$75,P33+1)) | AW33: =IF(X33="","",TRUNC(X33)*100+(X33-TRUNC(X33))*60) | AX33: =IF(Y33="","",TRUNC(Y33)*100+(Y33-TRUNC(Y33))*60) | AY33: =IF(AP33="","",AP33) | AZ33: =IF(AV33="","",ROUND(AV33,2)) | BA33: =IF(AW34="","",BA32-AZ32) | BC33: =IF(AA32="","",BC32+1) | BD33: =IF(AA32="",BD32,BD32+AA32) -> 95 | BE33: =IF(Z32="",BE32,Z32+BE32) -> -11.333333 | BH33: =IF(AA32="",BH32,BH32+AA32) -> 95 | BI33: =IF(X33="",BI32,X33*(1/COS(RADIANS(X33)))) -> 42.727111
A34: 10 | B34: =IF($E$14>0,IF(B33+$I$14>180,B33+$I$14-360,IF(B33+$I$14<-180,B33+$I$14+360,B33+$I$14)),IF(B33-$I$14>180,B33-$I$14-360,IF(B33-$I$14<-180,B33-$I$14+360,B33-$I$14))) -> -175 | C34: =IF(OR(C33="",C33=$C$15),"",IF(B34=$I$16,$I$16,IF(C33=$I$16,$C$15,B34))) -> -175 | D34: =IF(OR(D33="",D33=$C$15),"",IF(D33=$W$16,$T$16,IF(D33=$T$16,$T$17,IF(D33=$T$17,$W$17,VLOOKUP(MATCH(D33,$C$25:$C$75,0)+1,$A$25:$C$75,3))))) -> -135 | F34: 10 | G34: =IF($E$14>0,IF(G33+$G$24>180,G33+$G$24-360,IF(G33+$G$24<-180,G33+$G$24+360,G33+$G$24)),IF(G33-$G$24>180,G33-$G$24-360,IF(G33-$G$24<-180,G33-$G$24+360,G33-$G$24))) -> -5.75 | H34: =IF(OR(H33="",F34=$I$14+1),"",G34) | I34: =IF(H34="","",TRUNC(H34)*100+(H34-TRUNC(H34))*60) | J34: =IF(I34="","",IF($G$12="X",H34,(TRUNC(I34/100)+(ROUND(((I34/100-TRUNC(I34/100))*100)/$G$12,)*$G$12)/60))) | K34: 10 | L34: =IF($A$11=1,C34,IF($A$11=3,D34,IF($A$11=4,"",J34))) | M34: =IF(L34="","",IF(OR($A$11=1,$A$11=2),$C$18-L34,IF(OR(L34=$T$16,L34=$T$17),0,IF(OR(M33=0,M33=$T$17-L33),$T$17-L34,$T$16-L34)))) | N34: =IF($A$11=4,"",IF(M34="","",IF(M35="",$B$15,DEGREES(ATAN(COS(RADIANS(M34))*TAN(RADIANS($B$18))))))) | O34: =IF(N34="","",TRUNC(N34)*100+(N34-TRUNC(N34))*60) | P34: 10 | Q34: =IF(O34="","",IF($B$11="X",N34,IF(O35="",$B$15,TRUNC(O34/100)+(ROUND(((O34/100-TRUNC(O34/100))*100)/$B$11,)*$B$11)/60))) | R34: =IF(Q34="","",TRUNC(Q34)*100+(Q34-TRUNC(Q34))*60) | S34: =IF(R34="","",TRUNC(R34/100)+(R34/100-TRUNC(R34/100))/0.6) | T34: =IF(OR(T33="",T33=$T$21),"",IF(T33=$T$19,$T$20,IF(T33>=$T$20,T33+1,MATCH(S33,$S$25:$S$75,0)+1))) -> #N/A | U34: =IF(U33="","",IF(U33=$T$21,"",IF(T34=$T$22,$T$21,T34))) -> #N/A | V34: =IF(U34="","",VLOOKUP(U34,$P$25:$S$75,4)) -> #N/A | W34: =IF(U34="","",VLOOKUP(U34,$K$25:$L$75,2)) -> #N/A | X34: =IF(OR(AND($A$11=4,$AB$18=2),AND($A$11=3,$T$23=2)),"",IF($A$11=3,V34,S34)) | Y34: =IF(OR(AND($A$11=4,$AB$18=2),AND($A$11=3,$T$23=2)),"",IF($A$11=3,W34,L34)) | Z34: =IF(X35="","",IF(X35-X34>180,X35-X34-360,IF(X35-X34<-180,X35-X34+360,X35-X34))) | AA34: =IF(Y35="","",IF(ABS(Y35-Y34)<=180,Y35-Y34,(360-ABS(Y35-Y34))*-SIGN(Y35-Y34))) | AB34: =IF(X35="","",7915.70447*LOG(TAN(RADIANS((45+X35/2)))/TAN(RADIANS((45+X34/2))))) | AC34: =IF(X35="","",7915.70446789782*LOG((TAN(RADIANS(45+X35/2))*(((1-0.0818191908426215*SIN(RADIANS(X35)))/(1+0.0818191908426215*SIN(RADIANS(X35))))^(0.0818191908426215/2)))/(TAN(RADIANS(45+X34/2))*(((1-0.0818191908426215*SIN(RADIANS(X34)))/(1+0.0818191908426215*SIN(RADIANS(X34))))^(0.0818191908426215/2))))) | AD34: =IF(X35="","",DEGREES(ATAN2(3437.74677078*(LN((TAN(RADIANS(45+X35/2)))/(TAN(RADIANS(45+X34/2)))))-((SIN(RADIANS(X35))-SIN(RADIANS(X34)))*23.0135831934767)-((SIN(RADIANS(X35))^3)-(SIN(RADIANS(X34))^3))*(0.051353890277194)-((SIN(RADIANS(X35))^5)-(SIN(RADIANS(X34))^5))*(0.000206269473292),AA34*60))) | AE34: =IF(X35="","",IF(AA34<0,360+DEGREES(ATAN2(Z34,AA34*COS(RADIANS((X35+X34)/2)))),DEGREES(ATAN2(Z34,AA34*COS(RADIANS((X35+X34)/2)))))) | AF34: =IF(X35="","",IF(AA34<0,360+DEGREES(ATAN2(AB34,AA34*60)),DEGREES(ATAN2(AB34,AA34*60)))) | AG34: =AF34 | AH34: =IF(X35="","",IF(AA34<0,360+DEGREES(ATAN2(AC34,(AA34*60))),DEGREES(ATAN2(AC34,(AA34*60))))) | AI34: =IF(AA34<0,360+AD34,AD34) | AJ34: =IF(X35="","",IF(Z34=0,(AA34*COS(RADIANS((X35+X34)/2)))*60/SIN(RADIANS(AE34)),Z34*60/COS(RADIANS(AE34)))) | AK34: =IF(X35="","",ABS(IF(Z34=0,(AA34)*60*COS(RADIANS(X34)),IF(AA34=0,(Z34*60),(Z34/COS(RADIANS(AF34)))*60)))) | AL34: =IF(AK34="","",AK34*1.00179527351758) | AM34: =IF(X35="","",ABS(IF(Z34=0,AA34*60*COS(RADIANS(X35)),(Z34/COS(RADIANS(AH34)))*60))) | AN34: =IF(X35="","",IF(Z34=0,ABS(AA34*60*COS(((ATAN(TAN(RADIANS(X35))*(1-0.08181919034^2)^0.5))))*1.001795274),IF(AA34=0,ABS(((60.006994*Z34)-8.660102*(SIN(RADIANS((2*X35)))-SIN(RADIANS((2*X34)))))),ABS((((60.006994*Z34)-8.660102*(SIN(RADIANS((2*X35)))-SIN(RADIANS((2*X34))))))/COS(RADIANS(AI34)))))) | AO34: =HLOOKUP($C$11,$AE$24:$AI$75,P34+1) | AP34: =IF(X35="","",IF($D$11=3,ROUND(AO34,),IF($D$11=2,0.5*ROUND(AO34/0.5,),ROUND(AO34,1)))) | AQ34: =IF(X35="","",IF(Z34=0,(AA34*COS(RADIANS((X35+X34)/2)))*60/SIN(RADIANS(AP34)),Z34*60/COS(RADIANS(AP34)))) | AR34: =IF(X35="","",ABS(IF(Z34=0,(AA34)*60*COS(RADIANS(X34)),IF(AA34=0,(Z34*60),(Z34/COS(RADIANS(AP34)))*60)))) | AS34: =IF(AR34="","",AR34*1.00179527351758) | AT34: =IF(X35="","",ABS(IF(Z34=0,AA34*60*COS(RADIANS(X35)),(Z34/COS(RADIANS(AP34)))*60))) | AU34: =IF(X35="","",IF(Z34=0,ABS(AA34*60*COS(((ATAN(TAN(RADIANS(X35))*(1-0.08181919034^2)^0.5))))*1.001795274),IF(AA34=0,ABS(((60.006994*Z34)-8.660102*(SIN(RADIANS((2*X35)))-SIN(RADIANS((2*X34)))))),ABS((((60.006994*Z34)-8.660102*(SIN(RADIANS((2*X35)))-SIN(RADIANS((2*X34))))))/COS(RADIANS(AP34)))))) | AV34: =IF($E$11=1,HLOOKUP($C$11,$AQ$24:$AU$75,P34+1),HLOOKUP($C$11,$AJ$24:$AN$75,P34+1)) | AW34: =IF(X34="","",TRUNC(X34)*100+(X34-TRUNC(X34))*60) | AX34: =IF(Y34="","",TRUNC(Y34)*100+(Y34-TRUNC(Y34))*60) | AY34: =IF(AP34="","",AP34) | AZ34: =IF(AV34="","",ROUND(AV34,2)) | BA34: =IF(AW35="","",BA33-AZ33) | BC34: =IF(AA33="","",BC33+1) | BD34: =IF(AA33="",BD33,BD33+AA33) -> 95 | BE34: =IF(Z33="",BE33,Z33+BE33) -> -11.333333 | BH34: =IF(AA33="",BH33,BH33+AA33) -> 95 | BI34: =IF(X34="",BI33,X34*(1/COS(RADIANS(X34)))) -> 42.727111
A35: 11 | B35: =IF($E$14>0,IF(B34+$I$14>180,B34+$I$14-360,IF(B34+$I$14<-180,B34+$I$14+360,B34+$I$14)),IF(B34-$I$14>180,B34-$I$14-360,IF(B34-$I$14<-180,B34-$I$14+360,B34-$I$14))) -> -170 | C35: =IF(OR(C34="",C34=$C$15),"",IF(B35=$I$16,$I$16,IF(C34=$I$16,$C$15,B35))) -> -170 | D35: =IF(OR(D34="",D34=$C$15),"",IF(D34=$W$16,$T$16,IF(D34=$T$16,$T$17,IF(D34=$T$17,$W$17,VLOOKUP(MATCH(D34,$C$25:$C$75,0)+1,$A$25:$C$75,3))))) -> -130 | F35: 11 | G35: =IF($E$14>0,IF(G34+$G$24>180,G34+$G$24-360,IF(G34+$G$24<-180,G34+$G$24+360,G34+$G$24)),IF(G34-$G$24>180,G34-$G$24-360,IF(G34-$G$24<-180,G34-$G$24+360,G34-$G$24))) -> 18 | H35: =IF(OR(H34="",F35=$I$14+1),"",G35) | I35: =IF(H35="","",TRUNC(H35)*100+(H35-TRUNC(H35))*60) | J35: =IF(I35="","",IF($G$12="X",H35,(TRUNC(I35/100)+(ROUND(((I35/100-TRUNC(I35/100))*100)/$G$12,)*$G$12)/60))) | K35: 11 | L35: =IF($A$11=1,C35,IF($A$11=3,D35,IF($A$11=4,"",J35))) | M35: =IF(L35="","",IF(OR($A$11=1,$A$11=2),$C$18-L35,IF(OR(L35=$T$16,L35=$T$17),0,IF(OR(M34=0,M34=$T$17-L34),$T$17-L35,$T$16-L35)))) | N35: =IF($A$11=4,"",IF(M35="","",IF(M36="",$B$15,DEGREES(ATAN(COS(RADIANS(M35))*TAN(RADIANS($B$18))))))) | O35: =IF(N35="","",TRUNC(N35)*100+(N35-TRUNC(N35))*60) | P35: 11 | Q35: =IF(O35="","",IF($B$11="X",N35,IF(O36="",$B$15,TRUNC(O35/100)+(ROUND(((O35/100-TRUNC(O35/100))*100)/$B$11,)*$B$11)/60))) | R35: =IF(Q35="","",TRUNC(Q35)*100+(Q35-TRUNC(Q35))*60) | S35: =IF(R35="","",TRUNC(R35/100)+(R35/100-TRUNC(R35/100))/0.6) | T35: =IF(OR(T34="",T34=$T$21),"",IF(T34=$T$19,$T$20,IF(T34>=$T$20,T34+1,MATCH(S34,$S$25:$S$75,0)+1))) -> #N/A | U35: =IF(U34="","",IF(U34=$T$21,"",IF(T35=$T$22,$T$21,T35))) -> #N/A | V35: =IF(U35="","",VLOOKUP(U35,$P$25:$S$75,4)) -> #N/A | W35: =IF(U35="","",VLOOKUP(U35,$K$25:$L$75,2)) -> #N/A | X35: =IF(OR(AND($A$11=4,$AB$18=2),AND($A$11=3,$T$23=2)),"",IF($A$11=3,V35,S35)) | Y35: =IF(OR(AND($A$11=4,$AB$18=2),AND($A$11=3,$T$23=2)),"",IF($A$11=3,W35,L35)) | Z35: =IF(X36="","",IF(X36-X35>180,X36-X35-360,IF(X36-X35<-180,X36-X35+360,X36-X35))) | AA35: =IF(Y36="","",IF(ABS(Y36-Y35)<=180,Y36-Y35,(360-ABS(Y36-Y35))*-SIGN(Y36-Y35))) | AB35: =IF(X36="","",7915.70447*LOG(TAN(RADIANS((45+X36/2)))/TAN(RADIANS((45+X35/2))))) | AC35: =IF(X36="","",7915.70446789782*LOG((TAN(RADIANS(45+X36/2))*(((1-0.0818191908426215*SIN(RADIANS(X36)))/(1+0.0818191908426215*SIN(RADIANS(X36))))^(0.0818191908426215/2)))/(TAN(RADIANS(45+X35/2))*(((1-0.0818191908426215*SIN(RADIANS(X35)))/(1+0.0818191908426215*SIN(RADIANS(X35))))^(0.0818191908426215/2))))) | AD35: =IF(X36="","",DEGREES(ATAN2(3437.74677078*(LN((TAN(RADIANS(45+X36/2)))/(TAN(RADIANS(45+X35/2)))))-((SIN(RADIANS(X36))-SIN(RADIANS(X35)))*23.0135831934767)-((SIN(RADIANS(X36))^3)-(SIN(RADIANS(X35))^3))*(0.051353890277194)-((SIN(RADIANS(X36))^5)-(SIN(RADIANS(X35))^5))*(0.000206269473292),AA35*60))) | AE35: =IF(X36="","",IF(AA35<0,360+DEGREES(ATAN2(Z35,AA35*COS(RADIANS((X36+X35)/2)))),DEGREES(ATAN2(Z35,AA35*COS(RADIANS((X36+X35)/2)))))) | AF35: =IF(X36="","",IF(AA35<0,360+DEGREES(ATAN2(AB35,AA35*60)),DEGREES(ATAN2(AB35,AA35*60)))) | AG35: =AF35 | AH35: =IF(X36="","",IF(AA35<0,360+DEGREES(ATAN2(AC35,(AA35*60))),DEGREES(ATAN2(AC35,(AA35*60))))) | AI35: =IF(AA35<0,360+AD35,AD35) | AJ35: =IF(X36="","",IF(Z35=0,(AA35*COS(RADIANS((X36+X35)/2)))*60/SIN(RADIANS(AE35)),Z35*60/COS(RADIANS(AE35)))) | AK35: =IF(X36="","",ABS(IF(Z35=0,(AA35)*60*COS(RADIANS(X35)),IF(AA35=0,(Z35*60),(Z35/COS(RADIANS(AF35)))*60)))) | AL35: =IF(AK35="","",AK35*1.00179527351758) | AM35: =IF(X36="","",ABS(IF(Z35=0,AA35*60*COS(RADIANS(X36)),(Z35/COS(RADIANS(AH35)))*60))) | AN35: =IF(X36="","",IF(Z35=0,ABS(AA35*60*COS(((ATAN(TAN(RADIANS(X36))*(1-0.08181919034^2)^0.5))))*1.001795274),IF(AA35=0,ABS(((60.006994*Z35)-8.660102*(SIN(RADIANS((2*X36)))-SIN(RADIANS((2*X35)))))),ABS((((60.006994*Z35)-8.660102*(SIN(RADIANS((2*X36)))-SIN(RADIANS((2*X35))))))/COS(RADIANS(AI35)))))) | AO35: =HLOOKUP($C$11,$AE$24:$AI$75,P35+1) | AP35: =IF(X36="","",IF($D$11=3,ROUND(AO35,),IF($D$11=2,0.5*ROUND(AO35/0.5,),ROUND(AO35,1)))) | AQ35: =IF(X36="","",IF(Z35=0,(AA35*COS(RADIANS((X36+X35)/2)))*60/SIN(RADIANS(AP35)),Z35*60/COS(RADIANS(AP35)))) | AR35: =IF(X36="","",ABS(IF(Z35=0,(AA35)*60*COS(RADIANS(X35)),IF(AA35=0,(Z35*60),(Z35/COS(RADIANS(AP35)))*60)))) | AS35: =IF(AR35="","",AR35*1.00179527351758) | AT35: =IF(X36="","",ABS(IF(Z35=0,AA35*60*COS(RADIANS(X36)),(Z35/COS(RADIANS(AP35)))*60))) | AU35: =IF(X36="","",IF(Z35=0,ABS(AA35*60*COS(((ATAN(TAN(RADIANS(X36))*(1-0.08181919034^2)^0.5))))*1.001795274),IF(AA35=0,ABS(((60.006994*Z35)-8.660102*(SIN(RADIANS((2*X36)))-SIN(RADIANS((2*X35)))))),ABS((((60.006994*Z35)-8.660102*(SIN(RADIANS((2*X36)))-SIN(RADIANS((2*X35))))))/COS(RADIANS(AP35)))))) | AV35: =IF($E$11=1,HLOOKUP($C$11,$AQ$24:$AU$75,P35+1),HLOOKUP($C$11,$AJ$24:$AN$75,P35+1)) | AW35: =IF(X35="","",TRUNC(X35)*100+(X35-TRUNC(X35))*60) | AX35: =IF(Y35="","",TRUNC(Y35)*100+(Y35-TRUNC(Y35))*60) | AY35: =IF(AP35="","",AP35) | AZ35: =IF(AV35="","",ROUND(AV35,2)) | BA35: =IF(AW36="","",BA34-AZ34) | BC35: =IF(AA34="","",BC34+1) | BD35: =IF(AA34="",BD34,BD34+AA34) -> 95 | BE35: =IF(Z34="",BE34,Z34+BE34) -> -11.333333 | BH35: =IF(AA34="",BH34,BH34+AA34) -> 95 | BI35: =IF(X35="",BI34,X35*(1/COS(RADIANS(X35)))) -> 42.727111
A36: 12 | B36: =IF($E$14>0,IF(B35+$I$14>180,B35+$I$14-360,IF(B35+$I$14<-180,B35+$I$14+360,B35+$I$14)),IF(B35-$I$14>180,B35-$I$14-360,IF(B35-$I$14<-180,B35-$I$14+360,B35-$I$14))) -> -165 | C36: =IF(OR(C35="",C35=$C$15),"",IF(B36=$I$16,$I$16,IF(C35=$I$16,$C$15,B36))) -> -165 | D36: =IF(OR(D35="",D35=$C$15),"",IF(D35=$W$16,$T$16,IF(D35=$T$16,$T$17,IF(D35=$T$17,$W$17,VLOOKUP(MATCH(D35,$C$25:$C$75,0)+1,$A$25:$C$75,3))))) -> -125 | F36: 12 | G36: =IF($E$14>0,IF(G35+$G$24>180,G35+$G$24-360,IF(G35+$G$24<-180,G35+$G$24+360,G35+$G$24)),IF(G35-$G$24>180,G35-$G$24-360,IF(G35-$G$24<-180,G35-$G$24+360,G35-$G$24))) -> 41.75 | H36: =IF(OR(H35="",F36=$I$14+1),"",G36) | I36: =IF(H36="","",TRUNC(H36)*100+(H36-TRUNC(H36))*60) | J36: =IF(I36="","",IF($G$12="X",H36,(TRUNC(I36/100)+(ROUND(((I36/100-TRUNC(I36/100))*100)/$G$12,)*$G$12)/60))) | K36: 12 | L36: =IF($A$11=1,C36,IF($A$11=3,D36,IF($A$11=4,"",J36))) | M36: =IF(L36="","",IF(OR($A$11=1,$A$11=2),$C$18-L36,IF(OR(L36=$T$16,L36=$T$17),0,IF(OR(M35=0,M35=$T$17-L35),$T$17-L36,$T$16-L36)))) | N36: =IF($A$11=4,"",IF(M36="","",IF(M37="",$B$15,DEGREES(ATAN(COS(RADIANS(M36))*TAN(RADIANS($B$18))))))) | O36: =IF(N36="","",TRUNC(N36)*100+(N36-TRUNC(N36))*60) | P36: 12 | Q36: =IF(O36="","",IF($B$11="X",N36,IF(O37="",$B$15,TRUNC(O36/100)+(ROUND(((O36/100-TRUNC(O36/100))*100)/$B$11,)*$B$11)/60))) | R36: =IF(Q36="","",TRUNC(Q36)*100+(Q36-TRUNC(Q36))*60) | S36: =IF(R36="","",TRUNC(R36/100)+(R36/100-TRUNC(R36/100))/0.6) | T36: =IF(OR(T35="",T35=$T$21),"",IF(T35=$T$19,$T$20,IF(T35>=$T$20,T35+1,MATCH(S35,$S$25:$S$75,0)+1))) -> #N/A | U36: =IF(U35="","",IF(U35=$T$21,"",IF(T36=$T$22,$T$21,T36))) -> #N/A | V36: =IF(U36="","",VLOOKUP(U36,$P$25:$S$75,4)) -> #N/A | W36: =IF(U36="","",VLOOKUP(U36,$K$25:$L$75,2)) -> #N/A | X36: =IF(OR(AND($A$11=4,$AB$18=2),AND($A$11=3,$T$23=2)),"",IF($A$11=3,V36,S36)) | Y36: =IF(OR(AND($A$11=4,$AB$18=2),AND($A$11=3,$T$23=2)),"",IF($A$11=3,W36,L36)) | Z36: =IF(X37="","",IF(X37-X36>180,X37-X36-360,IF(X37-X36<-180,X37-X36+360,X37-X36))) | AA36: =IF(Y37="","",IF(ABS(Y37-Y36)<=180,Y37-Y36,(360-ABS(Y37-Y36))*-SIGN(Y37-Y36))) | AB36: =IF(X37="","",7915.70447*LOG(TAN(RADIANS((45+X37/2)))/TAN(RADIANS((45+X36/2))))) | AC36: =IF(X37="","",7915.70446789782*LOG((TAN(RADIANS(45+X37/2))*(((1-0.0818191908426215*SIN(RADIANS(X37)))/(1+0.0818191908426215*SIN(RADIANS(X37))))^(0.0818191908426215/2)))/(TAN(RADIANS(45+X36/2))*(((1-0.0818191908426215*SIN(RADIANS(X36)))/(1+0.0818191908426215*SIN(RADIANS(X36))))^(0.0818191908426215/2))))) | AD36: =IF(X37="","",DEGREES(ATAN2(3437.74677078*(LN((TAN(RADIANS(45+X37/2)))/(TAN(RADIANS(45+X36/2)))))-((SIN(RADIANS(X37))-SIN(RADIANS(X36)))*23.0135831934767)-((SIN(RADIANS(X37))^3)-(SIN(RADIANS(X36))^3))*(0.051353890277194)-((SIN(RADIANS(X37))^5)-(SIN(RADIANS(X36))^5))*(0.000206269473292),AA36*60))) | AE36: =IF(X37="","",IF(AA36<0,360+DEGREES(ATAN2(Z36,AA36*COS(RADIANS((X37+X36)/2)))),DEGREES(ATAN2(Z36,AA36*COS(RADIANS((X37+X36)/2)))))) | AF36: =IF(X37="","",IF(AA36<0,360+DEGREES(ATAN2(AB36,AA36*60)),DEGREES(ATAN2(AB36,AA36*60)))) | AG36: =AF36 | AH36: =IF(X37="","",IF(AA36<0,360+DEGREES(ATAN2(AC36,(AA36*60))),DEGREES(ATAN2(AC36,(AA36*60))))) | AI36: =IF(AA36<0,360+AD36,AD36) | AJ36: =IF(X37="","",IF(Z36=0,(AA36*COS(RADIANS((X37+X36)/2)))*60/SIN(RADIANS(AE36)),Z36*60/COS(RADIANS(AE36)))) | AK36: =IF(X37="","",ABS(IF(Z36=0,(AA36)*60*COS(RADIANS(X36)),IF(AA36=0,(Z36*60),(Z36/COS(RADIANS(AF36)))*60)))) | AL36: =IF(AK36="","",AK36*1.00179527351758) | AM36: =IF(X37="","",ABS(IF(Z36=0,AA36*60*COS(RADIANS(X37)),(Z36/COS(RADIANS(AH36)))*60))) | AN36: =IF(X37="","",IF(Z36=0,ABS(AA36*60*COS(((ATAN(TAN(RADIANS(X37))*(1-0.08181919034^2)^0.5))))*1.001795274),IF(AA36=0,ABS(((60.006994*Z36)-8.660102*(SIN(RADIANS((2*X37)))-SIN(RADIANS((2*X36)))))),ABS((((60.006994*Z36)-8.660102*(SIN(RADIANS((2*X37)))-SIN(RADIANS((2*X36))))))/COS(RADIANS(AI36)))))) | AO36: =HLOOKUP($C$11,$AE$24:$AI$75,P36+1) | AP36: =IF(X37="","",IF($D$11=3,ROUND(AO36,),IF($D$11=2,0.5*ROUND(AO36/0.5,),ROUND(AO36,1)))) | AQ36: =IF(X37="","",IF(Z36=0,(AA36*COS(RADIANS((X37+X36)/2)))*60/SIN(RADIANS(AP36)),Z36*60/COS(RADIANS(AP36)))) | AR36: =IF(X37="","",ABS(IF(Z36=0,(AA36)*60*COS(RADIANS(X36)),IF(AA36=0,(Z36*60),(Z36/COS(RADIANS(AP36)))*60)))) | AS36: =IF(AR36="","",AR36*1.00179527351758) | AT36: =IF(X37="","",ABS(IF(Z36=0,AA36*60*COS(RADIANS(X37)),(Z36/COS(RADIANS(AP36)))*60))) | AU36: =IF(X37="","",IF(Z36=0,ABS(AA36*60*COS(((ATAN(TAN(RADIANS(X37))*(1-0.08181919034^2)^0.5))))*1.001795274),IF(AA36=0,ABS(((60.006994*Z36)-8.660102*(SIN(RADIANS((2*X37)))-SIN(RADIANS((2*X36)))))),ABS((((60.006994*Z36)-8.660102*(SIN(RADIANS((2*X37)))-SIN(RADIANS((2*X36))))))/COS(RADIANS(AP36)))))) | AV36: =IF($E$11=1,HLOOKUP($C$11,$AQ$24:$AU$75,P36+1),HLOOKUP($C$11,$AJ$24:$AN$75,P36+1)) | AW36: =IF(X36="","",TRUNC(X36)*100+(X36-TRUNC(X36))*60) | AX36: =IF(Y36="","",TRUNC(Y36)*100+(Y36-TRUNC(Y36))*60) | AY36: =IF(AP36="","",AP36) | AZ36: =IF(AV36="","",ROUND(AV36,2)) | BA36: =IF(AW37="","",BA35-AZ35) | BC36: =IF(AA35="","",BC35+1) | BD36: =IF(AA35="",BD35,BD35+AA35) -> 95 | BE36: =IF(Z35="",BE35,Z35+BE35) -> -11.333333 | BH36: =IF(AA35="",BH35,BH35+AA35) -> 95 | BI36: =IF(X36="",BI35,X36*(1/COS(RADIANS(X36)))) -> 42.727111
A37: 13 | B37: =IF($E$14>0,IF(B36+$I$14>180,B36+$I$14-360,IF(B36+$I$14<-180,B36+$I$14+360,B36+$I$14)),IF(B36-$I$14>180,B36-$I$14-360,IF(B36-$I$14<-180,B36-$I$14+360,B36-$I$14))) -> -160 | C37: =IF(OR(C36="",C36=$C$15),"",IF(B37=$I$16,$I$16,IF(C36=$I$16,$C$15,B37))) -> -160 | D37: =IF(OR(D36="",D36=$C$15),"",IF(D36=$W$16,$T$16,IF(D36=$T$16,$T$17,IF(D36=$T$17,$W$17,VLOOKUP(MATCH(D36,$C$25:$C$75,0)+1,$A$25:$C$75,3))))) -> -124.5 | F37: 13 | G37: =IF($E$14>0,IF(G36+$G$24>180,G36+$G$24-360,IF(G36+$G$24<-180,G36+$G$24+360,G36+$G$24)),IF(G36-$G$24>180,G36-$G$24-360,IF(G36-$G$24<-180,G36-$G$24+360,G36-$G$24))) -> 65.5 | H37: =IF(OR(H36="",F37=$I$14+1),"",G37) | I37: =IF(H37="","",TRUNC(H37)*100+(H37-TRUNC(H37))*60) | J37: =IF(I37="","",IF($G$12="X",H37,(TRUNC(I37/100)+(ROUND(((I37/100-TRUNC(I37/100))*100)/$G$12,)*$G$12)/60))) | K37: 13 | L37: =IF($A$11=1,C37,IF($A$11=3,D37,IF($A$11=4,"",J37))) | M37: =IF(L37="","",IF(OR($A$11=1,$A$11=2),$C$18-L37,IF(OR(L37=$T$16,L37=$T$17),0,IF(OR(M36=0,M36=$T$17-L36),$T$17-L37,$T$16-L37)))) | N37: =IF($A$11=4,"",IF(M37="","",IF(M38="",$B$15,DEGREES(ATAN(COS(RADIANS(M37))*TAN(RADIANS($B$18))))))) | O37: =IF(N37="","",TRUNC(N37)*100+(N37-TRUNC(N37))*60) | P37: 13 | Q37: =IF(O37="","",IF($B$11="X",N37,IF(O38="",$B$15,TRUNC(O37/100)+(ROUND(((O37/100-TRUNC(O37/100))*100)/$B$11,)*$B$11)/60))) | R37: =IF(Q37="","",TRUNC(Q37)*100+(Q37-TRUNC(Q37))*60) | S37: =IF(R37="","",TRUNC(R37/100)+(R37/100-TRUNC(R37/100))/0.6) | T37: =IF(OR(T36="",T36=$T$21),"",IF(T36=$T$19,$T$20,IF(T36>=$T$20,T36+1,MATCH(S36,$S$25:$S$75,0)+1))) -> #N/A | U37: =IF(U36="","",IF(U36=$T$21,"",IF(T37=$T$22,$T$21,T37))) -> #N/A | V37: =IF(U37="","",VLOOKUP(U37,$P$25:$S$75,4)) -> #N/A | W37: =IF(U37="","",VLOOKUP(U37,$K$25:$L$75,2)) -> #N/A | X37: =IF(OR(AND($A$11=4,$AB$18=2),AND($A$11=3,$T$23=2)),"",IF($A$11=3,V37,S37)) | Y37: =IF(OR(AND($A$11=4,$AB$18=2),AND($A$11=3,$T$23=2)),"",IF($A$11=3,W37,L37)) | Z37: =IF(X38="","",IF(X38-X37>180,X38-X37-360,IF(X38-X37<-180,X38-X37+360,X38-X37))) | AA37: =IF(Y38="","",IF(ABS(Y38-Y37)<=180,Y38-Y37,(360-ABS(Y38-Y37))*-SIGN(Y38-Y37))) | AB37: =IF(X38="","",7915.70447*LOG(TAN(RADIANS((45+X38/2)))/TAN(RADIANS((45+X37/2))))) | AC37: =IF(X38="","",7915.70446789782*LOG((TAN(RADIANS(45+X38/2))*(((1-0.0818191908426215*SIN(RADIANS(X38)))/(1+0.0818191908426215*SIN(RADIANS(X38))))^(0.0818191908426215/2)))/(TAN(RADIANS(45+X37/2))*(((1-0.0818191908426215*SIN(RADIANS(X37)))/(1+0.0818191908426215*SIN(RADIANS(X37))))^(0.0818191908426215/2))))) | AD37: =IF(X38="","",DEGREES(ATAN2(3437.74677078*(LN((TAN(RADIANS(45+X38/2)))/(TAN(RADIANS(45+X37/2)))))-((SIN(RADIANS(X38))-SIN(RADIANS(X37)))*23.0135831934767)-((SIN(RADIANS(X38))^3)-(SIN(RADIANS(X37))^3))*(0.051353890277194)-((SIN(RADIANS(X38))^5)-(SIN(RADIANS(X37))^5))*(0.000206269473292),AA37*60))) | AE37: =IF(X38="","",IF(AA37<0,360+DEGREES(ATAN2(Z37,AA37*COS(RADIANS((X38+X37)/2)))),DEGREES(ATAN2(Z37,AA37*COS(RADIANS((X38+X37)/2)))))) | AF37: =IF(X38="","",IF(AA37<0,360+DEGREES(ATAN2(AB37,AA37*60)),DEGREES(ATAN2(AB37,AA37*60)))) | AG37: =AF37 | AH37: =IF(X38="","",IF(AA37<0,360+DEGREES(ATAN2(AC37,(AA37*60))),DEGREES(ATAN2(AC37,(AA37*60))))) | AI37: =IF(AA37<0,360+AD37,AD37) | AJ37: =IF(X38="","",IF(Z37=0,(AA37*COS(RADIANS((X38+X37)/2)))*60/SIN(RADIANS(AE37)),Z37*60/COS(RADIANS(AE37)))) | AK37: =IF(X38="","",ABS(IF(Z37=0,(AA37)*60*COS(RADIANS(X37)),IF(AA37=0,(Z37*60),(Z37/COS(RADIANS(AF37)))*60)))) | AL37: =IF(AK37="","",AK37*1.00179527351758) | AM37: =IF(X38="","",ABS(IF(Z37=0,AA37*60*COS(RADIANS(X38)),(Z37/COS(RADIANS(AH37)))*60))) | AN37: =IF(X38="","",IF(Z37=0,ABS(AA37*60*COS(((ATAN(TAN(RADIANS(X38))*(1-0.08181919034^2)^0.5))))*1.001795274),IF(AA37=0,ABS(((60.006994*Z37)-8.660102*(SIN(RADIANS((2*X38)))-SIN(RADIANS((2*X37)))))),ABS((((60.006994*Z37)-8.660102*(SIN(RADIANS((2*X38)))-SIN(RADIANS((2*X37))))))/COS(RADIANS(AI37)))))) | AO37: =HLOOKUP($C$11,$AE$24:$AI$75,P37+1) | AP37: =IF(X38="","",IF($D$11=3,ROUND(AO37,),IF($D$11=2,0.5*ROUND(AO37/0.5,),ROUND(AO37,1)))) | AQ37: =IF(X38="","",IF(Z37=0,(AA37*COS(RADIANS((X38+X37)/2)))*60/SIN(RADIANS(AP37)),Z37*60/COS(RADIANS(AP37)))) | AR37: =IF(X38="","",ABS(IF(Z37=0,(AA37)*60*COS(RADIANS(X37)),IF(AA37=0,(Z37*60),(Z37/COS(RADIANS(AP37)))*60)))) | AS37: =IF(AR37="","",AR37*1.00179527351758) | AT37: =IF(X38="","",ABS(IF(Z37=0,AA37*60*COS(RADIANS(X38)),(Z37/COS(RADIANS(AP37)))*60))) | AU37: =IF(X38="","",IF(Z37=0,ABS(AA37*60*COS(((ATAN(TAN(RADIANS(X38))*(1-0.08181919034^2)^0.5))))*1.001795274),IF(AA37=0,ABS(((60.006994*Z37)-8.660102*(SIN(RADIANS((2*X38)))-SIN(RADIANS((2*X37)))))),ABS((((60.006994*Z37)-8.660102*(SIN(RADIANS((2*X38)))-SIN(RADIANS((2*X37))))))/COS(RADIANS(AP37)))))) | AV37: =IF($E$11=1,HLOOKUP($C$11,$AQ$24:$AU$75,P37+1),HLOOKUP($C$11,$AJ$24:$AN$75,P37+1)) | AW37: =IF(X37="","",TRUNC(X37)*100+(X37-TRUNC(X37))*60) | AX37: =IF(Y37="","",TRUNC(Y37)*100+(Y37-TRUNC(Y37))*60) | AY37: =IF(AP37="","",AP37) | AZ37: =IF(AV37="","",ROUND(AV37,2)) | BA37: =IF(AW38="","",BA36-AZ36) | BC37: =IF(AA36="","",BC36+1) | BD37: =IF(AA36="",BD36,BD36+AA36) -> 95 | BE37: =IF(Z36="",BE36,Z36+BE36) -> -11.333333 | BH37: =IF(AA36="",BH36,BH36+AA36) -> 95 | BI37: =IF(X37="",BI36,X37*(1/COS(RADIANS(X37)))) -> 42.727111
A38: 14 | B38: =IF($E$14>0,IF(B37+$I$14>180,B37+$I$14-360,IF(B37+$I$14<-180,B37+$I$14+360,B37+$I$14)),IF(B37-$I$14>180,B37-$I$14-360,IF(B37-$I$14<-180,B37-$I$14+360,B37-$I$14))) -> -155 | C38: =IF(OR(C37="",C37=$C$15),"",IF(B38=$I$16,$I$16,IF(C37=$I$16,$C$15,B38))) -> -155 | D38: =IF(OR(D37="",D37=$C$15),"",IF(D37=$W$16,$T$16,IF(D37=$T$16,$T$17,IF(D37=$T$17,$W$17,VLOOKUP(MATCH(D37,$C$25:$C$75,0)+1,$A$25:$C$75,3))))) | F38: 14 | G38: =IF($E$14>0,IF(G37+$G$24>180,G37+$G$24-360,IF(G37+$G$24<-180,G37+$G$24+360,G37+$G$24)),IF(G37-$G$24>180,G37-$G$24-360,IF(G37-$G$24<-180,G37-$G$24+360,G37-$G$24))) -> 89.25 | H38: =IF(OR(H37="",F38=$I$14+1),"",G38) | I38: =IF(H38="","",TRUNC(H38)*100+(H38-TRUNC(H38))*60) | J38: =IF(I38="","",IF($G$12="X",H38,(TRUNC(I38/100)+(ROUND(((I38/100-TRUNC(I38/100))*100)/$G$12,)*$G$12)/60))) | K38: 14 | L38: =IF($A$11=1,C38,IF($A$11=3,D38,IF($A$11=4,"",J38))) | M38: =IF(L38="","",IF(OR($A$11=1,$A$11=2),$C$18-L38,IF(OR(L38=$T$16,L38=$T$17),0,IF(OR(M37=0,M37=$T$17-L37),$T$17-L38,$T$16-L38)))) | N38: =IF($A$11=4,"",IF(M38="","",IF(M39="",$B$15,DEGREES(ATAN(COS(RADIANS(M38))*TAN(RADIANS($B$18))))))) | O38: =IF(N38="","",TRUNC(N38)*100+(N38-TRUNC(N38))*60) | P38: 14 | Q38: =IF(O38="","",IF($B$11="X",N38,IF(O39="",$B$15,TRUNC(O38/100)+(ROUND(((O38/100-TRUNC(O38/100))*100)/$B$11,)*$B$11)/60))) | R38: =IF(Q38="","",TRUNC(Q38)*100+(Q38-TRUNC(Q38))*60) | S38: =IF(R38="","",TRUNC(R38/100)+(R38/100-TRUNC(R38/100))/0.6) | T38: =IF(OR(T37="",T37=$T$21),"",IF(T37=$T$19,$T$20,IF(T37>=$T$20,T37+1,MATCH(S37,$S$25:$S$75,0)+1))) -> #N/A | U38: =IF(U37="","",IF(U37=$T$21,"",IF(T38=$T$22,$T$21,T38))) -> #N/A | V38: =IF(U38="","",VLOOKUP(U38,$P$25:$S$75,4)) -> #N/A | W38: =IF(U38="","",VLOOKUP(U38,$K$25:$L$75,2)) -> #N/A | X38: =IF(OR(AND($A$11=4,$AB$18=2),AND($A$11=3,$T$23=2)),"",IF($A$11=3,V38,S38)) | Y38: =IF(OR(AND($A$11=4,$AB$18=2),AND($A$11=3,$T$23=2)),"",IF($A$11=3,W38,L38)) | Z38: =IF(X39="","",IF(X39-X38>180,X39-X38-360,IF(X39-X38<-180,X39-X38+360,X39-X38))) | AA38: =IF(Y39="","",IF(ABS(Y39-Y38)<=180,Y39-Y38,(360-ABS(Y39-Y38))*-SIGN(Y39-Y38))) | AB38: =IF(X39="","",7915.70447*LOG(TAN(RADIANS((45+X39/2)))/TAN(RADIANS((45+X38/2))))) | AC38: =IF(X39="","",7915.70446789782*LOG((TAN(RADIANS(45+X39/2))*(((1-0.0818191908426215*SIN(RADIANS(X39)))/(1+0.0818191908426215*SIN(RADIANS(X39))))^(0.0818191908426215/2)))/(TAN(RADIANS(45+X38/2))*(((1-0.0818191908426215*SIN(RADIANS(X38)))/(1+0.0818191908426215*SIN(RADIANS(X38))))^(0.0818191908426215/2))))) | AD38: =IF(X39="","",DEGREES(ATAN2(3437.74677078*(LN((TAN(RADIANS(45+X39/2)))/(TAN(RADIANS(45+X38/2)))))-((SIN(RADIANS(X39))-SIN(RADIANS(X38)))*23.0135831934767)-((SIN(RADIANS(X39))^3)-(SIN(RADIANS(X38))^3))*(0.051353890277194)-((SIN(RADIANS(X39))^5)-(SIN(RADIANS(X38))^5))*(0.000206269473292),AA38*60))) | AE38: =IF(X39="","",IF(AA38<0,360+DEGREES(ATAN2(Z38,AA38*COS(RADIANS((X39+X38)/2)))),DEGREES(ATAN2(Z38,AA38*COS(RADIANS((X39+X38)/2)))))) | AF38: =IF(X39="","",IF(AA38<0,360+DEGREES(ATAN2(AB38,AA38*60)),DEGREES(ATAN2(AB38,AA38*60)))) | AG38: =AF38 | AH38: =IF(X39="","",IF(AA38<0,360+DEGREES(ATAN2(AC38,(AA38*60))),DEGREES(ATAN2(AC38,(AA38*60))))) | AI38: =IF(AA38<0,360+AD38,AD38) | AJ38: =IF(X39="","",IF(Z38=0,(AA38*COS(RADIANS((X39+X38)/2)))*60/SIN(RADIANS(AE38)),Z38*60/COS(RADIANS(AE38)))) | AK38: =IF(X39="","",ABS(IF(Z38=0,(AA38)*60*COS(RADIANS(X38)),IF(AA38=0,(Z38*60),(Z38/COS(RADIANS(AF38)))*60)))) | AL38: =IF(AK38="","",AK38*1.00179527351758) | AM38: =IF(X39="","",ABS(IF(Z38=0,AA38*60*COS(RADIANS(X39)),(Z38/COS(RADIANS(AH38)))*60))) | AN38: =IF(X39="","",IF(Z38=0,ABS(AA38*60*COS(((ATAN(TAN(RADIANS(X39))*(1-0.08181919034^2)^0.5))))*1.001795274),IF(AA38=0,ABS(((60.006994*Z38)-8.660102*(SIN(RADIANS((2*X39)))-SIN(RADIANS((2*X38)))))),ABS((((60.006994*Z38)-8.660102*(SIN(RADIANS((2*X39)))-SIN(RADIANS((2*X38))))))/COS(RADIANS(AI38)))))) | AO38: =HLOOKUP($C$11,$AE$24:$AI$75,P38+1) | AP38: =IF(X39="","",IF($D$11=3,ROUND(AO38,),IF($D$11=2,0.5*ROUND(AO38/0.5,),ROUND(AO38,1)))) | AQ38: =IF(X39="","",IF(Z38=0,(AA38*COS(RADIANS((X39+X38)/2)))*60/SIN(RADIANS(AP38)),Z38*60/COS(RADIANS(AP38)))) | AR38: =IF(X39="","",ABS(IF(Z38=0,(AA38)*60*COS(RADIANS(X38)),IF(AA38=0,(Z38*60),(Z38/COS(RADIANS(AP38)))*60)))) | AS38: =IF(AR38="","",AR38*1.00179527351758) | AT38: =IF(X39="","",ABS(IF(Z38=0,AA38*60*COS(RADIANS(X39)),(Z38/COS(RADIANS(AP38)))*60))) | AU38: =IF(X39="","",IF(Z38=0,ABS(AA38*60*COS(((ATAN(TAN(RADIANS(X39))*(1-0.08181919034^2)^0.5))))*1.001795274),IF(AA38=0,ABS(((60.006994*Z38)-8.660102*(SIN(RADIANS((2*X39)))-SIN(RADIANS((2*X38)))))),ABS((((60.006994*Z38)-8.660102*(SIN(RADIANS((2*X39)))-SIN(RADIANS((2*X38))))))/COS(RADIANS(AP38)))))) | AV38: =IF($E$11=1,HLOOKUP($C$11,$AQ$24:$AU$75,P38+1),HLOOKUP($C$11,$AJ$24:$AN$75,P38+1)) | AW38: =IF(X38="","",TRUNC(X38)*100+(X38-TRUNC(X38))*60) | AX38: =IF(Y38="","",TRUNC(Y38)*100+(Y38-TRUNC(Y38))*60) | AY38: =IF(AP38="","",AP38) | AZ38: =IF(AV38="","",ROUND(AV38,2)) | BA38: =IF(AW39="","",BA37-AZ37) | BC38: =IF(AA37="","",BC37+1) | BD38: =IF(AA37="",BD37,BD37+AA37) -> 95 | BE38: =IF(Z37="",BE37,Z37+BE37) -> -11.333333 | BH38: =IF(AA37="",BH37,BH37+AA37) -> 95 | BI38: =IF(X38="",BI37,X38*(1/COS(RADIANS(X38)))) -> 42.727111
A39: 15 | B39: =IF($E$14>0,IF(B38+$I$14>180,B38+$I$14-360,IF(B38+$I$14<-180,B38+$I$14+360,B38+$I$14)),IF(B38-$I$14>180,B38-$I$14-360,IF(B38-$I$14<-180,B38-$I$14+360,B38-$I$14))) -> -150 | C39: =IF(OR(C38="",C38=$C$15),"",IF(B39=$I$16,$I$16,IF(C38=$I$16,$C$15,B39))) -> -150 | D39: =IF(OR(D38="",D38=$C$15),"",IF(D38=$W$16,$T$16,IF(D38=$T$16,$T$17,IF(D38=$T$17,$W$17,VLOOKUP(MATCH(D38,$C$25:$C$75,0)+1,$A$25:$C$75,3))))) | F39: 15 | G39: =IF($E$14>0,IF(G38+$G$24>180,G38+$G$24-360,IF(G38+$G$24<-180,G38+$G$24+360,G38+$G$24)),IF(G38-$G$24>180,G38-$G$24-360,IF(G38-$G$24<-180,G38-$G$24+360,G38-$G$24))) -> 113 | H39: =IF(OR(H38="",F39=$I$14+1),"",G39) | I39: =IF(H39="","",TRUNC(H39)*100+(H39-TRUNC(H39))*60) | J39: =IF(I39="","",IF($G$12="X",H39,(TRUNC(I39/100)+(ROUND(((I39/100-TRUNC(I39/100))*100)/$G$12,)*$G$12)/60))) | K39: 15 | L39: =IF($A$11=1,C39,IF($A$11=3,D39,IF($A$11=4,"",J39))) | M39: =IF(L39="","",IF(OR($A$11=1,$A$11=2),$C$18-L39,IF(OR(L39=$T$16,L39=$T$17),0,IF(OR(M38=0,M38=$T$17-L38),$T$17-L39,$T$16-L39)))) | N39: =IF($A$11=4,"",IF(M39="","",IF(M40="",$B$15,DEGREES(ATAN(COS(RADIANS(M39))*TAN(RADIANS($B$18))))))) | O39: =IF(N39="","",TRUNC(N39)*100+(N39-TRUNC(N39))*60) | P39: 15 | Q39: =IF(O39="","",IF($B$11="X",N39,IF(O40="",$B$15,TRUNC(O39/100)+(ROUND(((O39/100-TRUNC(O39/100))*100)/$B$11,)*$B$11)/60))) | R39: =IF(Q39="","",TRUNC(Q39)*100+(Q39-TRUNC(Q39))*60) | S39: =IF(R39="","",TRUNC(R39/100)+(R39/100-TRUNC(R39/100))/0.6) | T39: =IF(OR(T38="",T38=$T$21),"",IF(T38=$T$19,$T$20,IF(T38>=$T$20,T38+1,MATCH(S38,$S$25:$S$75,0)+1))) -> #N/A | U39: =IF(U38="","",IF(U38=$T$21,"",IF(T39=$T$22,$T$21,T39))) -> #N/A | V39: =IF(U39="","",VLOOKUP(U39,$P$25:$S$75,4)) -> #N/A | W39: =IF(U39="","",VLOOKUP(U39,$K$25:$L$75,2)) -> #N/A | X39: =IF(OR(AND($A$11=4,$AB$18=2),AND($A$11=3,$T$23=2)),"",IF($A$11=3,V39,S39)) | Y39: =IF(OR(AND($A$11=4,$AB$18=2),AND($A$11=3,$T$23=2)),"",IF($A$11=3,W39,L39)) | Z39: =IF(X40="","",IF(X40-X39>180,X40-X39-360,IF(X40-X39<-180,X40-X39+360,X40-X39))) | AA39: =IF(Y40="","",IF(ABS(Y40-Y39)<=180,Y40-Y39,(360-ABS(Y40-Y39))*-SIGN(Y40-Y39))) | AB39: =IF(X40="","",7915.70447*LOG(TAN(RADIANS((45+X40/2)))/TAN(RADIANS((45+X39/2))))) | AC39: =IF(X40="","",7915.70446789782*LOG((TAN(RADIANS(45+X40/2))*(((1-0.0818191908426215*SIN(RADIANS(X40)))/(1+0.0818191908426215*SIN(RADIANS(X40))))^(0.0818191908426215/2)))/(TAN(RADIANS(45+X39/2))*(((1-0.0818191908426215*SIN(RADIANS(X39)))/(1+0.0818191908426215*SIN(RADIANS(X39))))^(0.0818191908426215/2))))) | AD39: =IF(X40="","",DEGREES(ATAN2(3437.74677078*(LN((TAN(RADIANS(45+X40/2)))/(TAN(RADIANS(45+X39/2)))))-((SIN(RADIANS(X40))-SIN(RADIANS(X39)))*23.0135831934767)-((SIN(RADIANS(X40))^3)-(SIN(RADIANS(X39))^3))*(0.051353890277194)-((SIN(RADIANS(X40))^5)-(SIN(RADIANS(X39))^5))*(0.000206269473292),AA39*60))) | AE39: =IF(X40="","",IF(AA39<0,360+DEGREES(ATAN2(Z39,AA39*COS(RADIANS((X40+X39)/2)))),DEGREES(ATAN2(Z39,AA39*COS(RADIANS((X40+X39)/2)))))) | AF39: =IF(X40="","",IF(AA39<0,360+DEGREES(ATAN2(AB39,AA39*60)),DEGREES(ATAN2(AB39,AA39*60)))) | AG39: =AF39 | AH39: =IF(X40="","",IF(AA39<0,360+DEGREES(ATAN2(AC39,(AA39*60))),DEGREES(ATAN2(AC39,(AA39*60))))) | AI39: =IF(AA39<0,360+AD39,AD39) | AJ39: =IF(X40="","",IF(Z39=0,(AA39*COS(RADIANS((X40+X39)/2)))*60/SIN(RADIANS(AE39)),Z39*60/COS(RADIANS(AE39)))) | AK39: =IF(X40="","",ABS(IF(Z39=0,(AA39)*60*COS(RADIANS(X39)),IF(AA39=0,(Z39*60),(Z39/COS(RADIANS(AF39)))*60)))) | AL39: =IF(AK39="","",AK39*1.00179527351758) | AM39: =IF(X40="","",ABS(IF(Z39=0,AA39*60*COS(RADIANS(X40)),(Z39/COS(RADIANS(AH39)))*60))) | AN39: =IF(X40="","",IF(Z39=0,ABS(AA39*60*COS(((ATAN(TAN(RADIANS(X40))*(1-0.08181919034^2)^0.5))))*1.001795274),IF(AA39=0,ABS(((60.006994*Z39)-8.660102*(SIN(RADIANS((2*X40)))-SIN(RADIANS((2*X39)))))),ABS((((60.006994*Z39)-8.660102*(SIN(RADIANS((2*X40)))-SIN(RADIANS((2*X39))))))/COS(RADIANS(AI39)))))) | AO39: =HLOOKUP($C$11,$AE$24:$AI$75,P39+1) | AP39: =IF(X40="","",IF($D$11=3,ROUND(AO39,),IF($D$11=2,0.5*ROUND(AO39/0.5,),ROUND(AO39,1)))) | AQ39: =IF(X40="","",IF(Z39=0,(AA39*COS(RADIANS((X40+X39)/2)))*60/SIN(RADIANS(AP39)),Z39*60/COS(RADIANS(AP39)))) | AR39: =IF(X40="","",ABS(IF(Z39=0,(AA39)*60*COS(RADIANS(X39)),IF(AA39=0,(Z39*60),(Z39/COS(RADIANS(AP39)))*60)))) | AS39: =IF(AR39="","",AR39*1.00179527351758) | AT39: =IF(X40="","",ABS(IF(Z39=0,AA39*60*COS(RADIANS(X40)),(Z39/COS(RADIANS(AP39)))*60))) | AU39: =IF(X40="","",IF(Z39=0,ABS(AA39*60*COS(((ATAN(TAN(RADIANS(X40))*(1-0.08181919034^2)^0.5))))*1.001795274),IF(AA39=0,ABS(((60.006994*Z39)-8.660102*(SIN(RADIANS((2*X40)))-SIN(RADIANS((2*X39)))))),ABS((((60.006994*Z39)-8.660102*(SIN(RADIANS((2*X40)))-SIN(RADIANS((2*X39))))))/COS(RADIANS(AP39)))))) | AV39: =IF($E$11=1,HLOOKUP($C$11,$AQ$24:$AU$75,P39+1),HLOOKUP($C$11,$AJ$24:$AN$75,P39+1)) | AW39: =IF(X39="","",TRUNC(X39)*100+(X39-TRUNC(X39))*60) | AX39: =IF(Y39="","",TRUNC(Y39)*100+(Y39-TRUNC(Y39))*60) | AY39: =IF(AP39="","",AP39) | AZ39: =IF(AV39="","",ROUND(AV39,2)) | BA39: =IF(AW40="","",BA38-AZ38) | BC39: =IF(AA38="","",BC38+1) | BD39: =IF(AA38="",BD38,BD38+AA38) -> 95 | BE39: =IF(Z38="",BE38,Z38+BE38) -> -11.333333 | BH39: =IF(AA38="",BH38,BH38+AA38) -> 95 | BI39: =IF(X39="",BI38,X39*(1/COS(RADIANS(X39)))) -> 42.727111
A40: 16 | B40: =IF($E$14>0,IF(B39+$I$14>180,B39+$I$14-360,IF(B39+$I$14<-180,B39+$I$14+360,B39+$I$14)),IF(B39-$I$14>180,B39-$I$14-360,IF(B39-$I$14<-180,B39-$I$14+360,B39-$I$14))) -> -145 | C40: =IF(OR(C39="",C39=$C$15),"",IF(B40=$I$16,$I$16,IF(C39=$I$16,$C$15,B40))) -> -145 | D40: =IF(OR(D39="",D39=$C$15),"",IF(D39=$W$16,$T$16,IF(D39=$T$16,$T$17,IF(D39=$T$17,$W$17,VLOOKUP(MATCH(D39,$C$25:$C$75,0)+1,$A$25:$C$75,3))))) | F40: 16 | G40: =IF($E$14>0,IF(G39+$G$24>180,G39+$G$24-360,IF(G39+$G$24<-180,G39+$G$24+360,G39+$G$24)),IF(G39-$G$24>180,G39-$G$24-360,IF(G39-$G$24<-180,G39-$G$24+360,G39-$G$24))) -> 136.75 | H40: =IF(OR(H39="",F40=$I$14+1),"",G40) | I40: =IF(H40="","",TRUNC(H40)*100+(H40-TRUNC(H40))*60) | J40: =IF(I40="","",IF($G$12="X",H40,(TRUNC(I40/100)+(ROUND(((I40/100-TRUNC(I40/100))*100)/$G$12,)*$G$12)/60))) | K40: 16 | L40: =IF($A$11=1,C40,IF($A$11=3,D40,IF($A$11=4,"",J40))) | M40: =IF(L40="","",IF(OR($A$11=1,$A$11=2),$C$18-L40,IF(OR(L40=$T$16,L40=$T$17),0,IF(OR(M39=0,M39=$T$17-L39),$T$17-L40,$T$16-L40)))) | N40: =IF($A$11=4,"",IF(M40="","",IF(M41="",$B$15,DEGREES(ATAN(COS(RADIANS(M40))*TAN(RADIANS($B$18))))))) | O40: =IF(N40="","",TRUNC(N40)*100+(N40-TRUNC(N40))*60) | P40: 16 | Q40: =IF(O40="","",IF($B$11="X",N40,IF(O41="",$B$15,TRUNC(O40/100)+(ROUND(((O40/100-TRUNC(O40/100))*100)/$B$11,)*$B$11)/60))) | R40: =IF(Q40="","",TRUNC(Q40)*100+(Q40-TRUNC(Q40))*60) | S40: =IF(R40="","",TRUNC(R40/100)+(R40/100-TRUNC(R40/100))/0.6) | T40: =IF(OR(T39="",T39=$T$21),"",IF(T39=$T$19,$T$20,IF(T39>=$T$20,T39+1,MATCH(S39,$S$25:$S$75,0)+1))) -> #N/A | U40: =IF(U39="","",IF(U39=$T$21,"",IF(T40=$T$22,$T$21,T40))) -> #N/A | V40: =IF(U40="","",VLOOKUP(U40,$P$25:$S$75,4)) -> #N/A | W40: =IF(U40="","",VLOOKUP(U40,$K$25:$L$75,2)) -> #N/A | X40: =IF(OR(AND($A$11=4,$AB$18=2),AND($A$11=3,$T$23=2)),"",IF($A$11=3,V40,S40)) | Y40: =IF(OR(AND($A$11=4,$AB$18=2),AND($A$11=3,$T$23=2)),"",IF($A$11=3,W40,L40)) | Z40: =IF(X41="","",IF(X41-X40>180,X41-X40-360,IF(X41-X40<-180,X41-X40+360,X41-X40))) | AA40: =IF(Y41="","",IF(ABS(Y41-Y40)<=180,Y41-Y40,(360-ABS(Y41-Y40))*-SIGN(Y41-Y40))) | AB40: =IF(X41="","",7915.70447*LOG(TAN(RADIANS((45+X41/2)))/TAN(RADIANS((45+X40/2))))) | AC40: =IF(X41="","",7915.70446789782*LOG((TAN(RADIANS(45+X41/2))*(((1-0.0818191908426215*SIN(RADIANS(X41)))/(1+0.0818191908426215*SIN(RADIANS(X41))))^(0.0818191908426215/2)))/(TAN(RADIANS(45+X40/2))*(((1-0.0818191908426215*SIN(RADIANS(X40)))/(1+0.0818191908426215*SIN(RADIANS(X40))))^(0.0818191908426215/2))))) | AD40: =IF(X41="","",DEGREES(ATAN2(3437.74677078*(LN((TAN(RADIANS(45+X41/2)))/(TAN(RADIANS(45+X40/2)))))-((SIN(RADIANS(X41))-SIN(RADIANS(X40)))*23.0135831934767)-((SIN(RADIANS(X41))^3)-(SIN(RADIANS(X40))^3))*(0.051353890277194)-((SIN(RADIANS(X41))^5)-(SIN(RADIANS(X40))^5))*(0.000206269473292),AA40*60))) | AE40: =IF(X41="","",IF(AA40<0,360+DEGREES(ATAN2(Z40,AA40*COS(RADIANS((X41+X40)/2)))),DEGREES(ATAN2(Z40,AA40*COS(RADIANS((X41+X40)/2)))))) | AF40: =IF(X41="","",IF(AA40<0,360+DEGREES(ATAN2(AB40,AA40*60)),DEGREES(ATAN2(AB40,AA40*60)))) | AG40: =AF40 | AH40: =IF(X41="","",IF(AA40<0,360+DEGREES(ATAN2(AC40,(AA40*60))),DEGREES(ATAN2(AC40,(AA40*60))))) | AI40: =IF(AA40<0,360+AD40,AD40) | AJ40: =IF(X41="","",IF(Z40=0,(AA40*COS(RADIANS((X41+X40)/2)))*60/SIN(RADIANS(AE40)),Z40*60/COS(RADIANS(AE40)))) | AK40: =IF(X41="","",ABS(IF(Z40=0,(AA40)*60*COS(RADIANS(X40)),IF(AA40=0,(Z40*60),(Z40/COS(RADIANS(AF40)))*60)))) | AL40: =IF(AK40="","",AK40*1.00179527351758) | AM40: =IF(X41="","",ABS(IF(Z40=0,AA40*60*COS(RADIANS(X41)),(Z40/COS(RADIANS(AH40)))*60))) | AN40: =IF(X41="","",IF(Z40=0,ABS(AA40*60*COS(((ATAN(TAN(RADIANS(X41))*(1-0.08181919034^2)^0.5))))*1.001795274),IF(AA40=0,ABS(((60.006994*Z40)-8.660102*(SIN(RADIANS((2*X41)))-SIN(RADIANS((2*X40)))))),ABS((((60.006994*Z40)-8.660102*(SIN(RADIANS((2*X41)))-SIN(RADIANS((2*X40))))))/COS(RADIANS(AI40)))))) | AO40: =HLOOKUP($C$11,$AE$24:$AI$75,P40+1) | AP40: =IF(X41="","",IF($D$11=3,ROUND(AO40,),IF($D$11=2,0.5*ROUND(AO40/0.5,),ROUND(AO40,1)))) | AQ40: =IF(X41="","",IF(Z40=0,(AA40*COS(RADIANS((X41+X40)/2)))*60/SIN(RADIANS(AP40)),Z40*60/COS(RADIANS(AP40)))) | AR40: =IF(X41="","",ABS(IF(Z40=0,(AA40)*60*COS(RADIANS(X40)),IF(AA40=0,(Z40*60),(Z40/COS(RADIANS(AP40)))*60)))) | AS40: =IF(AR40="","",AR40*1.00179527351758) | AT40: =IF(X41="","",ABS(IF(Z40=0,AA40*60*COS(RADIANS(X41)),(Z40/COS(RADIANS(AP40)))*60))) | AU40: =IF(X41="","",IF(Z40=0,ABS(AA40*60*COS(((ATAN(TAN(RADIANS(X41))*(1-0.08181919034^2)^0.5))))*1.001795274),IF(AA40=0,ABS(((60.006994*Z40)-8.660102*(SIN(RADIANS((2*X41)))-SIN(RADIANS((2*X40)))))),ABS((((60.006994*Z40)-8.660102*(SIN(RADIANS((2*X41)))-SIN(RADIANS((2*X40))))))/COS(RADIANS(AP40)))))) | AV40: =IF($E$11=1,HLOOKUP($C$11,$AQ$24:$AU$75,P40+1),HLOOKUP($C$11,$AJ$24:$AN$75,P40+1)) | AW40: =IF(X40="","",TRUNC(X40)*100+(X40-TRUNC(X40))*60) | AX40: =IF(Y40="","",TRUNC(Y40)*100+(Y40-TRUNC(Y40))*60) | AY40: =IF(AP40="","",AP40) | AZ40: =IF(AV40="","",ROUND(AV40,2)) | BA40: =IF(AW41="","",BA39-AZ39) | BC40: =IF(AA39="","",BC39+1) | BD40: =IF(AA39="",BD39,BD39+AA39) -> 95 | BE40: =IF(Z39="",BE39,Z39+BE39) -> -11.333333 | BH40: =IF(AA39="",BH39,BH39+AA39) -> 95 | BI40: =IF(X40="",BI39,X40*(1/COS(RADIANS(X40)))) -> 42.727111
... A74: 50 | B74: =IF($E$14>0,IF(B73+$I$14>180,B73+$I$14-360,IF(B73+$I$14<-180,B73+$I$14+360,B73+$I$14)),IF(B73-$I$14>180,B73-$I$14-360,IF(B73-$I$14<-180,B73-$I$14+360,B73-$I$14))) -> 25 | C74: =IF(OR(C73="",C73=$C$15),"",IF(B74=$I$16,$I$16,IF(C73=$I$16,$C$15,B74))) | D74: =IF(OR(D73="",D73=$C$15),"",IF(D73=$W$16,$T$16,IF(D73=$T$16,$T$17,IF(D73=$T$17,$W$17,VLOOKUP(MATCH(D73,$C$25:$C$75,0)+1,$A$25:$C$75,3))))) | F74: 50 | G74: =IF($E$14>0,IF(G73+$G$24>180,G73+$G$24-360,IF(G73+$G$24<-180,G73+$G$24+360,G73+$G$24)),IF(G73-$G$24>180,G73-$G$24-360,IF(G73-$G$24<-180,G73-$G$24+360,G73-$G$24))) -> -135.75 | H74: =IF(OR(H73="",F74=$I$14+1),"",G74) | I74: =IF(H74="","",TRUNC(H74)*100+(H74-TRUNC(H74))*60) | J74: =IF(I74="","",IF($G$12="X",H74,(TRUNC(I74/100)+(ROUND(((I74/100-TRUNC(I74/100))*100)/$G$12,)*$G$12)/60))) | K74: 50 | L74: =IF($A$11=1,C74,IF($A$11=3,D74,IF($A$11=4,"",J74))) | M74: =IF(L74="","",IF(OR($A$11=1,$A$11=2),$C$18-L74,IF(OR(L74=$T$16,L74=$T$17),0,IF(OR(M73=0,M73=$T$17-L73),$T$17-L74,$T$16-L74)))) | N74: =IF($A$11=4,"",IF(M74="","",IF(M75="",$B$15,DEGREES(ATAN(COS(RADIANS(M74))*TAN(RADIANS($B$18))))))) | O74: =IF(N74="","",TRUNC(N74)*100+(N74-TRUNC(N74))*60) | P74: 50 | Q74: =IF(O74="","",IF($B$11="X",N74,IF(O75="",$B$15,TRUNC(O74/100)+(ROUND(((O74/100-TRUNC(O74/100))*100)/$B$11,)*$B$11)/60))) | R74: =IF(Q74="","",TRUNC(Q74)*100+(Q74-TRUNC(Q74))*60) | S74: =IF(R74="","",TRUNC(R74/100)+(R74/100-TRUNC(R74/100))/0.6) | T74: =IF(OR(T73="",T73=$T$21),"",IF(T73=$T$19,$T$20,IF(T73>=$T$20,T73+1,MATCH(S73,$S$25:$S$75,0)+1))) -> #N/A | U74: =IF(U73="","",IF(U73=$T$21,"",IF(T74=$T$22,$T$21,T74))) -> #N/A | V74: =IF(U74="","",VLOOKUP(U74,$P$25:$S$75,4)) -> #N/A | W74: =IF(U74="","",VLOOKUP(U74,$K$25:$L$75,2)) -> #N/A | X74: =IF(OR(AND($A$11=4,$AB$18=2),AND($A$11=3,$T$23=2)),"",IF($A$11=3,V74,S74)) | Y74: =IF(OR(AND($A$11=4,$AB$18=2),AND($A$11=3,$T$23=2)),"",IF($A$11=3,W74,L74)) | Z74: =IF(X75="","",IF(X75-X74>180,X75-X74-360,IF(X75-X74<-180,X75-X74+360,X75-X74))) | AA74: =IF(Y75="","",IF(ABS(Y75-Y74)<=180,Y75-Y74,(360-ABS(Y75-Y74))*-SIGN(Y75-Y74))) | AB74: =IF(X75="","",7915.70447*LOG(TAN(RADIANS((45+X75/2)))/TAN(RADIANS((45+X74/2))))) | AC74: =IF(X75="","",7915.70446789782*LOG((TAN(RADIANS(45+X75/2))*(((1-0.0818191908426215*SIN(RADIANS(X75)))/(1+0.0818191908426215*SIN(RADIANS(X75))))^(0.0818191908426215/2)))/(TAN(RADIANS(45+X74/2))*(((1-0.0818191908426215*SIN(RADIANS(X74)))/(1+0.0818191908426215*SIN(RADIANS(X74))))^(0.0818191908426215/2))))) | AD74: =IF(X75="","",DEGREES(ATAN2(3437.74677078*(LN((TAN(RADIANS(45+X75/2)))/(TAN(RADIANS(45+X74/2)))))-((SIN(RADIANS(X75))-SIN(RADIANS(X74)))*23.0135831934767)-((SIN(RADIANS(X75))^3)-(SIN(RADIANS(X74))^3))*(0.051353890277194)-((SIN(RADIANS(X75))^5)-(SIN(RADIANS(X74))^5))*(0.000206269473292),AA74*60))) | AE74: =IF(X75="","",IF(AA74<0,360+DEGREES(ATAN2(Z74,AA74*COS(RADIANS((X75+X74)/2)))),DEGREES(ATAN2(Z74,AA74*COS(RADIANS((X75+X74)/2)))))) | AF74: =IF(X75="","",IF(AA74<0,360+DEGREES(ATAN2(AB74,AA74*60)),DEGREES(ATAN2(AB74,AA74*60)))) | AG74: =AF74 | AH74: =IF(X75="","",IF(AA74<0,360+DEGREES(ATAN2(AC74,(AA74*60))),DEGREES(ATAN2(AC74,(AA74*60))))) | AI74: =IF(AA74<0,360+AD74,AD74) | AJ74: =IF(X75="","",IF(Z74=0,(AA74*COS(RADIANS((X75+X74)/2)))*60/SIN(RADIANS(AE74)),Z74*60/COS(RADIANS(AE74)))) | AK74: =IF(X75="","",ABS(IF(Z74=0,(AA74)*60*COS(RADIANS(X74)),IF(AA74=0,(Z74*60),(Z74/COS(RADIANS(AF74)))*60)))) | AL74: =IF(AK74="","",AK74*1.00179527351758) | AM74: =IF(X75="","",ABS(IF(Z74=0,AA74*60*COS(RADIANS(X75)),(Z74/COS(RADIANS(AH74)))*60))) | AN74: =IF(X75="","",IF(Z74=0,ABS(AA74*60*COS(((ATAN(TAN(RADIANS(X75))*(1-0.08181919034^2)^0.5))))*1.001795274),IF(AA74=0,ABS(((60.006994*Z74)-8.660102*(SIN(RADIANS((2*X75)))-SIN(RADIANS((2*X74)))))),ABS((((60.006994*Z74)-8.660102*(SIN(RADIANS((2*X75)))-SIN(RADIANS((2*X74))))))/COS(RADIANS(AI74)))))) | AO74: =HLOOKUP($C$11,$AE$24:$AI$75,P74+1) | AP74: =IF(X75="","",IF($D$11=3,ROUND(AO74,),IF($D$11=2,0.5*ROUND(AO74/0.5,),ROUND(AO74,1)))) | AQ74: =IF(X75="","",IF(Z74=0,(AA74*COS(RADIANS((X75+X74)/2)))*60/SIN(RADIANS(AP74)),Z74*60/COS(RADIANS(AP74)))) | AR74: =IF(X75="","",ABS(IF(Z74=0,(AA74)*60*COS(RADIANS(X74)),IF(AA74=0,(Z74*60),(Z74/COS(RADIANS(AP74)))*60)))) | AS74: =IF(AR74="","",AR74*1.00179527351758) | AT74: =IF(X75="","",ABS(IF(Z74=0,AA74*60*COS(RADIANS(X75)),(Z74/COS(RADIANS(AP74)))*60))) | AU74: =IF(X75="","",IF(Z74=0,ABS(AA74*60*COS(((ATAN(TAN(RADIANS(X75))*(1-0.08181919034^2)^0.5))))*1.001795274),IF(AA74=0,ABS(((60.006994*Z74)-8.660102*(SIN(RADIANS((2*X75)))-SIN(RADIANS((2*X74)))))),ABS((((60.006994*Z74)-8.660102*(SIN(RADIANS((2*X75)))-SIN(RADIANS((2*X74))))))/COS(RADIANS(AP74)))))) | AV74: =IF($E$11=1,HLOOKUP($C$11,$AQ$24:$AU$75,P74+1),HLOOKUP($C$11,$AJ$24:$AN$75,P74+1)) | AW74: =IF(X74="","",TRUNC(X74)*100+(X74-TRUNC(X74))*60) | AX74: =IF(Y74="","",TRUNC(Y74)*100+(Y74-TRUNC(Y74))*60) | AY74: =IF(AP74="","",AP74) | AZ74: =IF(AV74="","",ROUND(AV74,2)) | BA74: =IF(AW75="","",BA73-AZ73) | BC74: =IF(AA73="","",BC73+1) | BD74: =IF(AA73="",BD73,BD73+AA73) -> 95 | BE74: =IF(Z73="",BE73,Z73+BE73) -> -11.333333 | BH74: =IF(AA73="",BH73,BH73+AA73) -> 95 | BI74: =IF(X74="",BI73,X74*(1/COS(RADIANS(X74)))) -> 42.727111
A75: 51 | B75: =IF($E$14>0,IF(B74+$I$14>180,B74+$I$14-360,IF(B74+$I$14<-180,B74+$I$14+360,B74+$I$14)),IF(B74-$I$14>180,B74-$I$14-360,IF(B74-$I$14<-180,B74-$I$14+360,B74-$I$14))) -> 30 | C75: =IF(OR(C74="",C74=$C$15),"",IF(B75=$I$16,$I$16,IF(C74=$I$16,$C$15,B75))) | D75: =IF(OR(D74="",D74=$C$15),"",IF(D74=$W$16,$T$16,IF(D74=$T$16,$T$17,IF(D74=$T$17,$W$17,VLOOKUP(MATCH(D74,$C$25:$C$75,0)+1,$A$25:$C$75,3))))) | F75: 51 | G75: =IF($E$14>0,IF(G74+$G$24>180,G74+$G$24-360,IF(G74+$G$24<-180,G74+$G$24+360,G74+$G$24)),IF(G74-$G$24>180,G74-$G$24-360,IF(G74-$G$24<-180,G74-$G$24+360,G74-$G$24))) -> -112 | H75: =IF(OR(H74="",F75=$I$14+1),"",G75) | I75: =IF(H75="","",TRUNC(H75)*100+(H75-TRUNC(H75))*60) | J75: =IF(I75="","",IF($G$12="X",H75,(TRUNC(I75/100)+(ROUND(((I75/100-TRUNC(I75/100))*100)/$G$12,)*$G$12)/60))) | K75: 51 | L75: =IF($A$11=1,C75,IF($A$11=3,D75,IF($A$11=4,"",J75))) | M75: =IF(L75="","",IF(OR($A$11=1,$A$11=2),$C$18-L75,IF(OR(L75=$T$16,L75=$T$17),0,IF(OR(M74=0,M74=$T$17-L74),$T$17-L75,$T$16-L75)))) | N75: =IF($A$11=4,"",IF(M75="","",IF(M76="",$B$15,DEGREES(ATAN(COS(RADIANS(M75))*TAN(RADIANS($B$18))))))) | O75: =IF(N75="","",TRUNC(N75)*100+(N75-TRUNC(N75))*60) | P75: 51 | Q75: =IF(O75="","",IF($B$11="X",N75,IF(O76="",$B$15,TRUNC(O75/100)+(ROUND(((O75/100-TRUNC(O75/100))*100)/$B$11,)*$B$11)/60))) | R75: =IF(Q75="","",TRUNC(Q75)*100+(Q75-TRUNC(Q75))*60) | S75: =IF(R75="","",TRUNC(R75/100)+(R75/100-TRUNC(R75/100))/0.6) | T75: =IF(OR(T74="",T74=$T$21),"",IF(T74=$T$19,$T$20,IF(T74>=$T$20,T74+1,MATCH(S74,$S$25:$S$75,0)+1))) -> #N/A | U75: =IF(U74="","",IF(U74=$T$21,"",IF(T75=$T$22,$T$21,T75))) -> #N/A | V75: =IF(U75="","",VLOOKUP(U75,$P$25:$S$75,4)) -> #N/A | W75: =IF(U75="","",VLOOKUP(U75,$K$25:$L$75,2)) -> #N/A | X75: =IF(OR(AND($A$11=4,$AB$18=2),AND($A$11=3,$T$23=2)),"",IF($A$11=3,V75,S75)) | Y75: =IF(OR(AND($A$11=4,$AB$18=2),AND($A$11=3,$T$23=2)),"",IF($A$11=3,W75,L75)) | AW75: =IF(X75="","",TRUNC(X75)*100+(X75-TRUNC(X75))*60) | AX75: =IF(Y75="","",TRUNC(Y75)*100+(Y75-TRUNC(Y75))*60) | BC75: =IF(AA74="","",BC74+1) | BD75: =IF(AA74="",BD74,BD74+AA74) -> 95 | BE75: =IF(Z74="",BE74,Z74+BE74) -> -11.333333 | BH75: =IF(AA74="",BH74,BH74+AA74) -> 95 | BI75: =IF(X75="",BI74,X75*(1/COS(RADIANS(X75)))) -> 42.727111
X77: RHUMB | AB77: 2 | AC77: 4 | AD77: 5 | AE77: 1 | AF77: 2 | AG77: 3 | AH77: 4 | AI77: 5 | AJ77: 1 | AK77: 2 | AL77: 3 | AM77: 4 | AN77: 5 | AQ77: 1 | AR77: 2 | AS77: 3 | AT77: 4 | AU77: 5 | AY77: CC | AZ77: TO GO | BA77: TOTAL TO GO
X78: =B14 -> 46.333333 | Y78: =C14 -> 140.5 | Z78: =IF(X79="","",IF(X79-X78>180,X79-X78-360,IF(X79-X78<-180,X79-X78+360,X79-X78))) -> -11.333333 | AA78: =IF(Y79="","",IF(ABS(Y79-Y78)<=180,Y79-Y78,(360-ABS(Y79-Y78))*-SIGN(Y79-Y78))) -> 95 | AB78: =IF(X79="","",7915.70447*LOG(TAN(RADIANS((45+X79/2)))/TAN(RADIANS((45+X78/2))))) -> -900.13716 | AC78: =IF(X79="","",7915.70446789782*LOG((TAN(RADIANS(45+X79/2))*(((1-0.0818191908426215*SIN(RADIANS(X79)))/(1+0.0818191908426215*SIN(RADIANS(X79))))^(0.0818191908426215/2)))/(TAN(RADIANS(45+X78/2))*(((1-0.0818191908426215*SIN(RADIANS(X78)))/(1+0.0818191908426215*SIN(RADIANS(X78))))^(0.0818191908426215/2))))) -> -896.68012 | AD78: =IF(X79="","",DEGREES(ATAN2(3437.74677078*(LN((TAN(RADIANS(45+X79/2)))/(TAN(RADIANS(45+X78/2)))))-((SIN(RADIANS(X79))-SIN(RADIANS(X78)))*23.0135831934767)-((SIN(RADIANS(X79))^3)-(SIN(RADIANS(X78))^3))*(0.051353890277194)-((SIN(RADIANS(X79))^5)-(SIN(RADIANS(X78))^5))*(0.000206269473292),AA78*60))) -> 98.940064 | AE78: =IF(X79="","",IF(AA78<0,360+DEGREES(ATAN2(Z78,AA78*COS(RADIANS((X79+X78)/2)))),DEGREES(ATAN2(Z78,AA78*COS(RADIANS((X79+X78)/2)))))) -> 98.938201 | AF78: =IF(X79="","",IF(AA78<0,360+DEGREES(ATAN2(AB78,AA78*60)),DEGREES(ATAN2(AB78,AA78*60)))) -> 98.973972 | AG78: =AF78 -> 98.973972 | AH78: =IF(X79="","",IF(AA78<0,360+DEGREES(ATAN2(AC78,(AA78*60))),DEGREES(ATAN2(AC78,(AA78*60))))) -> 98.940064 | AI78: =IF(AA78<0,360+AD78,AD78) -> 98.940064 | AJ78: =IF(X79="","",IF(Z78=0,(AA78*COS(RADIANS((X79+X78)/2)))*60/SIN(RADIANS(AE78)),Z78*60/COS(RADIANS(AE78)))) -> 4376.6756 | AK78: =IF(X79="","",ABS(IF(Z78=0,(AA78)*60*COS(RADIANS(X78)),IF(AA78=0,(Z78*60),(Z78/COS(RADIANS(AF78)))*60)))) -> 4359.3722 | AL78: =IF(AK78="","",AK78*1.00179527351758) -> 4367.1985 | AM78: =IF(X79="","",ABS(IF(Z78=0,AA78*60*COS(RADIANS(X79)),(Z78/COS(RADIANS(AH78)))*60))) -> 4375.771 | AN78: =IF(X79="","",IF(Z78=0,ABS(AA78*60*COS(((ATAN(TAN(RADIANS(X79))*(1-0.08181919034^2)^0.5))))*1.001795274),IF(AA78=0,ABS(((60.006994*Z78)-8.660102*(SIN(RADIANS((2*X79)))-SIN(RADIANS((2*X78)))))),ABS((((60.006994*Z78)-8.660102*(SIN(RADIANS((2*X79)))-SIN(RADIANS((2*X78))))))/COS(RADIANS(AI78)))))) -> 4372.9807 | AO78: =HLOOKUP($C$11,$AE$77:$AI$78,2) -> 98.940064 | AP78: =IF(X79="","",IF($D$11=3,ROUND(AO78,),IF($D$11=2,0.5*ROUND(AO78/0.5,),ROUND(AO78,1)))) -> 98.9 | AQ78: =IF(X79="","",IF(Z78=0,(AA78*COS(RADIANS((X79+X78)/2)))*60/SIN(RADIANS(AP78)),Z78*60/COS(RADIANS(AP78)))) -> 4395.3093 | AR78: =IF(X79="","",ABS(IF(Z78=0,(AA78)*60*COS(RADIANS(X78)),IF(AA78=0,(Z78*60),(Z78/COS(RADIANS(AP78)))*60)))) -> 4395.3093 | AS78: =IF(AR78="","",AR78*1.00179527351758) -> 4403.2001 | AT78: =IF(X79="","",ABS(IF(Z78=0,AA78*60*COS(RADIANS(X79)),(Z78/COS(RADIANS(AP78)))*60))) -> 4395.3093 | AU78: =IF(X79="","",IF(Z78=0,ABS(AA78*60*COS(((ATAN(TAN(RADIANS(X79))*(1-0.08181919034^2)^0.5))))*1.001795274),IF(AA78=0,ABS(((60.006994*Z78)-8.660102*(SIN(RADIANS((2*X79)))-SIN(RADIANS((2*X78)))))),ABS((((60.006994*Z78)-8.660102*(SIN(RADIANS((2*X79)))-SIN(RADIANS((2*X78))))))/COS(RADIANS(AP78)))))) -> 4392.5065 | AV78: =IF($E$11=1,HLOOKUP($C$11,$AQ$77:$AU$78,2),HLOOKUP($C$11,$AJ$77:$AN$78,2)) -> 4372.9807 | AY78: =IF(AP78="","",AP78) -> 98.9 | AZ78: =IF(AV78="","",ROUND(AV78,2)) -> 4372.98 | BA78: =IF(AW79="","",AZ129)
X79: =B15 -> 35 | Y79: =C15 -> -124.5
X80: ANA | AB80: 2 | AC80: 4 | AD80: 5 | AE80: 1 | AF80: 2 | AG80: 3 | AH80: 4 | AI80: 5 | AJ80: 1 | AK80: 2 | AL80: 3 | AM80: 4 | AN80: 5 | AQ80: 1 | AR80: 2 | AS80: 3 | AT80: 4 | AU80: 5 | AY80: CC | AZ80: TO GO | BA80: TOTAL TO GO
W81: A | X81: =X78 -> 46.333333 | Y81: =Y78 -> 140.5 | Z81: =IF(X82="","",IF(X82-X81>180,X82-X81-360,IF(X82-X81<-180,X82-X81+360,X82-X81))) -> 0 | AA81: =IF(Y82="","",IF(ABS(Y82-Y81)<=180,Y82-Y81,(360-ABS(Y82-Y81))*-SIGN(Y82-Y81))) -> 33.370225 | AB81: =IF(X82="","",7915.70447*LOG(TAN(RADIANS((45+X82/2)))/TAN(RADIANS((45+X81/2))))) -> 0 | AC81: =IF(X82="","",7915.70446789782*LOG((TAN(RADIANS(45+X82/2))*(((1-0.0818191908426215*SIN(RADIANS(X82)))/(1+0.0818191908426215*SIN(RADIANS(X82))))^(0.0818191908426215/2)))/(TAN(RADIANS(45+X81/2))*(((1-0.0818191908426215*SIN(RADIANS(X81)))/(1+0.0818191908426215*SIN(RADIANS(X81))))^(0.0818191908426215/2))))) -> 0 | AD81: =IF(X82="","",DEGREES(ATAN2(3437.74677078*(LN((TAN(RADIANS(45+X82/2)))/(TAN(RADIANS(45+X81/2)))))-((SIN(RADIANS(X82))-SIN(RADIANS(X81)))*23.0135831934767)-((SIN(RADIANS(X82))^3)-(SIN(RADIANS(X81))^3))*(0.051353890277194)-((SIN(RADIANS(X82))^5)-(SIN(RADIANS(X81))^5))*(0.000206269473292),AA81*60))) -> 90 | AE81: =IF(X82="","",IF(AA81<0,360+DEGREES(ATAN2(Z81,AA81*COS(RADIANS((X82+X81)/2)))),DEGREES(ATAN2(Z81,AA81*COS(RADIANS((X82+X81)/2)))))) -> 90 | AF81: =IF(X82="","",IF(AA81<0,360+DEGREES(ATAN2(AB81,AA81*60)),DEGREES(ATAN2(AB81,AA81*60)))) -> 90 | AG81: =AF81 -> 90 | AH81: =IF(X82="","",IF(AA81<0,360+DEGREES(ATAN2(AC81,(AA81*60))),DEGREES(ATAN2(AC81,(AA81*60))))) -> 90 | AI81: =IF(AA81<0,360+AD81,AD81) -> 90 | AJ81: =IF(X82="","",IF(Z81=0,(AA81*COS(RADIANS((X82+X81)/2)))*60/SIN(RADIANS(AE81)),Z81*60/COS(RADIANS(AE81)))) -> 1382.4517 | AK81: =IF(X82="","",ABS(IF(Z81=0,(AA81)*60*COS(RADIANS(X81)),IF(AA81=0,(Z81*60),(Z81/COS(RADIANS(AF81)))*60)))) -> 1382.4517 | AL81: =IF(AK81="","",AK81*1.00179527351758) -> 1384.9336 | AM81: =IF(X82="","",ABS(IF(Z81=0,AA81*60*COS(RADIANS(X82)),(Z81/COS(RADIANS(AH81)))*60))) -> 1382.4517 | AN81: =IF(X82="","",IF(Z81=0,ABS(AA81*60*COS(((ATAN(TAN(RADIANS(X82))*(1-0.08181919034^2)^0.5))))*1.001795274),IF(AA81=0,ABS(((60.006994*Z81)-8.660102*(SIN(RADIANS((2*X82)))-SIN(RADIANS((2*X81)))))),ABS((((60.006994*Z81)-8.660102*(SIN(RADIANS((2*X82)))-SIN(RADIANS((2*X81))))))/COS(RADIANS(AI81)))))) -> 1387.3656 | AO81: =HLOOKUP($C$11,$AE$80:$AI$82,2) -> 90 | AP81: =IF(X82="","",IF($D$11=3,ROUND(AO81,),IF($D$11=2,0.5*ROUND(AO81/0.5,),ROUND(AO81,1)))) -> 90 | AQ81: =IF(X82="","",IF(Z81=0,(AA81*COS(RADIANS((X82+X81)/2)))*60/SIN(RADIANS(AP81)),Z81*60/COS(RADIANS(AP81)))) -> 1382.4517 | AR81: =IF(X82="","",ABS(IF(Z81=0,(AA81)*60*COS(RADIANS(X81)),IF(AA81=0,(Z81*60),(Z81/COS(RADIANS(AP81)))*60)))) -> 1382.4517 | AS81: =IF(AR81="","",AR81*1.00179527351758) -> 1384.9336 | AT81: =IF(X82="","",ABS(IF(Z81=0,AA81*60*COS(RADIANS(X82)),(Z81/COS(RADIANS(AP81)))*60))) -> 1382.4517 | AU81: =IF(X82="","",IF(Z81=0,ABS(AA81*60*COS(((ATAN(TAN(RADIANS(X82))*(1-0.08181919034^2)^0.5))))*1.001795274),IF(AA81=0,ABS(((60.006994*Z81)-8.660102*(SIN(RADIANS((2*X82)))-SIN(RADIANS((2*X81)))))),ABS((((60.006994*Z81)-8.660102*(SIN(RADIANS((2*X82)))-SIN(RADIANS((2*X81))))))/COS(RADIANS(AP81)))))) -> 1387.3656 | AV81: =IF($E$11=1,HLOOKUP($C$11,$AQ$80:$AU$82,2),HLOOKUP($C$11,$AJ$80:$AN$82,2)) -> 1387.3656 | AY81: =IF(AP81="","",AP81) -> 90 | AZ81: =IF(AV81="","",ROUND(AV81,2)) -> 1387.37 | BA81: =SUM(AZ81:AZ82) -> 4271.03
W82: N | X82: =Y16 -> 46.333333 | Y82: =AB17 -> 173.87022 | Z82: =IF(X83="","",IF(X83-X82>180,X83-X82-360,IF(X83-X82<-180,X83-X82+360,X83-X82))) -> -11.333333 | AA82: =IF(Y83="","",IF(ABS(Y83-Y82)<=180,Y83-Y82,(360-ABS(Y83-Y82))*-SIGN(Y83-Y82))) -> 61.629775 | AB82: =IF(X83="","",7915.70447*LOG(TAN(RADIANS((45+X83/2)))/TAN(RADIANS((45+X82/2))))) -> -900.13716 | AC82: =IF(X83="","",7915.70446789782*LOG((TAN(RADIANS(45+X83/2))*(((1-0.0818191908426215*SIN(RADIANS(X83)))/(1+0.0818191908426215*SIN(RADIANS(X83))))^(0.0818191908426215/2)))/(TAN(RADIANS(45+X82/2))*(((1-0.0818191908426215*SIN(RADIANS(X82)))/(1+0.0818191908426215*SIN(RADIANS(X82))))^(0.0818191908426215/2))))) -> -896.68012 | AD82: =IF(X83="","",DEGREES(ATAN2(3437.74677078*(LN((TAN(RADIANS(45+X83/2)))/(TAN(RADIANS(45+X82/2)))))-((SIN(RADIANS(X83))-SIN(RADIANS(X82)))*23.0135831934767)-((SIN(RADIANS(X83))^3)-(SIN(RADIANS(X82))^3))*(0.051353890277194)-((SIN(RADIANS(X83))^5)-(SIN(RADIANS(X82))^5))*(0.000206269473292),AA82*60))) -> 103.63061 | AE82: =IF(X83="","",IF(AA82<0,360+DEGREES(ATAN2(Z82,AA82*COS(RADIANS((X83+X82)/2)))),DEGREES(ATAN2(Z82,AA82*COS(RADIANS((X83+X82)/2)))))) -> 103.62783 | AF82: =IF(X83="","",IF(AA82<0,360+DEGREES(ATAN2(AB82,AA82*60)),DEGREES(ATAN2(AB82,AA82*60)))) -> 103.68119 | AG82: =AF82 -> 103.68119 | AH82: =IF(X83="","",IF(AA82<0,360+DEGREES(ATAN2(AC82,(AA82*60))),DEGREES(ATAN2(AC82,(AA82*60))))) -> 103.63061 | AI82: =IF(AA82<0,360+AD82,AD82) -> 103.63061 | AJ82: =IF(X83="","",IF(Z82=0,(AA82*COS(RADIANS((X83+X82)/2)))*60/SIN(RADIANS(AE82)),Z82*60/COS(RADIANS(AE82)))) -> 2886.0739 | AK82: =IF(X83="","",ABS(IF(Z82=0,(AA82)*60*COS(RADIANS(X82)),IF(AA82=0,(Z82*60),(Z82/COS(RADIANS(AF82)))*60)))) -> 2875.0312 | AL82: =IF(AK82="","",AK82*1.00179527351758) -> 2880.1927 | AM82: =IF(X83="","",ABS(IF(Z82=0,AA82*60*COS(RADIANS(X83)),(Z82/COS(RADIANS(AH82)))*60))) -> 2885.4966 | AN82: =IF(X83="","",IF(Z82=0,ABS(AA82*60*COS(((ATAN(TAN(RADIANS(X83))*(1-0.08181919034^2)^0.5))))*1.001795274),IF(AA82=0,ABS(((60.006994*Z82)-8.660102*(SIN(RADIANS((2*X83)))-SIN(RADIANS((2*X82)))))),ABS((((60.006994*Z82)-8.660102*(SIN(RADIANS((2*X83)))-SIN(RADIANS((2*X82))))))/COS(RADIANS(AI82)))))) -> 2883.6566 | AO82: =HLOOKUP($C$11,$AE$80:$AI$82,3) -> 103.63061 | AP82: =IF(X83="","",IF($D$11=3,ROUND(AO82,),IF($D$11=2,0.5*ROUND(AO82/0.5,),ROUND(AO82,1)))) -> 103.6 | AQ82: =IF(X83="","",IF(Z82=0,(AA82*COS(RADIANS((X83+X82)/2)))*60/SIN(RADIANS(AP82)),Z82*60/COS(RADIANS(AP82)))) -> 2891.8682 | AR82: =IF(X83="","",ABS(IF(Z82=0,(AA82)*60*COS(RADIANS(X82)),IF(AA82=0,(Z82*60),(Z82/COS(RADIANS(AP82)))*60)))) -> 2891.8682 | AS82: =IF(AR82="","",AR82*1.00179527351758) -> 2897.0599 | AT82: =IF(X83="","",ABS(IF(Z82=0,AA82*60*COS(RADIANS(X83)),(Z82/COS(RADIANS(AP82)))*60))) -> 2891.8682 | AU82: =IF(X83="","",IF(Z82=0,ABS(AA82*60*COS(((ATAN(TAN(RADIANS(X83))*(1-0.08181919034^2)^0.5))))*1.001795274),IF(AA82=0,ABS(((60.006994*Z82)-8.660102*(SIN(RADIANS((2*X83)))-SIN(RADIANS((2*X82)))))),ABS((((60.006994*Z82)-8.660102*(SIN(RADIANS((2*X83)))-SIN(RADIANS((2*X82))))))/COS(RADIANS(AP82)))))) -> 2890.0241 | AV82: =IF($E$11=1,HLOOKUP($C$11,$AQ$80:$AU$82,3),HLOOKUP($C$11,$AJ$80:$AN$82,3)) -> 2883.6566 | AY82: =IF(AP82="","",AP82) -> 103.6 | AZ82: =IF(AV82="","",ROUND(AV82,2)) -> 2883.66
W83: A | X83: =X79 -> 35 | Y83: =Y79 -> -124.5
X84: COMPOSITE | AB84: 2 | AC84: 4 | AD84: 5 | AE84: 1 | AF84: 2 | AG84: 3 | AH84: 4 | AI84: 5 | AJ84: 1 | AK84: 2 | AL84: 3 | AM84: 4 | AN84: 5 | AQ84: 1 | AR84: 2 | AS84: 3 | AT84: 4 | AU84: 5 | AY84: CC | AZ84: TO GO | BA84: TOTAL TO GO
X85: =X78 -> 46.333333 | Y85: =Y78 -> 140.5 | Z85: =IF(X86="","",IF(X86-X85>180,X86-X85-360,IF(X86-X85<-180,X86-X85+360,X86-X85))) -> 0 | AA85: =IF(Y86="","",IF(ABS(Y86-Y85)<=180,Y86-Y85,(360-ABS(Y86-Y85))*-SIGN(Y86-Y85))) -> 0 | AB85: =IF(X86="","",7915.70447*LOG(TAN(RADIANS((45+X86/2)))/TAN(RADIANS((45+X85/2))))) -> 0 | AC85: =IF(X86="","",7915.70446789782*LOG((TAN(RADIANS(45+X86/2))*(((1-0.0818191908426215*SIN(RADIANS(X86)))/(1+0.0818191908426215*SIN(RADIANS(X86))))^(0.0818191908426215/2)))/(TAN(RADIANS(45+X85/2))*(((1-0.0818191908426215*SIN(RADIANS(X85)))/(1+0.0818191908426215*SIN(RADIANS(X85))))^(0.0818191908426215/2))))) -> 0 | AD85: =IF(X86="","",DEGREES(ATAN2(3437.74677078*(LN((TAN(RADIANS(45+X86/2)))/(TAN(RADIANS(45+X85/2)))))-((SIN(RADIANS(X86))-SIN(RADIANS(X85)))*23.0135831934767)-((SIN(RADIANS(X86))^3)-(SIN(RADIANS(X85))^3))*(0.051353890277194)-((SIN(RADIANS(X86))^5)-(SIN(RADIANS(X85))^5))*(0.000206269473292),AA85*60))) -> #DIV/0! | AE85: =IF(X86="","",IF(AA85<0,360+DEGREES(ATAN2(Z85,AA85*COS(RADIANS((X86+X85)/2)))),DEGREES(ATAN2(Z85,AA85*COS(RADIANS((X86+X85)/2)))))) -> #DIV/0! | AF85: =IF(X86="","",IF(AA85<0,360+DEGREES(ATAN2(AB85,AA85*60)),DEGREES(ATAN2(AB85,AA85*60)))) -> #DIV/0! | AG85: =AF85 -> #DIV/0! | AH85: =IF(X86="","",IF(AA85<0,360+DEGREES(ATAN2(AC85,(AA85*60))),DEGREES(ATAN2(AC85,(AA85*60))))) -> #DIV/0! | AI85: =IF(AA85<0,360+AD85,AD85) -> #DIV/0! | AJ85: =IF(X86="","",IF(Z85=0,(AA85*COS(RADIANS((X86+X85)/2)))*60/SIN(RADIANS(AE85)),Z85*60/COS(RADIANS(AE85)))) -> #DIV/0! | AK85: =IF(X86="","",ABS(IF(Z85=0,(AA85)*60*COS(RADIANS(X85)),IF(AA85=0,(Z85*60),(Z85/COS(RADIANS(AF85)))*60)))) -> 0 | AL85: =IF(AK85="","",AK85*1.00179527351758) -> 0 | AM85: =IF(X86="","",ABS(IF(Z85=0,AA85*60*COS(RADIANS(X86)),(Z85/COS(RADIANS(AH85)))*60))) -> 0 | AN85: =IF(X86="","",IF(Z85=0,ABS(AA85*60*COS(((ATAN(TAN(RADIANS(X86))*(1-0.08181919034^2)^0.5))))*1.001795274),IF(AA85=0,ABS(((60.006994*Z85)-8.660102*(SIN(RADIANS((2*X86)))-SIN(RADIANS((2*X85)))))),ABS((((60.006994*Z85)-8.660102*(SIN(RADIANS((2*X86)))-SIN(RADIANS((2*X85))))))/COS(RADIANS(AI85)))))) -> 0 | AO85: =HLOOKUP($C$11,$AE$84:$AI$87,2) -> #DIV/0! | AP85: =IF(X86="","",IF($D$11=3,ROUND(AO85,),IF($D$11=2,0.5*ROUND(AO85/0.5,),ROUND(AO85,1)))) -> #DIV/0! | AQ85: =IF(X86="","",IF(Z85=0,(AA85*COS(RADIANS((X86+X85)/2)))*60/SIN(RADIANS(AP85)),Z85*60/COS(RADIANS(AP85)))) -> #DIV/0! | AR85: =IF(X86="","",ABS(IF(Z85=0,(AA85)*60*COS(RADIANS(X85)),IF(AA85=0,(Z85*60),(Z85/COS(RADIANS(AP85)))*60)))) -> 0 | AS85: =IF(AR85="","",AR85*1.00179527351758) -> 0 | AT85: =IF(X86="","",ABS(IF(Z85=0,AA85*60*COS(RADIANS(X86)),(Z85/COS(RADIANS(AP85)))*60))) -> 0 | AU85: =IF(X86="","",IF(Z85=0,ABS(AA85*60*COS(((ATAN(TAN(RADIANS(X86))*(1-0.08181919034^2)^0.5))))*1.001795274),IF(AA85=0,ABS(((60.006994*Z85)-8.660102*(SIN(RADIANS((2*X86)))-SIN(RADIANS((2*X85)))))),ABS((((60.006994*Z85)-8.660102*(SIN(RADIANS((2*X86)))-SIN(RADIANS((2*X85))))))/COS(RADIANS(AP85)))))) -> 0 | AV85: =IF($E$11=1,HLOOKUP($C$11,$AQ$84:$AU$87,2),HLOOKUP($C$11,$AJ$84:$AN$87,2)) -> 0 | AY85: =IF(AP85="","",AP85) -> #DIV/0! | AZ85: =IF(AV85="","",ROUND(AV85,2)) -> 0 | BA85: =SUM(AZ85:AZ87) -> 4240.14
X86: =M16 -> 46.333333 | Y86: =P16 -> 140.5 | Z86: =IF(X87="","",IF(X87-X86>180,X87-X86-360,IF(X87-X86<-180,X87-X86+360,X87-X86))) -> 0 | AA86: =IF(Y87="","",IF(ABS(Y87-Y86)<=180,Y87-Y86,(360-ABS(Y87-Y86))*-SIGN(Y87-Y86))) -> 46.940146 | AB86: =IF(X87="","",7915.70447*LOG(TAN(RADIANS((45+X87/2)))/TAN(RADIANS((45+X86/2))))) -> 0 | AC86: =IF(X87="","",7915.70446789782*LOG((TAN(RADIANS(45+X87/2))*(((1-0.0818191908426215*SIN(RADIANS(X87)))/(1+0.0818191908426215*SIN(RADIANS(X87))))^(0.0818191908426215/2)))/(TAN(RADIANS(45+X86/2))*(((1-0.0818191908426215*SIN(RADIANS(X86)))/(1+0.0818191908426215*SIN(RADIANS(X86))))^(0.0818191908426215/2))))) -> 0 | AD86: =IF(X87="","",DEGREES(ATAN2(3437.74677078*(LN((TAN(RADIANS(45+X87/2)))/(TAN(RADIANS(45+X86/2)))))-((SIN(RADIANS(X87))-SIN(RADIANS(X86)))*23.0135831934767)-((SIN(RADIANS(X87))^3)-(SIN(RADIANS(X86))^3))*(0.051353890277194)-((SIN(RADIANS(X87))^5)-(SIN(RADIANS(X86))^5))*(0.000206269473292),AA86*60))) -> 90 | AE86: =IF(X87="","",IF(AA86<0,360+DEGREES(ATAN2(Z86,AA86*COS(RADIANS((X87+X86)/2)))),DEGREES(ATAN2(Z86,AA86*COS(RADIANS((X87+X86)/2)))))) -> 90 | AF86: =IF(X87="","",IF(AA86<0,360+DEGREES(ATAN2(AB86,AA86*60)),DEGREES(ATAN2(AB86,AA86*60)))) -> 90 | AG86: =AF86 -> 90 | AH86: =IF(X87="","",IF(AA86<0,360+DEGREES(ATAN2(AC86,(AA86*60))),DEGREES(ATAN2(AC86,(AA86*60))))) -> 90 | AI86: =IF(AA86<0,360+AD86,AD86) -> 90 | AJ86: =IF(X87="","",IF(Z86=0,(AA86*COS(RADIANS((X87+X86)/2)))*60/SIN(RADIANS(AE86)),Z86*60/COS(RADIANS(AE86)))) -> 1944.6224 | AK86: =IF(X87="","",ABS(IF(Z86=0,(AA86)*60*COS(RADIANS(X86)),IF(AA86=0,(Z86*60),(Z86/COS(RADIANS(AF86)))*60)))) -> 1944.6224 | AL86: =IF(AK86="","",AK86*1.00179527351758) -> 1948.1135 | AM86: =IF(X87="","",ABS(IF(Z86=0,AA86*60*COS(RADIANS(X87)),(Z86/COS(RADIANS(AH86)))*60))) -> 1944.6224 | AN86: =IF(X87="","",IF(Z86=0,ABS(AA86*60*COS(((ATAN(TAN(RADIANS(X87))*(1-0.08181919034^2)^0.5))))*1.001795274),IF(AA86=0,ABS(((60.006994*Z86)-8.660102*(SIN(RADIANS((2*X87)))-SIN(RADIANS((2*X86)))))),ABS((((60.006994*Z86)-8.660102*(SIN(RADIANS((2*X87)))-SIN(RADIANS((2*X86))))))/COS(RADIANS(AI86)))))) -> 1951.5345 | AO86: =HLOOKUP($C$11,$AE$84:$AI$87,3) -> 90 | AP86: =IF(X87="","",IF($D$11=3,ROUND(AO86,),IF($D$11=2,0.5*ROUND(AO86/0.5,),ROUND(AO86,1)))) -> 90 | AQ86: =IF(X87="","",IF(Z86=0,(AA86*COS(RADIANS((X87+X86)/2)))*60/SIN(RADIANS(AP86)),Z86*60/COS(RADIANS(AP86)))) -> 1944.6224 | AR86: =IF(X87="","",ABS(IF(Z86=0,(AA86)*60*COS(RADIANS(X86)),IF(AA86=0,(Z86*60),(Z86/COS(RADIANS(AP86)))*60)))) -> 1944.6224 | AS86: =IF(AR86="","",AR86*1.00179527351758) -> 1948.1135 | AT86: =IF(X87="","",ABS(IF(Z86=0,AA86*60*COS(RADIANS(X87)),(Z86/COS(RADIANS(AP86)))*60))) -> 1944.6224 | AU86: =IF(X87="","",IF(Z86=0,ABS(AA86*60*COS(((ATAN(TAN(RADIANS(X87))*(1-0.08181919034^2)^0.5))))*1.001795274),IF(AA86=0,ABS(((60.006994*Z86)-8.660102*(SIN(RADIANS((2*X87)))-SIN(RADIANS((2*X86)))))),ABS((((60.006994*Z86)-8.660102*(SIN(RADIANS((2*X87)))-SIN(RADIANS((2*X86))))))/COS(RADIANS(AP86)))))) -> 1951.5345 | AV86: =IF($E$11=1,HLOOKUP($C$11,$AQ$84:$AU$87,3),HLOOKUP($C$11,$AJ$84:$AN$87,3)) -> 1951.5345 | AY86: =IF(AP86="","",AP86) -> 90 | AZ86: =IF(AV86="","",ROUND(AV86,2)) -> 1951.53
X87: =M16 -> 46.333333 | Y87: =P17 -> -172.55985 | Z87: =IF(X88="","",IF(X88-X87>180,X88-X87-360,IF(X88-X87<-180,X88-X87+360,X88-X87))) -> -11.333333 | AA87: =IF(Y88="","",IF(ABS(Y88-Y87)<=180,Y88-Y87,(360-ABS(Y88-Y87))*-SIGN(Y88-Y87))) -> 48.059854 | AB87: =IF(X88="","",7915.70447*LOG(TAN(RADIANS((45+X88/2)))/TAN(RADIANS((45+X87/2))))) -> -900.13716 | AC87: =IF(X88="","",7915.70446789782*LOG((TAN(RADIANS(45+X88/2))*(((1-0.0818191908426215*SIN(RADIANS(X88)))/(1+0.0818191908426215*SIN(RADIANS(X88))))^(0.0818191908426215/2)))/(TAN(RADIANS(45+X87/2))*(((1-0.0818191908426215*SIN(RADIANS(X87)))/(1+0.0818191908426215*SIN(RADIANS(X87))))^(0.0818191908426215/2))))) -> -896.68012 | AD87: =IF(X88="","",DEGREES(ATAN2(3437.74677078*(LN((TAN(RADIANS(45+X88/2)))/(TAN(RADIANS(45+X87/2)))))-((SIN(RADIANS(X88))-SIN(RADIANS(X87)))*23.0135831934767)-((SIN(RADIANS(X88))^3)-(SIN(RADIANS(X87))^3))*(0.051353890277194)-((SIN(RADIANS(X88))^5)-(SIN(RADIANS(X87))^5))*(0.000206269473292),AA87*60))) -> 107.27358 | AE87: =IF(X88="","",IF(AA87<0,360+DEGREES(ATAN2(Z87,AA87*COS(RADIANS((X88+X87)/2)))),DEGREES(ATAN2(Z87,AA87*COS(RADIANS((X88+X87)/2)))))) -> 107.27014 | AF87: =IF(X88="","",IF(AA87<0,360+DEGREES(ATAN2(AB87,AA87*60)),DEGREES(ATAN2(AB87,AA87*60)))) -> 107.33619 | AG87: =AF87 -> 107.33619 | AH87: =IF(X88="","",IF(AA87<0,360+DEGREES(ATAN2(AC87,(AA87*60))),DEGREES(ATAN2(AC87,(AA87*60))))) -> 107.27358 | AI87: =IF(AA87<0,360+AD87,AD87) -> 107.27358 | AJ87: =IF(X88="","",IF(Z87=0,(AA87*COS(RADIANS((X88+X87)/2)))*60/SIN(RADIANS(AE87)),Z87*60/COS(RADIANS(AE87)))) -> 2290.5092 | AK87: =IF(X88="","",ABS(IF(Z87=0,(AA87)*60*COS(RADIANS(X87)),IF(AA87=0,(Z87*60),(Z87/COS(RADIANS(AF87)))*60)))) -> 2282.0485 | AL87: =IF(AK87="","",AK87*1.00179527351758) -> 2286.1454 | AM87: =IF(X88="","",ABS(IF(Z87=0,AA87*60*COS(RADIANS(X88)),(Z87/COS(RADIANS(AH87)))*60))) -> 2290.0669 | AN87: =IF(X88="","",IF(Z87=0,ABS(AA87*60*COS(((ATAN(TAN(RADIANS(X88))*(1-0.08181919034^2)^0.5))))*1.001795274),IF(AA87=0,ABS(((60.006994*Z87)-8.660102*(SIN(RADIANS((2*X88)))-SIN(RADIANS((2*X87)))))),ABS((((60.006994*Z87)-8.660102*(SIN(RADIANS((2*X88)))-SIN(RADIANS((2*X87))))))/COS(RADIANS(AI87)))))) -> 2288.6065 | AO87: =HLOOKUP($C$11,$AE$84:$AI$87,4) -> 107.27358 | AP87: =IF(X88="","",IF($D$11=3,ROUND(AO87,),IF($D$11=2,0.5*ROUND(AO87/0.5,),ROUND(AO87,1)))) -> 107.3 | AQ87: =IF(X88="","",IF(Z87=0,(AA87*COS(RADIANS((X88+X87)/2)))*60/SIN(RADIANS(AP87)),Z87*60/COS(RADIANS(AP87)))) -> 2286.676 | AR87: =IF(X88="","",ABS(IF(Z87=0,(AA87)*60*COS(RADIANS(X87)),IF(AA87=0,(Z87*60),(Z87/COS(RADIANS(AP87)))*60)))) -> 2286.676 | AS87: =IF(AR87="","",AR87*1.00179527351758) -> 2290.7813 | AT87: =IF(X88="","",ABS(IF(Z87=0,AA87*60*COS(RADIANS(X88)),(Z87/COS(RADIANS(AP87)))*60))) -> 2286.676 | AU87: =IF(X88="","",IF(Z87=0,ABS(AA87*60*COS(((ATAN(TAN(RADIANS(X88))*(1-0.08181919034^2)^0.5))))*1.001795274),IF(AA87=0,ABS(((60.006994*Z87)-8.660102*(SIN(RADIANS((2*X88)))-SIN(RADIANS((2*X87)))))),ABS((((60.006994*Z87)-8.660102*(SIN(RADIANS((2*X88)))-SIN(RADIANS((2*X87))))))/COS(RADIANS(AP87)))))) -> 2285.2179 | AV87: =IF($E$11=1,HLOOKUP($C$11,$AQ$84:$AU$87,4),HLOOKUP($C$11,$AJ$84:$AN$87,4)) -> 2288.6065 | AY87: =IF(AP87="","",AP87) -> 107.3 | AZ87: =IF(AV87="","",ROUND(AV87,2)) -> 2288.61
X88: =X79 -> 35 | Y88: =Y79 -> -124.5

Sheet G
A1: ='GREAT CIRCLE'!K2 -> WP Great Circle Sailing
C2: LAT | D2: LONG
A3: DEPARTURE | C3: ='GREAT CIRCLE'!C4 -> 4620 | D3: ='GREAT CIRCLE'!D4 -> 14030 | F3: ='GREAT CIRCLE'!A8 -> WP NR. | G3: =IF(F3="","",'GREAT CIRCLE'!C8) -> 5 | H3: =GC!M3
A4: ARRIVAL | C4: ='GREAT CIRCLE'!C5 -> 3500 | D4: ='GREAT CIRCLE'!D5 -> -12430 | F4: ='GREAT CIRCLE'!E8 | G4: =IF(F4="","",'GREAT CIRCLE'!F8)

Sheet C_R
A1: 1 | B1: 2 | C1: 3 | D1: 4 | E1: E | F1: =(6378137^2-(6378137*(1-1/298.257223563))^2)^0.5/6378137 -> 0.081819191
A2: =MATCH('RHUMBLINE SAILING'!D2,SIMPLE,0) -> 3 | B2: =MATCH('RHUMBLINE SAILING'!D3,TC,0) -> 1 | C2: =MATCH('RHUMBLINE SAILING'!D4,YES,0) -> 2 | D2: =MATCH('RHUMBLINE SAILING'!D5,YES,0) -> 2 | E2: Corr | F2: =6378137*2*PI()/21600/1852 -> 1.0017953
J3: DPM | M3: TC | R3: S | W3: TC | Y3: S | AD3: S | AS3: x | AT3: y
C4: NR | F4: LAT | G4: LONG | H4: Δϕ | I4: Δλ | J4: 2 | K4: 4 | L4: 5 | M4: 1 | N4: 2 | O4: 3 | P4: 4 | Q4: 5 | R4: 1 | S4: 2 | T4: 3 | U4: 4 | V4: 5 | Y4: 1 | Z4: 2 | AA4: 3 | AB4: 4 | AC4: 5 | AE4: LAT | AF4: LONG | AG4: CC | AH4: TO GO | AI4: TOTAL TO GO | AL4: 1 | AM4: 000.0° | AO4: 1 | AP4: SIMPLE
A5: =IF(OR(RIGHT('RHUMBLINE SAILING'!B8,1)="S",RIGHT('RHUMBLINE SAILING'!B8,1)="s"),-1,1)*(VALUE(LEFT('RHUMBLINE SAILING'!B8,FIND("° ",'RHUMBLINE SAILING'!B8,1)-1))+VALUE(MID('RHUMBLINE SAILING'!B8,(FIND("° ",'RHUMBLINE SAILING'!B8,1)+2),6))/60) -> #VALUE! | B5: =IF(OR(RIGHT('RHUMBLINE SAILING'!C8,1)="W",RIGHT('RHUMBLINE SAILING'!C8,1)="w"),-1,1)*(VALUE(LEFT('RHUMBLINE SAILING'!C8,FIND("° ",'RHUMBLINE SAILING'!C8,1)-1))+VALUE(MID('RHUMBLINE SAILING'!C8,(FIND("° ",'RHUMBLINE SAILING'!C8,1)+2),6))/60) -> #VALUE! | C5: 1 | D5: =IF('RHUMBLINE SAILING'!B8="","",IF($D$2=2,'RHUMBLINE SAILING'!B8,TRUNC(A5)*100+(A5-TRUNC(A5))*60)) -> 604.7 | E5: =IF('RHUMBLINE SAILING'!C8="","",IF($D$2=2,'RHUMBLINE SAILING'!C8,TRUNC(B5)*100+(B5-TRUNC(B5))*60)) -> 114.8 | F5: =IF(D5="","",TRUNC(D5/100)+(D5/100-TRUNC(D5/100))/0.6) -> 6.0783333 | G5: =IF(E5="","",TRUNC(E5/100)+(E5/100-TRUNC(E5/100))/0.6) -> 1.2466667 | H5: =IF(F6="","",IF(F6-F5>180,F6-F5-360,IF(F6-F5<-180,F6-F5+360,F6-F5))) -> -0.57833333 | I5: =IF(G6="","",IF(G6-G5>180,G6-G5-360,IF(G6-G5<-180,G6-G5+360,G6-G5))) -> -0.03 | J5: =IF(F6="","",7915.70447*LOG(TAN(RADIANS((45+F6/2)))/TAN(RADIANS((45+F5/2))))) -> -34.878035 | K5: =IF(F6="","",7915.70446789782*LOG((TAN(RADIANS(45+F6/2))*(((1-0.0818191908426215*SIN(RADIANS(F6)))/(1+0.0818191908426215*SIN(RADIANS(F6))))^(0.0818191908426215/2)))/(TAN(RADIANS(45+F5/2))*(((1-0.0818191908426215*SIN(RADIANS(F5)))/(1+0.0818191908426215*SIN(RADIANS(F5))))^(0.0818191908426215/2))))) -> -34.64691 | L5: =IF(F6="","",DEGREES(ATAN2(3437.74677078*(LN((TAN(RADIANS(45+F6/2)))/(TAN(RADIANS(45+F5/2)))))-((SIN(RADIANS(F6))-SIN(RADIANS(F5)))*23.0135831934767)-((SIN(RADIANS(F6))^3)-(SIN(RADIANS(F5))^3))*(0.051353890277194)-((SIN(RADIANS(F6))^5)-(SIN(RADIANS(F5))^5))*(0.000206269473292),I5*60))) -> -177.026 | M5: =IF(F6="","",IF(I5<0,360+DEGREES(ATAN2(H5,I5*COS(RADIANS((F6+F5)/2)))),DEGREES(ATAN2(H5,I5*COS(RADIANS((F6+F5)/2)))))) -> 182.95434 | N5: =IF(F6="","",IF(I5<0,360+DEGREES(ATAN2(J5,I5*60)),DEGREES(ATAN2(J5,I5*60)))) -> 182.95432 | O5: =N5 -> 182.95432 | P5: =IF(F6="","",IF(I5<0,360+DEGREES(ATAN2(K5,(I5*60))),DEGREES(ATAN2(K5,(I5*60))))) -> 182.974 | Q5: =IF(I5<0,360+L5,L5) -> 182.974 | R5: =IF(F6="","",IF(H5=0,(I5*COS(RADIANS((F6+F5)/2)))*60/SIN(RADIANS(M5)),H5*60/COS(RADIANS(M5)))) -> 34.74618 | S5: =IF(F6="","",ABS(IF(H5=0,(I5)*60*COS(RADIANS(F5)),IF(I5=0,(H5*60),(H5/COS(RADIANS(N5)))*60)))) -> 34.74618 | T5: =IF(S5="","",S5*1.00179527351758) -> 34.808559 | U5: =IF(F6="","",ABS(IF(H5=0,I5*60*COS(RADIANS(F6)),(H5/COS(RADIANS(P5)))*60))) -> 34.746798 | V5: =IF(F6="","",IF(H5=0,ABS(I5*60*COS(((ATAN(TAN(RADIANS(F6))*(1-0.08181919034^2)^0.5))))*1.001795274),IF(I5=0,ABS(((60.006994*H5)-8.660102*(SIN(RADIANS((2*F6)))-SIN(RADIANS((2*F5)))))),ABS((((60.006994*H5)-8.660102*(SIN(RADIANS((2*F6)))-SIN(RADIANS((2*F5))))))/COS(RADIANS(Q5)))))) -> 34.57935 | W5: =HLOOKUP($A$2,$M$4:$Q$64,C5+1) -> 182.95432 | X5: =IF(D6="","",IF($B$2=3,ROUND(W5,),IF($B$2=2,0.5*ROUND(W5/0.5,),ROUND(W5,1)))) -> 183 | Y5: =IF(F6="","",IF(H5=0,(I5*COS(RADIANS((F6+F5)/2)))*60/SIN(RADIANS(X5)),H5*60/COS(RADIANS(X5)))) -> 34.74762 | Z5: =IF(F6="","",ABS(IF(H5=0,(I5)*60*COS(RADIANS(F5)),IF(I5=0,(H5*60),(H5/COS(RADIANS(X5)))*60)))) -> 34.74762 | AA5: =IF(Z5="","",Z5*1.00179527351758) -> 34.810002 | AB5: =IF(F6="","",ABS(IF(H5=0,I5*60*COS(RADIANS(F6)),(H5/COS(RADIANS(X5)))*60))) -> 34.74762 | AC5: =IF(F6="","",IF(H5=0,ABS(I5*60*COS(((ATAN(TAN(RADIANS(F6))*(1-0.08181919034^2)^0.5))))*1.001795274),IF(I5=0,ABS(((60.006994*H5)-8.660102*(SIN(RADIANS((2*F6)))-SIN(RADIANS((2*F5)))))),ABS((((60.006994*H5)-8.660102*(SIN(RADIANS((2*F6)))-SIN(RADIANS((2*F5))))))/COS(RADIANS(X5)))))) -> 34.580169 | AD5: =IF($C$2=1,HLOOKUP($A$2,$Y$4:$AC$64,C5+1),HLOOKUP($A$2,$R$4:$V$64,C5+1)) -> 34.808559 | AE5: =IF(F5="","",TRUNC(F5)*100+(F5-TRUNC(F5))*60) -> 604.7 | AF5: =IF(G5="","",TRUNC(G5)*100+(G5-TRUNC(G5))*60) -> 114.8 | AG5: =IF(X5="","",X5) -> 183 | AH5: =IF(AD5="","",ROUND(AD5,2)) -> 34.81 | AI5: =SUM(AH5:AH63) -> 4835.01 | AL5: 2 | AM5: 000.5° | AO5: 2 | AP5: SPHERE | AR5: 0 | AS5: 0 | AT5: 0
A6: =IF(OR(RIGHT('RHUMBLINE SAILING'!B9,1)="S",RIGHT('RHUMBLINE SAILING'!B9,1)="s"),-1,1)*(VALUE(LEFT('RHUMBLINE SAILING'!B9,FIND("° ",'RHUMBLINE SAILING'!B9,1)-1))+VALUE(MID('RHUMBLINE SAILING'!B9,(FIND("° ",'RHUMBLINE SAILING'!B9,1)+2),6))/60) -> #VALUE! | B6: =IF(OR(RIGHT('RHUMBLINE SAILING'!C9,1)="W",RIGHT('RHUMBLINE SAILING'!C9,1)="w"),-1,1)*(VALUE(LEFT('RHUMBLINE SAILING'!C9,FIND("° ",'RHUMBLINE SAILING'!C9,1)-1))+VALUE(MID('RHUMBLINE SAILING'!C9,(FIND("° ",'RHUMBLINE SAILING'!C9,1)+2),6))/60) -> #VALUE! | C6: 2 | D6: =IF('RHUMBLINE SAILING'!B9="","",IF($D$2=2,'RHUMBLINE SAILING'!B9,TRUNC(A6)*100+(A6-TRUNC(A6))*60)) -> 530 | E6: =IF('RHUMBLINE SAILING'!C9="","",IF($D$2=2,'RHUMBLINE SAILING'!C9,TRUNC(B6)*100+(B6-TRUNC(B6))*60)) -> 113 | F6: =IF(D6="","",TRUNC(D6/100)+(D6/100-TRUNC(D6/100))/0.6) -> 5.5 | G6: =IF(E6="","",TRUNC(E6/100)+(E6/100-TRUNC(E6/100))/0.6) -> 1.2166667 | H6: =IF(F7="","",IF(F7-F6>180,F7-F6-360,IF(F7-F6<-180,F7-F6+360,F7-F6))) -> -1.6666667 | I6: =IF(G7="","",IF(G7-G6>180,G7-G6-360,IF(G7-G6<-180,G7-G6+360,G7-G6))) -> -3.2166667 | J6: =IF(F7="","",7915.70447*LOG(TAN(RADIANS((45+F7/2)))/TAN(RADIANS((45+F6/2))))) -> -100.3362 | K6: =IF(F7="","",7915.70446789782*LOG((TAN(RADIANS(45+F7/2))*(((1-0.0818191908426215*SIN(RADIANS(F7)))/(1+0.0818191908426215*SIN(RADIANS(F7))))^(0.0818191908426215/2)))/(TAN(RADIANS(45+F6/2))*(((1-0.0818191908426215*SIN(RADIANS(F6)))/(1+0.0818191908426215*SIN(RADIANS(F6))))^(0.0818191908426215/2))))) -> -99.668973 | L6: =IF(F7="","",DEGREES(ATAN2(3437.74677078*(LN((TAN(RADIANS(45+F7/2)))/(TAN(RADIANS(45+F6/2)))))-((SIN(RADIANS(F7))-SIN(RADIANS(F6)))*23.0135831934767)-((SIN(RADIANS(F7))^3)-(SIN(RADIANS(F6))^3))*(0.051353890277194)-((SIN(RADIANS(F7))^5)-(SIN(RADIANS(F6))^5))*(0.000206269473292),I6*60))) -> -117.31271 | M6: =IF(F7="","",IF(I6<0,360+DEGREES(ATAN2(H6,I6*COS(RADIANS((F7+F6)/2)))),DEGREES(ATAN2(H6,I6*COS(RADIANS((F7+F6)/2)))))) -> 242.53197 | N6: =IF(F7="","",IF(I6<0,360+DEGREES(ATAN2(J6,I6*60)),DEGREES(ATAN2(J6,I6*60)))) -> 242.53113 | O6: =N6 -> 242.53113 | P6: =IF(F7="","",IF(I6<0,360+DEGREES(ATAN2(K6,(I6*60))),DEGREES(ATAN2(K6,(I6*60))))) -> 242.68729 | Q6: =IF(I6<0,360+L6,L6) -> 242.68729 | R6: =IF(F7="","",IF(H6=0,(I6*COS(RADIANS((F7+F6)/2)))*60/SIN(RADIANS(M6)),H6*60/COS(RADIANS(M6)))) -> 216.80046 | S6: =IF(F7="","",ABS(IF(H6=0,(I6)*60*COS(RADIANS(F6)),IF(I6=0,(H6*60),(H6/COS(RADIANS(N6)))*60)))) -> 216.79436 | T6: =IF(S6="","",S6*1.00179527351758) -> 217.18357 | U6: =IF(F7="","",ABS(IF(H6=0,I6*60*COS(RADIANS(F7)),(H6/COS(RADIANS(P6)))*60))) -> 217.93769 | V6: =IF(F7="","",IF(H6=0,ABS(I6*60*COS(((ATAN(TAN(RADIANS(F7))*(1-0.08181919034^2)^0.5))))*1.001795274),IF(I6=0,ABS(((60.006994*H6)-8.660102*(SIN(RADIANS((2*F7)))-SIN(RADIANS((2*F6)))))),ABS((((60.006994*H6)-8.660102*(SIN(RADIANS((2*F7)))-SIN(RADIANS((2*F6))))))/COS(RADIANS(Q6)))))) -> 216.87976 | W6: =HLOOKUP($A$2,$M$4:$Q$64,C6+1) -> 242.53113 | X6: =IF(D7="","",IF($B$2=3,ROUND(W6,),IF($B$2=2,0.5*ROUND(W6/0.5,),ROUND(W6,1)))) -> 242.5 | Y6: =IF(F7="","",IF(H6=0,(I6*COS(RADIANS((F7+F6)/2)))*60/SIN(RADIANS(X6)),H6*60/COS(RADIANS(X6)))) -> 216.56806 | Z6: =IF(F7="","",ABS(IF(H6=0,(I6)*60*COS(RADIANS(F6)),IF(I6=0,(H6*60),(H6/COS(RADIANS(X6)))*60)))) -> 216.56806 | AA6: =IF(Z6="","",Z6*1.00179527351758) -> 216.95686 | AB6: =IF(F7="","",ABS(IF(H6=0,I6*60*COS(RADIANS(F7)),(H6/COS(RADIANS(X6)))*60))) -> 216.56806 | AC6: =IF(F7="","",IF(H6=0,ABS(I6*60*COS(((ATAN(TAN(RADIANS(F7))*(1-0.08181919034^2)^0.5))))*1.001795274),IF(I6=0,ABS(((60.006994*H6)-8.660102*(SIN(RADIANS((2*F7)))-SIN(RADIANS((2*F6)))))),ABS((((60.006994*H6)-8.660102*(SIN(RADIANS((2*F7)))-SIN(RADIANS((2*F6))))))/COS(RADIANS(X6)))))) -> 215.51678 | AD6: =IF($C$2=1,HLOOKUP($A$2,$Y$4:$AC$64,C6+1),HLOOKUP($A$2,$R$4:$V$64,C6+1)) -> 217.18357 | AE6: =IF(F6="","",TRUNC(F6)*100+(F6-TRUNC(F6))*60) -> 530 | AF6: =IF(G6="","",TRUNC(G6)*100+(G6-TRUNC(G6))*60) -> 113 | AG6: =IF(X6="","",X6) -> 242.5 | AH6: =IF(AD6="","",ROUND(AD6,2)) -> 217.18 | AI6: =IF(AE7="","",AI5-AH5) -> 4800.2 | AL6: 3 | AM6: 000° | AO6: 3 | AP6: SPHERE Corr. | AR6: 1 | AS6: =IF(I5="",AS5,AS5+I5) -> -0.03 | AT6: =IF(H5="",AT5,AT5+H5) -> -0.57833333
A7: =IF(OR(RIGHT('RHUMBLINE SAILING'!B10,1)="S",RIGHT('RHUMBLINE SAILING'!B10,1)="s"),-1,1)*(VALUE(LEFT('RHUMBLINE SAILING'!B10,FIND("° ",'RHUMBLINE SAILING'!B10,1)-1))+VALUE(MID('RHUMBLINE SAILING'!B10,(FIND("° ",'RHUMBLINE SAILING'!B10,1)+2),6))/60) -> #VALUE! | B7: =IF(OR(RIGHT('RHUMBLINE SAILING'!C10,1)="W",RIGHT('RHUMBLINE SAILING'!C10,1)="w"),-1,1)*(VALUE(LEFT('RHUMBLINE SAILING'!C10,FIND("° ",'RHUMBLINE SAILING'!C10,1)-1))+VALUE(MID('RHUMBLINE SAILING'!C10,(FIND("° ",'RHUMBLINE SAILING'!C10,1)+2),6))/60) -> #VALUE! | C7: 3 | D7: =IF('RHUMBLINE SAILING'!B10="","",IF($D$2=2,'RHUMBLINE SAILING'!B10,TRUNC(A7)*100+(A7-TRUNC(A7))*60)) -> 350 | E7: =IF('RHUMBLINE SAILING'!C10="","",IF($D$2=2,'RHUMBLINE SAILING'!C10,TRUNC(B7)*100+(B7-TRUNC(B7))*60)) -> -200 | F7: =IF(D7="","",TRUNC(D7/100)+(D7/100-TRUNC(D7/100))/0.6) -> 3.8333333 | G7: =IF(E7="","",TRUNC(E7/100)+(E7/100-TRUNC(E7/100))/0.6) -> -2 | H7: =IF(F8="","",IF(F8-F7>180,F8-F7-360,IF(F8-F7<-180,F8-F7+360,F8-F7))) -> 0 | I7: =IF(G8="","",IF(G8-G7>180,G8-G7-360,IF(G8-G7<-180,G8-G7+360,G8-G7))) -> -6 | J7: =IF(F8="","",7915.70447*LOG(TAN(RADIANS((45+F8/2)))/TAN(RADIANS((45+F7/2))))) -> 0 | K7: =IF(F8="","",7915.70446789782*LOG((TAN(RADIANS(45+F8/2))*(((1-0.0818191908426215*SIN(RADIANS(F8)))/(1+0.0818191908426215*SIN(RADIANS(F8))))^(0.0818191908426215/2)))/(TAN(RADIANS(45+F7/2))*(((1-0.0818191908426215*SIN(RADIANS(F7)))/(1+0.0818191908426215*SIN(RADIANS(F7))))^(0.0818191908426215/2))))) -> 0 | L7: =IF(F8="","",DEGREES(ATAN2(3437.74677078*(LN((TAN(RADIANS(45+F8/2)))/(TAN(RADIANS(45+F7/2)))))-((SIN(RADIANS(F8))-SIN(RADIANS(F7)))*23.0135831934767)-((SIN(RADIANS(F8))^3)-(SIN(RADIANS(F7))^3))*(0.051353890277194)-((SIN(RADIANS(F8))^5)-(SIN(RADIANS(F7))^5))*(0.000206269473292),I7*60))) -> -90 | M7: =IF(F8="","",IF(I7<0,360+DEGREES(ATAN2(H7,I7*COS(RADIANS((F8+F7)/2)))),DEGREES(ATAN2(H7,I7*COS(RADIANS((F8+F7)/2)))))) -> 270 | N7: =IF(F8="","",IF(I7<0,360+DEGREES(ATAN2(J7,I7*60)),DEGREES(ATAN2(J7,I7*60)))) -> 270 | O7: =N7 -> 270 | P7: =IF(F8="","",IF(I7<0,360+DEGREES(ATAN2(K7,(I7*60))),DEGREES(ATAN2(K7,(I7*60))))) -> 270 | Q7: =IF(I7<0,360+L7,L7) -> 270 | R7: =IF(F8="","",IF(H7=0,(I7*COS(RADIANS((F8+F7)/2)))*60/SIN(RADIANS(M7)),H7*60/COS(RADIANS(M7)))) -> 359.19459 | S7: =IF(F8="","",ABS(IF(H7=0,(I7)*60*COS(RADIANS(F7)),IF(I7=0,(H7*60),(H7/COS(RADIANS(N7)))*60)))) -> 359.19459 | T7: =IF(S7="","",S7*1.00179527351758) -> 359.83944 | U7: =IF(F8="","",ABS(IF(H7=0,I7*60*COS(RADIANS(F8)),(H7/COS(RADIANS(P7)))*60))) -> 359.19459 | V7: =IF(F8="","",IF(H7=0,ABS(I7*60*COS(((ATAN(TAN(RADIANS(F8))*(1-0.08181919034^2)^0.5))))*1.001795274),IF(I7=0,ABS(((60.006994*H7)-8.660102*(SIN(RADIANS((2*F8)))-SIN(RADIANS((2*F7)))))),ABS((((60.006994*H7)-8.660102*(SIN(RADIANS((2*F8)))-SIN(RADIANS((2*F7))))))/COS(RADIANS(Q7)))))) -> 359.84482 | W7: =HLOOKUP($A$2,$M$4:$Q$64,C7+1) -> 270 | X7: =IF(D8="","",IF($B$2=3,ROUND(W7,),IF($B$2=2,0.5*ROUND(W7/0.5,),ROUND(W7,1)))) -> 270 | Y7: =IF(F8="","",IF(H7=0,(I7*COS(RADIANS((F8+F7)/2)))*60/SIN(RADIANS(X7)),H7*60/COS(RADIANS(X7)))) -> 359.19459 | Z7: =IF(F8="","",ABS(IF(H7=0,(I7)*60*COS(RADIANS(F7)),IF(I7=0,(H7*60),(H7/COS(RADIANS(X7)))*60)))) -> 359.19459 | AA7: =IF(Z7="","",Z7*1.00179527351758) -> 359.83944 | AB7: =IF(F8="","",ABS(IF(H7=0,I7*60*COS(RADIANS(F8)),(H7/COS(RADIANS(X7)))*60))) -> 359.19459 | AC7: =IF(F8="","",IF(H7=0,ABS(I7*60*COS(((ATAN(TAN(RADIANS(F8))*(1-0.08181919034^2)^0.5))))*1.001795274),IF(I7=0,ABS(((60.006994*H7)-8.660102*(SIN(RADIANS((2*F8)))-SIN(RADIANS((2*F7)))))),ABS((((60.006994*H7)-8.660102*(SIN(RADIANS((2*F8)))-SIN(RADIANS((2*F7))))))/COS(RADIANS(X7)))))) -> 359.84482 | AD7: =IF($C$2=1,HLOOKUP($A$2,$Y$4:$AC$64,C7+1),HLOOKUP($A$2,$R$4:$V$64,C7+1)) -> 359.83944 | AE7: =IF(F7="","",TRUNC(F7)*100+(F7-TRUNC(F7))*60) -> 350 | AF7: =IF(G7="","",TRUNC(G7)*100+(G7-TRUNC(G7))*60) -> -200 | AG7: =IF(X7="","",X7) -> 270 | AH7: =IF(AD7="","",ROUND(AD7,2)) -> 359.84 | AI7: =IF(AE8="","",AI6-AH6) -> 4583.02 | AL7: 1 | AM7: YES | AO7: 4 | AP7: SPHEROID WGS84 | AR7: 2 | AS7: =IF(I6="",AS6,AS6+I6) -> -3.2466667 | AT7: =IF(H6="",AT6,AT6+H6) -> -2.245
A8: =IF(OR(RIGHT('RHUMBLINE SAILING'!B11,1)="S",RIGHT('RHUMBLINE SAILING'!B11,1)="s"),-1,1)*(VALUE(LEFT('RHUMBLINE SAILING'!B11,FIND("° ",'RHUMBLINE SAILING'!B11,1)-1))+VALUE(MID('RHUMBLINE SAILING'!B11,(FIND("° ",'RHUMBLINE SAILING'!B11,1)+2),6))/60) -> #VALUE! | B8: =IF(OR(RIGHT('RHUMBLINE SAILING'!C11,1)="W",RIGHT('RHUMBLINE SAILING'!C11,1)="w"),-1,1)*(VALUE(LEFT('RHUMBLINE SAILING'!C11,FIND("° ",'RHUMBLINE SAILING'!C11,1)-1))+VALUE(MID('RHUMBLINE SAILING'!C11,(FIND("° ",'RHUMBLINE SAILING'!C11,1)+2),6))/60) -> #VALUE! | C8: 4 | D8: =IF('RHUMBLINE SAILING'!B11="","",IF($D$2=2,'RHUMBLINE SAILING'!B11,TRUNC(A8)*100+(A8-TRUNC(A8))*60)) -> 350 | E8: =IF('RHUMBLINE SAILING'!C11="","",IF($D$2=2,'RHUMBLINE SAILING'!C11,TRUNC(B8)*100+(B8-TRUNC(B8))*60)) -> -800 | F8: =IF(D8="","",TRUNC(D8/100)+(D8/100-TRUNC(D8/100))/0.6) -> 3.8333333 | G8: =IF(E8="","",TRUNC(E8/100)+(E8/100-TRUNC(E8/100))/0.6) -> -8 | H8: =IF(F9="","",IF(F9-F8>180,F9-F8-360,IF(F9-F8<-180,F9-F8+360,F9-F8))) -> 2.3333333 | I8: =IF(G9="","",IF(G9-G8>180,G9-G8-360,IF(G9-G8<-180,G9-G8+360,G9-G8))) -> -4 | J8: =IF(F9="","",7915.70447*LOG(TAN(RADIANS((45+F9/2)))/TAN(RADIANS((45+F8/2))))) -> 140.54464 | K8: =IF(F9="","",7915.70446789782*LOG((TAN(RADIANS(45+F9/2))*(((1-0.0818191908426215*SIN(RADIANS(F9)))/(1+0.0818191908426215*SIN(RADIANS(F9))))^(0.0818191908426215/2)))/(TAN(RADIANS(45+F8/2))*(((1-0.0818191908426215*SIN(RADIANS(F8)))/(1+0.0818191908426215*SIN(RADIANS(F8))))^(0.0818191908426215/2))))) -> 139.61101 | L8: =IF(F9="","",DEGREES(ATAN2(3437.74677078*(LN((TAN(RADIANS(45+F9/2)))/(TAN(RADIANS(45+F8/2)))))-((SIN(RADIANS(F9))-SIN(RADIANS(F8)))*23.0135831934767)-((SIN(RADIANS(F9))^3)-(SIN(RADIANS(F8))^3))*(0.051353890277194)-((SIN(RADIANS(F9))^5)-(SIN(RADIANS(F8))^5))*(0.000206269473292),I8*60))) -> -59.8129 | M8: =IF(F9="","",IF(I8<0,360+DEGREES(ATAN2(H8,I8*COS(RADIANS((F9+F8)/2)))),DEGREES(ATAN2(H8,I8*COS(RADIANS((F9+F8)/2)))))) -> 300.3516 | N8: =IF(F9="","",IF(I8<0,360+DEGREES(ATAN2(J8,I8*60)),DEGREES(ATAN2(J8,I8*60)))) -> 300.35335 | O8: =N8 -> 300.35335 | P8: =IF(F9="","",IF(I8<0,360+DEGREES(ATAN2(K8,(I8*60))),DEGREES(ATAN2(K8,(I8*60))))) -> 300.1871 | Q8: =IF(I8<0,360+L8,L8) -> 300.1871 | R8: =IF(F9="","",IF(H8=0,(I8*COS(RADIANS((F9+F8)/2)))*60/SIN(RADIANS(M8)),H8*60/COS(RADIANS(M8)))) -> 277.0604 | S8: =IF(F9="","",ABS(IF(H8=0,(I8)*60*COS(RADIANS(F8)),IF(I8=0,(H8*60),(H8/COS(RADIANS(N8)))*60)))) -> 277.04592 | T8: =IF(S8="","",S8*1.00179527351758) -> 277.54329 | U8: =IF(F9="","",ABS(IF(H8=0,I8*60*COS(RADIANS(F9)),(H8/COS(RADIANS(P8)))*60))) -> 278.42669 | V8: =IF(F9="","",IF(H8=0,ABS(I8*60*COS(((ATAN(TAN(RADIANS(F9))*(1-0.08181919034^2)^0.5))))*1.001795274),IF(I8=0,ABS(((60.006994*H8)-8.660102*(SIN(RADIANS((2*F9)))-SIN(RADIANS((2*F8)))))),ABS((((60.006994*H8)-8.660102*(SIN(RADIANS((2*F9)))-SIN(RADIANS((2*F8))))))/COS(RADIANS(Q8)))))) -> 277.07806 | W8: =HLOOKUP($A$2,$M$4:$Q$64,C8+1) -> 300.35335 | X8: =IF(D9="","",IF($B$2=3,ROUND(W8,),IF($B$2=2,0.5*ROUND(W8/0.5,),ROUND(W8,1)))) -> 300.4 | Y8: =IF(F9="","",IF(H8=0,(I8*COS(RADIANS((F9+F8)/2)))*60/SIN(RADIANS(X8)),H8*60/COS(RADIANS(X8)))) -> 276.66138 | Z8: =IF(F9="","",ABS(IF(H8=0,(I8)*60*COS(RADIANS(F8)),IF(I8=0,(H8*60),(H8/COS(RADIANS(X8)))*60)))) -> 276.66138 | AA8: =IF(Z8="","",Z8*1.00179527351758) -> 277.15806 | AB8: =IF(F9="","",ABS(IF(H8=0,I8*60*COS(RADIANS(F9)),(H8/COS(RADIANS(X8)))*60))) -> 276.66138 | AC8: =IF(F9="","",IF(H8=0,ABS(I8*60*COS(((ATAN(TAN(RADIANS(F9))*(1-0.08181919034^2)^0.5))))*1.001795274),IF(I8=0,ABS(((60.006994*H8)-8.660102*(SIN(RADIANS((2*F9)))-SIN(RADIANS((2*F8)))))),ABS((((60.006994*H8)-8.660102*(SIN(RADIANS((2*F9)))-SIN(RADIANS((2*F8))))))/COS(RADIANS(X8)))))) -> 275.3213 | AD8: =IF($C$2=1,HLOOKUP($A$2,$Y$4:$AC$64,C8+1),HLOOKUP($A$2,$R$4:$V$64,C8+1)) -> 277.54329 | AE8: =IF(F8="","",TRUNC(F8)*100+(F8-TRUNC(F8))*60) -> 350 | AF8: =IF(G8="","",TRUNC(G8)*100+(G8-TRUNC(G8))*60) -> -800 | AG8: =IF(X8="","",X8) -> 300.4 | AH8: =IF(AD8="","",ROUND(AD8,2)) -> 277.54 | AI8: =IF(AE9="","",AI7-AH7) -> 4223.18 | AL8: 2 | AM8: NO | AO8: 5 | AP8: TRUE WGS84 | AR8: 3 | AS8: =IF(I7="",AS7,AS7+I7) -> -9.2466667 | AT8: =IF(H7="",AT7,AT7+H7) -> -2.245
A9: =IF(OR(RIGHT('RHUMBLINE SAILING'!B12,1)="S",RIGHT('RHUMBLINE SAILING'!B12,1)="s"),-1,1)*(VALUE(LEFT('RHUMBLINE SAILING'!B12,FIND("° ",'RHUMBLINE SAILING'!B12,1)-1))+VALUE(MID('RHUMBLINE SAILING'!B12,(FIND("° ",'RHUMBLINE SAILING'!B12,1)+2),6))/60) -> #VALUE! | B9: =IF(OR(RIGHT('RHUMBLINE SAILING'!C12,1)="W",RIGHT('RHUMBLINE SAILING'!C12,1)="w"),-1,1)*(VALUE(LEFT('RHUMBLINE SAILING'!C12,FIND("° ",'RHUMBLINE SAILING'!C12,1)-1))+VALUE(MID('RHUMBLINE SAILING'!C12,(FIND("° ",'RHUMBLINE SAILING'!C12,1)+2),6))/60) -> #VALUE! | C9: 5 | D9: =IF('RHUMBLINE SAILING'!B12="","",IF($D$2=2,'RHUMBLINE SAILING'!B12,TRUNC(A9)*100+(A9-TRUNC(A9))*60)) -> 610 | E9: =IF('RHUMBLINE SAILING'!C12="","",IF($D$2=2,'RHUMBLINE SAILING'!C12,TRUNC(B9)*100+(B9-TRUNC(B9))*60)) -> -1200 | F9: =IF(D9="","",TRUNC(D9/100)+(D9/100-TRUNC(D9/100))/0.6) -> 6.1666667 | G9: =IF(E9="","",TRUNC(E9/100)+(E9/100-TRUNC(E9/100))/0.6) -> -12 | H9: =IF(F10="","",IF(F10-F9>180,F10-F9-360,IF(F10-F9<-180,F10-F9+360,F10-F9))) -> 1.3333333 | I9: =IF(G10="","",IF(G10-G9>180,G10-G9-360,IF(G10-G9<-180,G10-G9+360,G10-G9))) -> -2 | J9: =IF(F10="","",7915.70447*LOG(TAN(RADIANS((45+F10/2)))/TAN(RADIANS((45+F9/2))))) -> 80.57422 | K9: =IF(F10="","",7915.70446789782*LOG((TAN(RADIANS(45+F10/2))*(((1-0.0818191908426215*SIN(RADIANS(F10)))/(1+0.0818191908426215*SIN(RADIANS(F10))))^(0.0818191908426215/2)))/(TAN(RADIANS(45+F9/2))*(((1-0.0818191908426215*SIN(RADIANS(F9)))/(1+0.0818191908426215*SIN(RADIANS(F9))))^(0.0818191908426215/2))))) -> 80.042435 | L9: =IF(F10="","",DEGREES(ATAN2(3437.74677078*(LN((TAN(RADIANS(45+F10/2)))/(TAN(RADIANS(45+F9/2)))))-((SIN(RADIANS(F10))-SIN(RADIANS(F9)))*23.0135831934767)-((SIN(RADIANS(F10))^3)-(SIN(RADIANS(F9))^3))*(0.051353890277194)-((SIN(RADIANS(F10))^5)-(SIN(RADIANS(F9))^5))*(0.000206269473292),I9*60))) -> -56.295908 | M9: =IF(F10="","",IF(I9<0,360+DEGREES(ATAN2(H9,I9*COS(RADIANS((F10+F9)/2)))),DEGREES(ATAN2(H9,I9*COS(RADIANS((F10+F9)/2)))))) -> 303.87884 | N9: =IF(F10="","",IF(I9<0,360+DEGREES(ATAN2(J9,I9*60)),DEGREES(ATAN2(J9,I9*60)))) -> 303.87946 | O9: =N9 -> 303.87946 | P9: =IF(F10="","",IF(I9<0,360+DEGREES(ATAN2(K9,(I9*60))),DEGREES(ATAN2(K9,(I9*60))))) -> 303.70409 | Q9: =IF(I9<0,360+L9,L9) -> 303.70409 | R9: =IF(F10="","",IF(H9=0,(I9*COS(RADIANS((F10+F9)/2)))*60/SIN(RADIANS(M9)),H9*60/COS(RADIANS(M9)))) -> 143.51357 | S9: =IF(F10="","",ABS(IF(H9=0,(I9)*60*COS(RADIANS(F9)),IF(I9=0,(H9*60),(H9/COS(RADIANS(N9)))*60)))) -> 143.51127 | T9: =IF(S9="","",S9*1.00179527351758) -> 143.76892 | U9: =IF(F10="","",ABS(IF(H9=0,I9*60*COS(RADIANS(F10)),(H9/COS(RADIANS(P9)))*60))) -> 144.16912 | V9: =IF(F10="","",IF(H9=0,ABS(I9*60*COS(((ATAN(TAN(RADIANS(F10))*(1-0.08181919034^2)^0.5))))*1.001795274),IF(I9=0,ABS(((60.006994*H9)-8.660102*(SIN(RADIANS((2*F10)))-SIN(RADIANS((2*F9)))))),ABS((((60.006994*H9)-8.660102*(SIN(RADIANS((2*F10)))-SIN(RADIANS((2*F9))))))/COS(RADIANS(Q9)))))) -> 143.4802 | W9: =HLOOKUP($A$2,$M$4:$Q$64,C9+1) -> 303.87946 | X9: =IF(D10="","",IF($B$2=3,ROUND(W9,),IF($B$2=2,0.5*ROUND(W9/0.5,),ROUND(W9,1)))) -> 303.9 | Y9: =IF(F10="","",IF(H9=0,(I9*COS(RADIANS((F10+F9)/2)))*60/SIN(RADIANS(X9)),H9*60/COS(RADIANS(X9)))) -> 143.4347 | Z9: =IF(F10="","",ABS(IF(H9=0,(I9)*60*COS(RADIANS(F9)),IF(I9=0,(H9*60),(H9/COS(RADIANS(X9)))*60)))) -> 143.4347 | AA9: =IF(Z9="","",Z9*1.00179527351758) -> 143.6922 | AB9: =IF(F10="","",ABS(IF(H9=0,I9*60*COS(RADIANS(F10)),(H9/COS(RADIANS(X9)))*60))) -> 143.4347 | AC9: =IF(F10="","",IF(H9=0,ABS(I9*60*COS(((ATAN(TAN(RADIANS(F10))*(1-0.08181919034^2)^0.5))))*1.001795274),IF(I9=0,ABS(((60.006994*H9)-8.660102*(SIN(RADIANS((2*F10)))-SIN(RADIANS((2*F9)))))),ABS((((60.006994*H9)-8.660102*(SIN(RADIANS((2*F10)))-SIN(RADIANS((2*F9))))))/COS(RADIANS(X9)))))) -> 142.74928 | AD9: =IF($C$2=1,HLOOKUP($A$2,$Y$4:$AC$64,C9+1),HLOOKUP($A$2,$R$4:$V$64,C9+1)) -> 143.76892 | AE9: =IF(F9="","",TRUNC(F9)*100+(F9-TRUNC(F9))*60) -> 610 | AF9: =IF(G9="","",TRUNC(G9)*100+(G9-TRUNC(G9))*60) -> -1200 | AG9: =IF(X9="","",X9) -> 303.9 | AH9: =IF(AD9="","",ROUND(AD9,2)) -> 143.77 | AI9: =IF(AE10="","",AI8-AH8) -> 3945.64 | AR9: 4 | AS9: =IF(I8="",AS8,AS8+I8) -> -13.246667 | AT9: =IF(H8="",AT8,AT8+H8) -> 0.088333333
A10: =IF(OR(RIGHT('RHUMBLINE SAILING'!B13,1)="S",RIGHT('RHUMBLINE SAILING'!B13,1)="s"),-1,1)*(VALUE(LEFT('RHUMBLINE SAILING'!B13,FIND("° ",'RHUMBLINE SAILING'!B13,1)-1))+VALUE(MID('RHUMBLINE SAILING'!B13,(FIND("° ",'RHUMBLINE SAILING'!B13,1)+2),6))/60) -> #VALUE! | B10: =IF(OR(RIGHT('RHUMBLINE SAILING'!C13,1)="W",RIGHT('RHUMBLINE SAILING'!C13,1)="w"),-1,1)*(VALUE(LEFT('RHUMBLINE SAILING'!C13,FIND("° ",'RHUMBLINE SAILING'!C13,1)-1))+VALUE(MID('RHUMBLINE SAILING'!C13,(FIND("° ",'RHUMBLINE SAILING'!C13,1)+2),6))/60) -> #VALUE! | C10: 6 | D10: =IF('RHUMBLINE SAILING'!B13="","",IF($D$2=2,'RHUMBLINE SAILING'!B13,TRUNC(A10)*100+(A10-TRUNC(A10))*60)) -> 730 | E10: =IF('RHUMBLINE SAILING'!C13="","",IF($D$2=2,'RHUMBLINE SAILING'!C13,TRUNC(B10)*100+(B10-TRUNC(B10))*60)) -> -1400 | F10: =IF(D10="","",TRUNC(D10/100)+(D10/100-TRUNC(D10/100))/0.6) -> 7.5 | G10: =IF(E10="","",TRUNC(E10/100)+(E10/100-TRUNC(E10/100))/0.6) -> -14 | H10: =IF(F11="","",IF(F11-F10>180,F11-F10-360,IF(F11-F10<-180,F11-F10+360,F11-F10))) -> 7.1166667 | I10: =IF(G11="","",IF(G11-G10>180,G11-G10-360,IF(G11-G10<-180,G11-G10+360,G11-G10))) -> -11.166667 | J10: =IF(F11="","",7915.70447*LOG(TAN(RADIANS((45+F11/2)))/TAN(RADIANS((45+F10/2))))) -> 435.37973 | K10: =IF(F11="","",7915.70446789782*LOG((TAN(RADIANS(45+F11/2))*(((1-0.0818191908426215*SIN(RADIANS(F11)))/(1+0.0818191908426215*SIN(RADIANS(F11))))^(0.0818191908426215/2)))/(TAN(RADIANS(45+F10/2))*(((1-0.0818191908426215*SIN(RADIANS(F10)))/(1+0.0818191908426215*SIN(RADIANS(F10))))^(0.0818191908426215/2))))) -> 432.5754 | L10: =IF(F11="","",DEGREES(ATAN2(3437.74677078*(LN((TAN(RADIANS(45+F11/2)))/(TAN(RADIANS(45+F10/2)))))-((SIN(RADIANS(F11))-SIN(RADIANS(F10)))*23.0135831934767)-((SIN(RADIANS(F11))^3)-(SIN(RADIANS(F10))^3))*(0.051353890277194)-((SIN(RADIANS(F11))^5)-(SIN(RADIANS(F10))^5))*(0.000206269473292),I10*60))) -> -57.152301 | M10: =IF(F11="","",IF(I10<0,360+DEGREES(ATAN2(H10,I10*COS(RADIANS((F11+F10)/2)))),DEGREES(ATAN2(H10,I10*COS(RADIANS((F11+F10)/2)))))) -> 302.99851 | N10: =IF(F11="","",IF(I10<0,360+DEGREES(ATAN2(J10,I10*60)),DEGREES(ATAN2(J10,I10*60)))) -> 303.01664 | O10: =N10 -> 303.01664 | P10: =IF(F11="","",IF(I10<0,360+DEGREES(ATAN2(K10,(I10*60))),DEGREES(ATAN2(K10,(I10*60))))) -> 302.8477 | Q10: =IF(I10<0,360+L10,L10) -> 302.8477 | R10: =IF(F11="","",IF(H10=0,(I10*COS(RADIANS((F11+F10)/2)))*60/SIN(RADIANS(M10)),H10*60/COS(RADIANS(M10)))) -> 784.03685 | S10: =IF(F11="","",ABS(IF(H10=0,(I10)*60*COS(RADIANS(F10)),IF(I10=0,(H10*60),(H10/COS(RADIANS(N10)))*60)))) -> 783.65514 | T10: =IF(S10="","",S10*1.00179527351758) -> 785.06202 | U10: =IF(F11="","",ABS(IF(H10=0,I10*60*COS(RADIANS(F11)),(H10/COS(RADIANS(P10)))*60))) -> 787.23056 | V10: =IF(F11="","",IF(H10=0,ABS(I10*60*COS(((ATAN(TAN(RADIANS(F11))*(1-0.08181919034^2)^0.5))))*1.001795274),IF(I10=0,ABS(((60.006994*H10)-8.660102*(SIN(RADIANS((2*F11)))-SIN(RADIANS((2*F10)))))),ABS((((60.006994*H10)-8.660102*(SIN(RADIANS((2*F11)))-SIN(RADIANS((2*F10))))))/COS(RADIANS(Q10)))))) -> 783.65735 | W10: =HLOOKUP($A$2,$M$4:$Q$64,C10+1) -> 303.01664 | X10: =IF(D11="","",IF($B$2=3,ROUND(W10,),IF($B$2=2,0.5*ROUND(W10/0.5,),ROUND(W10,1)))) -> 303 | Y10: =IF(F11="","",IF(H10=0,(I10*COS(RADIANS((F11+F10)/2)))*60/SIN(RADIANS(X10)),H10*60/COS(RADIANS(X10)))) -> 784.0055 | Z10: =IF(F11="","",ABS(IF(H10=0,(I10)*60*COS(RADIANS(F10)),IF(I10=0,(H10*60),(H10/COS(RADIANS(X10)))*60)))) -> 784.0055 | AA10: =IF(Z10="","",Z10*1.00179527351758) -> 785.41301 | AB10: =IF(F11="","",ABS(IF(H10=0,I10*60*COS(RADIANS(F11)),(H10/COS(RADIANS(X10)))*60))) -> 784.0055 | AC10: =IF(F11="","",IF(H10=0,ABS(I10*60*COS(((ATAN(TAN(RADIANS(F11))*(1-0.08181919034^2)^0.5))))*1.001795274),IF(I10=0,ABS(((60.006994*H10)-8.660102*(SIN(RADIANS((2*F11)))-SIN(RADIANS((2*F10)))))),ABS((((60.006994*H10)-8.660102*(SIN(RADIANS((2*F11)))-SIN(RADIANS((2*F10))))))/COS(RADIANS(X10)))))) -> 780.44693 | AD10: =IF($C$2=1,HLOOKUP($A$2,$Y$4:$AC$64,C10+1),HLOOKUP($A$2,$R$4:$V$64,C10+1)) -> 785.06202 | AE10: =IF(F10="","",TRUNC(F10)*100+(F10-TRUNC(F10))*60) -> 730 | AF10: =IF(G10="","",TRUNC(G10)*100+(G10-TRUNC(G10))*60) -> -1400 | AG10: =IF(X10="","",X10) -> 303 | AH10: =IF(AD10="","",ROUND(AD10,2)) -> 785.06 | AI10: =IF(AE11="","",AI9-AH9) -> 3801.87 | AR10: 5 | AS10: =IF(I9="",AS9,AS9+I9) -> -15.246667 | AT10: =IF(H9="",AT9,AT9+H9) -> 1.4216667
A11: =IF(OR(RIGHT('RHUMBLINE SAILING'!B14,1)="S",RIGHT('RHUMBLINE SAILING'!B14,1)="s"),-1,1)*(VALUE(LEFT('RHUMBLINE SAILING'!B14,FIND("° ",'RHUMBLINE SAILING'!B14,1)-1))+VALUE(MID('RHUMBLINE SAILING'!B14,(FIND("° ",'RHUMBLINE SAILING'!B14,1)+2),6))/60) -> #VALUE! | B11: =IF(OR(RIGHT('RHUMBLINE SAILING'!C14,1)="W",RIGHT('RHUMBLINE SAILING'!C14,1)="w"),-1,1)*(VALUE(LEFT('RHUMBLINE SAILING'!C14,FIND("° ",'RHUMBLINE SAILING'!C14,1)-1))+VALUE(MID('RHUMBLINE SAILING'!C14,(FIND("° ",'RHUMBLINE SAILING'!C14,1)+2),6))/60) -> #VALUE! | C11: 7 | D11: =IF('RHUMBLINE SAILING'!B14="","",IF($D$2=2,'RHUMBLINE SAILING'!B14,TRUNC(A11)*100+(A11-TRUNC(A11))*60)) -> 1437 | E11: =IF('RHUMBLINE SAILING'!C14="","",IF($D$2=2,'RHUMBLINE SAILING'!C14,TRUNC(B11)*100+(B11-TRUNC(B11))*60)) -> -2510 | F11: =IF(D11="","",TRUNC(D11/100)+(D11/100-TRUNC(D11/100))/0.6) -> 14.616667 | G11: =IF(E11="","",TRUNC(E11/100)+(E11/100-TRUNC(E11/100))/0.6) -> -25.166667 | H11: =IF(F12="","",IF(F12-F11>180,F12-F11-360,IF(F12-F11<-180,F12-F11+360,F12-F11))) -> 3.3416667 | I11: =IF(G12="","",IF(G12-G11>180,G12-G11-360,IF(G12-G11<-180,G12-G11+360,G12-G11))) -> -4.8333333 | J11: =IF(F12="","",7915.70447*LOG(TAN(RADIANS((45+F12/2)))/TAN(RADIANS((45+F11/2))))) -> 208.91788 | K11: =IF(F12="","",7915.70446789782*LOG((TAN(RADIANS(45+F12/2))*(((1-0.0818191908426215*SIN(RADIANS(F12)))/(1+0.0818191908426215*SIN(RADIANS(F12))))^(0.0818191908426215/2)))/(TAN(RADIANS(45+F11/2))*(((1-0.0818191908426215*SIN(RADIANS(F11)))/(1+0.0818191908426215*SIN(RADIANS(F11))))^(0.0818191908426215/2))))) -> 207.62903 | L11: =IF(F12="","",DEGREES(ATAN2(3437.74677078*(LN((TAN(RADIANS(45+F12/2)))/(TAN(RADIANS(45+F11/2)))))-((SIN(RADIANS(F12))-SIN(RADIANS(F11)))*23.0135831934767)-((SIN(RADIANS(F12))^3)-(SIN(RADIANS(F11))^3))*(0.051353890277194)-((SIN(RADIANS(F12))^5)-(SIN(RADIANS(F11))^5))*(0.000206269473292),I11*60))) -> -54.398769 | M11: =IF(F12="","",IF(I11<0,360+DEGREES(ATAN2(H11,I11*COS(RADIANS((F12+F11)/2)))),DEGREES(ATAN2(H11,I11*COS(RADIANS((F12+F11)/2)))))) -> 305.76471 | N11: =IF(F12="","",IF(I11<0,360+DEGREES(ATAN2(J11,I11*60)),DEGREES(ATAN2(J11,I11*60)))) -> 305.76922 | O11: =N11 -> 305.76922 | P11: =IF(F12="","",IF(I11<0,360+DEGREES(ATAN2(K11,(I11*60))),DEGREES(ATAN2(K11,(I11*60))))) -> 305.60123 | Q11: =IF(I11<0,360+L11,L11) -> 305.60123 | R11: =IF(F12="","",IF(H11=0,(I11*COS(RADIANS((F12+F11)/2)))*60/SIN(RADIANS(M11)),H11*60/COS(RADIANS(M11)))) -> 343.05285 | S11: =IF(F12="","",ABS(IF(H11=0,(I11)*60*COS(RADIANS(F11)),IF(I11=0,(H11*60),(H11/COS(RADIANS(N11)))*60)))) -> 343.01536 | T11: =IF(S11="","",S11*1.00179527351758) -> 343.63117 | U11: =IF(F12="","",ABS(IF(H11=0,I11*60*COS(RADIANS(F12)),(H11/COS(RADIANS(P11)))*60))) -> 344.41861 | V11: =IF(F12="","",IF(H11=0,ABS(I11*60*COS(((ATAN(TAN(RADIANS(F12))*(1-0.08181919034^2)^0.5))))*1.001795274),IF(I11=0,ABS(((60.006994*H11)-8.660102*(SIN(RADIANS((2*F12)))-SIN(RADIANS((2*F11)))))),ABS((((60.006994*H11)-8.660102*(SIN(RADIANS((2*F12)))-SIN(RADIANS((2*F11))))))/COS(RADIANS(Q11)))))) -> 342.9973 | W11: =HLOOKUP($A$2,$M$4:$Q$64,C11+1) -> 305.76922 | X11: =IF(D12="","",IF($B$2=3,ROUND(W11,),IF($B$2=2,0.5*ROUND(W11/0.5,),ROUND(W11,1)))) -> 305.8 | Y11: =IF(F12="","",IF(H11=0,(I11*COS(RADIANS((F12+F11)/2)))*60/SIN(RADIANS(X11)),H11*60/COS(RADIANS(X11)))) -> 342.75984 | Z11: =IF(F12="","",ABS(IF(H11=0,(I11)*60*COS(RADIANS(F11)),IF(I11=0,(H11*60),(H11/COS(RADIANS(X11)))*60)))) -> 342.75984 | AA11: =IF(Z11="","",Z11*1.00179527351758) -> 343.37519 | AB11: =IF(F12="","",ABS(IF(H11=0,I11*60*COS(RADIANS(F12)),(H11/COS(RADIANS(X11)))*60))) -> 342.75984 | AC11: =IF(F12="","",IF(H11=0,ABS(I11*60*COS(((ATAN(TAN(RADIANS(F12))*(1-0.08181919034^2)^0.5))))*1.001795274),IF(I11=0,ABS(((60.006994*H11)-8.660102*(SIN(RADIANS((2*F12)))-SIN(RADIANS((2*F11)))))),ABS((((60.006994*H11)-8.660102*(SIN(RADIANS((2*F12)))-SIN(RADIANS((2*F11))))))/COS(RADIANS(X11)))))) -> 341.34538 | AD11: =IF($C$2=1,HLOOKUP($A$2,$Y$4:$AC$64,C11+1),HLOOKUP($A$2,$R$4:$V$64,C11+1)) -> 343.63117 | AE11: =IF(F11="","",TRUNC(F11)*100+(F11-TRUNC(F11))*60) -> 1437 | AF11: =IF(G11="","",TRUNC(G11)*100+(G11-TRUNC(G11))*60) -> -2510 | AG11: =IF(X11="","",X11) -> 305.8 | AH11: =IF(AD11="","",ROUND(AD11,2)) -> 343.63 | AI11: =IF(AE12="","",AI10-AH10) -> 3016.81 | AR11: 6 | AS11: =IF(I10="",AS10,AS10+I10) -> -26.413333 | AT11: =IF(H10="",AT10,AT10+H10) -> 8.5383333
A12: =IF(OR(RIGHT('RHUMBLINE SAILING'!B15,1)="S",RIGHT('RHUMBLINE SAILING'!B15,1)="s"),-1,1)*(VALUE(LEFT('RHUMBLINE SAILING'!B15,FIND("° ",'RHUMBLINE SAILING'!B15,1)-1))+VALUE(MID('RHUMBLINE SAILING'!B15,(FIND("° ",'RHUMBLINE SAILING'!B15,1)+2),6))/60) -> #VALUE! | B12: =IF(OR(RIGHT('RHUMBLINE SAILING'!C15,1)="W",RIGHT('RHUMBLINE SAILING'!C15,1)="w"),-1,1)*(VALUE(LEFT('RHUMBLINE SAILING'!C15,FIND("° ",'RHUMBLINE SAILING'!C15,1)-1))+VALUE(MID('RHUMBLINE SAILING'!C15,(FIND("° ",'RHUMBLINE SAILING'!C15,1)+2),6))/60) -> #VALUE! | C12: 8 | D12: =IF('RHUMBLINE SAILING'!B15="","",IF($D$2=2,'RHUMBLINE SAILING'!B15,TRUNC(A12)*100+(A12-TRUNC(A12))*60)) -> 1757.5 | E12: =IF('RHUMBLINE SAILING'!C15="","",IF($D$2=2,'RHUMBLINE SAILING'!C15,TRUNC(B12)*100+(B12-TRUNC(B12))*60)) -> -3000 | F12: =IF(D12="","",TRUNC(D12/100)+(D12/100-TRUNC(D12/100))/0.6) -> 17.958333 | G12: =IF(E12="","",TRUNC(E12/100)+(E12/100-TRUNC(E12/100))/0.6) -> -30 | H12: =IF(F13="","",IF(F13-F12>180,F13-F12-360,IF(F13-F12<-180,F13-F12+360,F13-F12))) -> 3.2066667 | I12: =IF(G13="","",IF(G13-G12>180,G13-G12-360,IF(G13-G12<-180,G13-G12+360,G13-G12))) -> -5 | J12: =IF(F13="","",7915.70447*LOG(TAN(RADIANS((45+F13/2)))/TAN(RADIANS((45+F12/2))))) -> 204.21862 | K12: =IF(F13="","",7915.70446789782*LOG((TAN(RADIANS(45+F13/2))*(((1-0.0818191908426215*SIN(RADIANS(F13)))/(1+0.0818191908426215*SIN(RADIANS(F13))))^(0.0818191908426215/2)))/(TAN(RADIANS(45+F12/2))*(((1-0.0818191908426215*SIN(RADIANS(F12)))/(1+0.0818191908426215*SIN(RADIANS(F12))))^(0.0818191908426215/2))))) -> 203.00421 | L12: =IF(F13="","",DEGREES(ATAN2(3437.74677078*(LN((TAN(RADIANS(45+F13/2)))/(TAN(RADIANS(45+F12/2)))))-((SIN(RADIANS(F13))-SIN(RADIANS(F12)))*23.0135831934767)-((SIN(RADIANS(F13))^3)-(SIN(RADIANS(F12))^3))*(0.051353890277194)-((SIN(RADIANS(F13))^5)-(SIN(RADIANS(F12))^5))*(0.000206269473292),I12*60))) -> -55.914547 | M12: =IF(F13="","",IF(I12<0,360+DEGREES(ATAN2(H12,I12*COS(RADIANS((F13+F12)/2)))),DEGREES(ATAN2(H12,I12*COS(RADIANS((F13+F12)/2)))))) -> 304.23989 | N12: =IF(F13="","",IF(I12<0,360+DEGREES(ATAN2(J12,I12*60)),DEGREES(ATAN2(J12,I12*60)))) -> 304.24424 | O12: =N12 -> 304.24424 | P12: =IF(F13="","",IF(I12<0,360+DEGREES(ATAN2(K12,(I12*60))),DEGREES(ATAN2(K12,(I12*60))))) -> 304.08545 | Q12: =IF(I12<0,360+L12,L12) -> 304.08545 | R12: =IF(F13="","",IF(H12=0,(I12*COS(RADIANS((F13+F12)/2)))*60/SIN(RADIANS(M12)),H12*60/COS(RADIANS(M12)))) -> 341.94779 | S12: =IF(F13="","",ABS(IF(H12=0,(I12)*60*COS(RADIANS(F12)),IF(I12=0,(H12*60),(H12/COS(RADIANS(N12)))*60)))) -> 341.90958 | T12: =IF(S12="","",S12*1.00179527351758) -> 342.5234 | U12: =IF(F13="","",ABS(IF(H12=0,I12*60*COS(RADIANS(F13)),(H12/COS(RADIANS(P12)))*60))) -> 343.30859 | V12: =IF(F13="","",IF(H12=0,ABS(I12*60*COS(((ATAN(TAN(RADIANS(F13))*(1-0.08181919034^2)^0.5))))*1.001795274),IF(I12=0,ABS(((60.006994*H12)-8.660102*(SIN(RADIANS((2*F13)))-SIN(RADIANS((2*F12)))))),ABS((((60.006994*H12)-8.660102*(SIN(RADIANS((2*F13)))-SIN(RADIANS((2*F12))))))/COS(RADIANS(Q12)))))) -> 342.00745 | W12: =HLOOKUP($A$2,$M$4:$Q$64,C12+1) -> 304.24424 | X12: =IF(D13="","",IF($B$2=3,ROUND(W12,),IF($B$2=2,0.5*ROUND(W12/0.5,),ROUND(W12,1)))) -> 304.2 | Y12: =IF(F13="","",IF(H12=0,(I12*COS(RADIANS((F13+F12)/2)))*60/SIN(RADIANS(X12)),H12*60/COS(RADIANS(X12)))) -> 342.29797 | Z12: =IF(F13="","",ABS(IF(H12=0,(I12)*60*COS(RADIANS(F12)),IF(I12=0,(H12*60),(H12/COS(RADIANS(X12)))*60)))) -> 342.29797 | AA12: =IF(Z12="","",Z12*1.00179527351758) -> 342.91249 | AB12: =IF(F13="","",ABS(IF(H12=0,I12*60*COS(RADIANS(F13)),(H12/COS(RADIANS(X12)))*60))) -> 342.29797 | AC12: =IF(F13="","",IF(H12=0,ABS(I12*60*COS(((ATAN(TAN(RADIANS(F13))*(1-0.08181919034^2)^0.5))))*1.001795274),IF(I12=0,ABS(((60.006994*H12)-8.660102*(SIN(RADIANS((2*F13)))-SIN(RADIANS((2*F12)))))),ABS((((60.006994*H12)-8.660102*(SIN(RADIANS((2*F13)))-SIN(RADIANS((2*F12))))))/COS(RADIANS(X12)))))) -> 341.00066 | AD12: =IF($C$2=1,HLOOKUP($A$2,$Y$4:$AC$64,C12+1),HLOOKUP($A$2,$R$4:$V$64,C12+1)) -> 342.5234 | AE12: =IF(F12="","",TRUNC(F12)*100+(F12-TRUNC(F12))*60) -> 1757.5 | AF12: =IF(G12="","",TRUNC(G12)*100+(G12-TRUNC(G12))*60) -> -3000 | AG12: =IF(X12="","",X12) -> 304.2 | AH12: =IF(AD12="","",ROUND(AD12,2)) -> 342.52 | AI12: =IF(AE13="","",AI11-AH11) -> 2673.18 | AR12: 7 | AS12: =IF(I11="",AS11,AS11+I11) -> -31.246667 | AT12: =IF(H11="",AT11,AT11+H11) -> 11.88
A13: =IF(OR(RIGHT('RHUMBLINE SAILING'!B16,1)="S",RIGHT('RHUMBLINE SAILING'!B16,1)="s"),-1,1)*(VALUE(LEFT('RHUMBLINE SAILING'!B16,FIND("° ",'RHUMBLINE SAILING'!B16,1)-1))+VALUE(MID('RHUMBLINE SAILING'!B16,(FIND("° ",'RHUMBLINE SAILING'!B16,1)+2),6))/60) -> #VALUE! | B13: =IF(OR(RIGHT('RHUMBLINE SAILING'!C16,1)="W",RIGHT('RHUMBLINE SAILING'!C16,1)="w"),-1,1)*(VALUE(LEFT('RHUMBLINE SAILING'!C16,FIND("° ",'RHUMBLINE SAILING'!C16,1)-1))+VALUE(MID('RHUMBLINE SAILING'!C16,(FIND("° ",'RHUMBLINE SAILING'!C16,1)+2),6))/60) -> #VALUE! | C13: 9 | D13: =IF('RHUMBLINE SAILING'!B16="","",IF($D$2=2,'RHUMBLINE SAILING'!B16,TRUNC(A13)*100+(A13-TRUNC(A13))*60)) -> 2109.9 | E13: =IF('RHUMBLINE SAILING'!C16="","",IF($D$2=2,'RHUMBLINE SAILING'!C16,TRUNC(B13)*100+(B13-TRUNC(B13))*60)) -> -3500 | F13: =IF(D13="","",TRUNC(D13/100)+(D13/100-TRUNC(D13/100))/0.6) -> 21.165 | G13: =IF(E13="","",TRUNC(E13/100)+(E13/100-TRUNC(E13/100))/0.6) -> -35 | H13: =IF(F14="","",IF(F14-F13>180,F14-F13-360,IF(F14-F13<-180,F14-F13+360,F14-F13))) -> 2.9333333 | I13: =IF(G14="","",IF(G14-G13>180,G14-G13-360,IF(G14-G13<-180,G14-G13+360,G14-G13))) -> -5 | J13: =IF(F14="","",7915.70447*LOG(TAN(RADIANS((45+F14/2)))/TAN(RADIANS((45+F13/2))))) -> 190.71111 | K13: =IF(F14="","",7915.70446789782*LOG((TAN(RADIANS(45+F14/2))*(((1-0.0818191908426215*SIN(RADIANS(F14)))/(1+0.0818191908426215*SIN(RADIANS(F14))))^(0.0818191908426215/2)))/(TAN(RADIANS(45+F13/2))*(((1-0.0818191908426215*SIN(RADIANS(F13)))/(1+0.0818191908426215*SIN(RADIANS(F13))))^(0.0818191908426215/2))))) -> 189.62266 | L13: =IF(F14="","",DEGREES(ATAN2(3437.74677078*(LN((TAN(RADIANS(45+F14/2)))/(TAN(RADIANS(45+F13/2)))))-((SIN(RADIANS(F14))-SIN(RADIANS(F13)))*23.0135831934767)-((SIN(RADIANS(F14))^3)-(SIN(RADIANS(F13))^3))*(0.051353890277194)-((SIN(RADIANS(F14))^5)-(SIN(RADIANS(F13))^5))*(0.000206269473292),I13*60))) -> -57.704021 | M13: =IF(F14="","",IF(I13<0,360+DEGREES(ATAN2(H13,I13*COS(RADIANS((F14+F13)/2)))),DEGREES(ATAN2(H13,I13*COS(RADIANS((F14+F13)/2)))))) -> 302.44045 | N13: =IF(F14="","",IF(I13<0,360+DEGREES(ATAN2(J13,I13*60)),DEGREES(ATAN2(J13,I13*60)))) -> 302.44427 | O13: =N13 -> 302.44427 | P13: =IF(F14="","",IF(I13<0,360+DEGREES(ATAN2(K13,(I13*60))),DEGREES(ATAN2(K13,(I13*60))))) -> 302.29598 | Q13: =IF(I13<0,360+L13,L13) -> 302.29598 | R13: =IF(F14="","",IF(H13=0,(I13*COS(RADIANS((F14+F13)/2)))*60/SIN(RADIANS(M13)),H13*60/COS(RADIANS(M13)))) -> 328.09941 | S13: =IF(F14="","",ABS(IF(H13=0,(I13)*60*COS(RADIANS(F13)),IF(I13=0,(H13*60),(H13/COS(RADIANS(N13)))*60)))) -> 328.06502 | T13: =IF(S13="","",S13*1.00179527351758) -> 328.65398 | U13: =IF(F14="","",ABS(IF(H13=0,I13*60*COS(RADIANS(F14)),(H13/COS(RADIANS(P13)))*60))) -> 329.40726 | V13: =IF(F14="","",IF(H13=0,ABS(I13*60*COS(((ATAN(TAN(RADIANS(F14))*(1-0.08181919034^2)^0.5))))*1.001795274),IF(I13=0,ABS(((60.006994*H13)-8.660102*(SIN(RADIANS((2*F14)))-SIN(RADIANS((2*F13)))))),ABS((((60.006994*H13)-8.660102*(SIN(RADIANS((2*F14)))-SIN(RADIANS((2*F13))))))/COS(RADIANS(Q13)))))) -> 328.27803 | W13: =HLOOKUP($A$2,$M$4:$Q$64,C13+1) -> 302.44427 | X13: =IF(D14="","",IF($B$2=3,ROUND(W13,),IF($B$2=2,0.5*ROUND(W13/0.5,),ROUND(W13,1)))) -> 302.4 | Y13: =IF(F14="","",IF(H13=0,(I13*COS(RADIANS((F14+F13)/2)))*60/SIN(RADIANS(X13)),H13*60/COS(RADIANS(X13)))) -> 328.46435 | Z13: =IF(F14="","",ABS(IF(H13=0,(I13)*60*COS(RADIANS(F13)),IF(I13=0,(H13*60),(H13/COS(RADIANS(X13)))*60)))) -> 328.46435 | AA13: =IF(Z13="","",Z13*1.00179527351758) -> 329.05403 | AB13: =IF(F14="","",ABS(IF(H13=0,I13*60*COS(RADIANS(F14)),(H13/COS(RADIANS(X13)))*60))) -> 328.46435 | AC13: =IF(F14="","",IF(H13=0,ABS(I13*60*COS(((ATAN(TAN(RADIANS(F14))*(1-0.08181919034^2)^0.5))))*1.001795274),IF(I13=0,ABS(((60.006994*H13)-8.660102*(SIN(RADIANS((2*F14)))-SIN(RADIANS((2*F13)))))),ABS((((60.006994*H13)-8.660102*(SIN(RADIANS((2*F14)))-SIN(RADIANS((2*F13))))))/COS(RADIANS(X13)))))) -> 327.33836 | AD13: =IF($C$2=1,HLOOKUP($A$2,$Y$4:$AC$64,C13+1),HLOOKUP($A$2,$R$4:$V$64,C13+1)) -> 328.65398 | AE13: =IF(F13="","",TRUNC(F13)*100+(F13-TRUNC(F13))*60) -> 2109.9 | AF13: =IF(G13="","",TRUNC(G13)*100+(G13-TRUNC(G13))*60) -> -3500 | AG13: =IF(X13="","",X13) -> 302.4 | AH13: =IF(AD13="","",ROUND(AD13,2)) -> 328.65 | AI13: =IF(AE14="","",AI12-AH12) -> 2330.66 | AR13: 8 | AS13: =IF(I12="","",AS12+I12) -> -36.246667 | AT13: =IF(H12="",AT12,AT12+H12) -> 15.086667
A14: =IF(OR(RIGHT('RHUMBLINE SAILING'!B17,1)="S",RIGHT('RHUMBLINE SAILING'!B17,1)="s"),-1,1)*(VALUE(LEFT('RHUMBLINE SAILING'!B17,FIND("° ",'RHUMBLINE SAILING'!B17,1)-1))+VALUE(MID('RHUMBLINE SAILING'!B17,(FIND("° ",'RHUMBLINE SAILING'!B17,1)+2),6))/60) -> #VALUE! | B14: =IF(OR(RIGHT('RHUMBLINE SAILING'!C17,1)="W",RIGHT('RHUMBLINE SAILING'!C17,1)="w"),-1,1)*(VALUE(LEFT('RHUMBLINE SAILING'!C17,FIND("° ",'RHUMBLINE SAILING'!C17,1)-1))+VALUE(MID('RHUMBLINE SAILING'!C17,(FIND("° ",'RHUMBLINE SAILING'!C17,1)+2),6))/60) -> #VALUE! | C14: 10 | D14: =IF('RHUMBLINE SAILING'!B17="","",IF($D$2=2,'RHUMBLINE SAILING'!B17,TRUNC(A14)*100+(A14-TRUNC(A14))*60)) -> 2405.9 | E14: =IF('RHUMBLINE SAILING'!C17="","",IF($D$2=2,'RHUMBLINE SAILING'!C17,TRUNC(B14)*100+(B14-TRUNC(B14))*60)) -> -4000 | F14: =IF(D14="","",TRUNC(D14/100)+(D14/100-TRUNC(D14/100))/0.6) -> 24.098333 | G14: =IF(E14="","",TRUNC(E14/100)+(E14/100-TRUNC(E14/100))/0.6) -> -40 | H14: =IF(F15="","",IF(F15-F14>180,F15-F14-360,IF(F15-F14<-180,F15-F14+360,F15-F14))) -> 2.65 | I14: =IF(G15="","",IF(G15-G14>180,G15-G14-360,IF(G15-G14<-180,G15-G14+360,G15-G14))) -> -5 | J14: =IF(F15="","",7915.70447*LOG(TAN(RADIANS((45+F15/2)))/TAN(RADIANS((45+F14/2))))) -> 176.07122 | K14: =IF(F15="","",7915.70446789782*LOG((TAN(RADIANS(45+F15/2))*(((1-0.0818191908426215*SIN(RADIANS(F15)))/(1+0.0818191908426215*SIN(RADIANS(F15))))^(0.0818191908426215/2)))/(TAN(RADIANS(45+F14/2))*(((1-0.0818191908426215*SIN(RADIANS(F14)))/(1+0.0818191908426215*SIN(RADIANS(F14))))^(0.0818191908426215/2))))) -> 175.10879 | L14: =IF(F15="","",DEGREES(ATAN2(3437.74677078*(LN((TAN(RADIANS(45+F15/2)))/(TAN(RADIANS(45+F14/2)))))-((SIN(RADIANS(F15))-SIN(RADIANS(F14)))*23.0135831934767)-((SIN(RADIANS(F15))^3)-(SIN(RADIANS(F14))^3))*(0.051353890277194)-((SIN(RADIANS(F15))^5)-(SIN(RADIANS(F14))^5))*(0.000206269473292),I14*60))) -> -59.728063 | M14: =IF(F15="","",IF(I14<0,360+DEGREES(ATAN2(H14,I14*COS(RADIANS((F15+F14)/2)))),DEGREES(ATAN2(H14,I14*COS(RADIANS((F15+F14)/2)))))) -> 300.40561 | N14: =IF(F15="","",IF(I14<0,360+DEGREES(ATAN2(J14,I14*60)),DEGREES(ATAN2(J14,I14*60)))) -> 300.40885 | O14: =N14 -> 300.40885 | P14: =IF(F15="","",IF(I14<0,360+DEGREES(ATAN2(K14,(I14*60))),DEGREES(ATAN2(K14,(I14*60))))) -> 300.27194 | Q14: =IF(I14<0,360+L14,L14) -> 300.27194 | R14: =IF(F15="","",IF(H14=0,(I14*COS(RADIANS((F15+F14)/2)))*60/SIN(RADIANS(M14)),H14*60/COS(RADIANS(M14)))) -> 314.15586 | S14: =IF(F15="","",ABS(IF(H14=0,(I14)*60*COS(RADIANS(F14)),IF(I14=0,(H14*60),(H14/COS(RADIANS(N14)))*60)))) -> 314.12562 | T14: =IF(S14="","",S14*1.00179527351758) -> 314.68956 | U14: =IF(F15="","",ABS(IF(H14=0,I14*60*COS(RADIANS(F15)),(H14/COS(RADIANS(P14)))*60))) -> 315.41068 | V14: =IF(F15="","",IF(H14=0,ABS(I14*60*COS(((ATAN(TAN(RADIANS(F15))*(1-0.08181919034^2)^0.5))))*1.001795274),IF(I14=0,ABS(((60.006994*H14)-8.660102*(SIN(RADIANS((2*F15)))-SIN(RADIANS((2*F14)))))),ABS((((60.006994*H14)-8.660102*(SIN(RADIANS((2*F15)))-SIN(RADIANS((2*F14))))))/COS(RADIANS(Q14)))))) -> 314.44444 | W14: =HLOOKUP($A$2,$M$4:$Q$64,C14+1) -> 300.40885 | X14: =IF(D15="","",IF($B$2=3,ROUND(W14,),IF($B$2=2,0.5*ROUND(W14/0.5,),ROUND(W14,1)))) -> 300.4 | Y14: =IF(F15="","",IF(H14=0,(I14*COS(RADIANS((F15+F14)/2)))*60/SIN(RADIANS(X14)),H14*60/COS(RADIANS(X14)))) -> 314.20828 | Z14: =IF(F15="","",ABS(IF(H14=0,(I14)*60*COS(RADIANS(F14)),IF(I14=0,(H14*60),(H14/COS(RADIANS(X14)))*60)))) -> 314.20828 | AA14: =IF(Z14="","",Z14*1.00179527351758) -> 314.77237 | AB14: =IF(F15="","",ABS(IF(H14=0,I14*60*COS(RADIANS(F15)),(H14/COS(RADIANS(X14)))*60))) -> 314.20828 | AC14: =IF(F15="","",IF(H14=0,ABS(I14*60*COS(((ATAN(TAN(RADIANS(F15))*(1-0.08181919034^2)^0.5))))*1.001795274),IF(I14=0,ABS(((60.006994*H14)-8.660102*(SIN(RADIANS((2*F15)))-SIN(RADIANS((2*F14)))))),ABS((((60.006994*H14)-8.660102*(SIN(RADIANS((2*F15)))-SIN(RADIANS((2*F14))))))/COS(RADIANS(X14)))))) -> 313.24573 | AD14: =IF($C$2=1,HLOOKUP($A$2,$Y$4:$AC$64,C14+1),HLOOKUP($A$2,$R$4:$V$64,C14+1)) -> 314.68956 | AE14: =IF(F14="","",TRUNC(F14)*100+(F14-TRUNC(F14))*60) -> 2405.9 | AF14: =IF(G14="","",TRUNC(G14)*100+(G14-TRUNC(G14))*60) -> -4000 | AG14: =IF(X14="","",X14) -> 300.4 | AH14: =IF(AD14="","",ROUND(AD14,2)) -> 314.69 | AI14: =IF(AE15="","",AI13-AH13) -> 2002.01 | AR14: 9 | AS14: =IF(I13="","",AS13+I13) -> -41.246667 | AT14: =IF(H13="","",AT13+H13) -> 18.02
A15: =IF(OR(RIGHT('RHUMBLINE SAILING'!B18,1)="S",RIGHT('RHUMBLINE SAILING'!B18,1)="s"),-1,1)*(VALUE(LEFT('RHUMBLINE SAILING'!B18,FIND("° ",'RHUMBLINE SAILING'!B18,1)-1))+VALUE(MID('RHUMBLINE SAILING'!B18,(FIND("° ",'RHUMBLINE SAILING'!B18,1)+2),6))/60) -> #VALUE! | B15: =IF(OR(RIGHT('RHUMBLINE SAILING'!C18,1)="W",RIGHT('RHUMBLINE SAILING'!C18,1)="w"),-1,1)*(VALUE(LEFT('RHUMBLINE SAILING'!C18,FIND("° ",'RHUMBLINE SAILING'!C18,1)-1))+VALUE(MID('RHUMBLINE SAILING'!C18,(FIND("° ",'RHUMBLINE SAILING'!C18,1)+2),6))/60) -> #VALUE! | C15: 11 | D15: =IF('RHUMBLINE SAILING'!B18="","",IF($D$2=2,'RHUMBLINE SAILING'!B18,TRUNC(A15)*100+(A15-TRUNC(A15))*60)) -> 2644.9 | E15: =IF('RHUMBLINE SAILING'!C18="","",IF($D$2=2,'RHUMBLINE SAILING'!C18,TRUNC(B15)*100+(B15-TRUNC(B15))*60)) -> -4500 | F15: =IF(D15="","",TRUNC(D15/100)+(D15/100-TRUNC(D15/100))/0.6) -> 26.748333 | G15: =IF(E15="","",TRUNC(E15/100)+(E15/100-TRUNC(E15/100))/0.6) -> -45 | H15: =IF(F16="","",IF(F16-F15>180,F16-F15-360,IF(F16-F15<-180,F16-F15+360,F16-F15))) -> 2.3633333 | I15: =IF(G16="","",IF(G16-G15>180,G16-G15-360,IF(G16-G15<-180,G16-G15+360,G16-G15))) -> -5 | J15: =IF(F16="","",7915.70447*LOG(TAN(RADIANS((45+F16/2)))/TAN(RADIANS((45+F15/2))))) -> 160.51207 | K15: =IF(F16="","",7915.70446789782*LOG((TAN(RADIANS(45+F16/2))*(((1-0.0818191908426215*SIN(RADIANS(F16)))/(1+0.0818191908426215*SIN(RADIANS(F16))))^(0.0818191908426215/2)))/(TAN(RADIANS(45+F15/2))*(((1-0.0818191908426215*SIN(RADIANS(F15)))/(1+0.0818191908426215*SIN(RADIANS(F15))))^(0.0818191908426215/2))))) -> 159.6722 | L15: =IF(F16="","",DEGREES(ATAN2(3437.74677078*(LN((TAN(RADIANS(45+F16/2)))/(TAN(RADIANS(45+F15/2)))))-((SIN(RADIANS(F16))-SIN(RADIANS(F15)))*23.0135831934767)-((SIN(RADIANS(F16))^3)-(SIN(RADIANS(F15))^3))*(0.051353890277194)-((SIN(RADIANS(F16))^5)-(SIN(RADIANS(F15))^5))*(0.000206269473292),I15*60))) -> -61.976276 | M15: =IF(F16="","",IF(I15<0,360+DEGREES(ATAN2(H15,I15*COS(RADIANS((F16+F15)/2)))),DEGREES(ATAN2(H15,I15*COS(RADIANS((F16+F15)/2)))))) -> 298.14593 | N15: =IF(F16="","",IF(I15<0,360+DEGREES(ATAN2(J15,I15*60)),DEGREES(ATAN2(J15,I15*60)))) -> 298.14857 | O15: =N15 -> 298.14857 | P15: =IF(F16="","",IF(I15<0,360+DEGREES(ATAN2(K15,(I15*60))),DEGREES(ATAN2(K15,(I15*60))))) -> 298.02372 | Q15: =IF(I15<0,360+L15,L15) -> 298.02372 | R15: =IF(F16="","",IF(H15=0,(I15*COS(RADIANS((F16+F15)/2)))*60/SIN(RADIANS(M15)),H15*60/COS(RADIANS(M15)))) -> 300.60273 | S15: =IF(F16="","",ABS(IF(H15=0,(I15)*60*COS(RADIANS(F15)),IF(I15=0,(H15*60),(H15/COS(RADIANS(N15)))*60)))) -> 300.57685 | T15: =IF(S15="","",S15*1.00179527351758) -> 301.11647 | U15: =IF(F16="","",ABS(IF(H15=0,I15*60*COS(RADIANS(F16)),(H15/COS(RADIANS(P15)))*60))) -> 301.80672 | V15: =IF(F16="","",IF(H15=0,ABS(I15*60*COS(((ATAN(TAN(RADIANS(F16))*(1-0.08181919034^2)^0.5))))*1.001795274),IF(I15=0,ABS(((60.006994*H15)-8.660102*(SIN(RADIANS((2*F16)))-SIN(RADIANS((2*F15)))))),ABS((((60.006994*H15)-8.660102*(SIN(RADIANS((2*F16)))-SIN(RADIANS((2*F15))))))/COS(RADIANS(Q15)))))) -> 300.98877 | W15: =HLOOKUP($A$2,$M$4:$Q$64,C15+1) -> 298.14857 | X15: =IF(D16="","",IF($B$2=3,ROUND(W15,),IF($B$2=2,0.5*ROUND(W15/0.5,),ROUND(W15,1)))) -> 298.1 | Y15: =IF(F16="","",IF(H15=0,(I15*COS(RADIANS((F16+F15)/2)))*60/SIN(RADIANS(X15)),H15*60/COS(RADIANS(X15)))) -> 301.05398 | Z15: =IF(F16="","",ABS(IF(H15=0,(I15)*60*COS(RADIANS(F15)),IF(I15=0,(H15*60),(H15/COS(RADIANS(X15)))*60)))) -> 301.05398 | AA15: =IF(Z15="","",Z15*1.00179527351758) -> 301.59445 | AB15: =IF(F16="","",ABS(IF(H15=0,I15*60*COS(RADIANS(F16)),(H15/COS(RADIANS(X15)))*60))) -> 301.05398 | AC15: =IF(F16="","",IF(H15=0,ABS(I15*60*COS(((ATAN(TAN(RADIANS(F16))*(1-0.08181919034^2)^0.5))))*1.001795274),IF(I15=0,ABS(((60.006994*H15)-8.660102*(SIN(RADIANS((2*F16)))-SIN(RADIANS((2*F15)))))),ABS((((60.006994*H15)-8.660102*(SIN(RADIANS((2*F16)))-SIN(RADIANS((2*F15))))))/COS(RADIANS(X15)))))) -> 300.23807 | AD15: =IF($C$2=1,HLOOKUP($A$2,$Y$4:$AC$64,C15+1),HLOOKUP($A$2,$R$4:$V$64,C15+1)) -> 301.11647 | AE15: =IF(F15="","",TRUNC(F15)*100+(F15-TRUNC(F15))*60) -> 2644.9 | AF15: =IF(G15="","",TRUNC(G15)*100+(G15-TRUNC(G15))*60) -> -4500 | AG15: =IF(X15="","",X15) -> 298.1 | AH15: =IF(AD15="","",ROUND(AD15,2)) -> 301.12 | AI15: =IF(AE16="","",AI14-AH14) -> 1687.32 | AR15: 10 | AS15: =IF(I14="","",AS14+I14) -> -46.246667 | AT15: =IF(H14="","",AT14+H14) -> 20.67
A16: =IF(OR(RIGHT('RHUMBLINE SAILING'!B19,1)="S",RIGHT('RHUMBLINE SAILING'!B19,1)="s"),-1,1)*(VALUE(LEFT('RHUMBLINE SAILING'!B19,FIND("° ",'RHUMBLINE SAILING'!B19,1)-1))+VALUE(MID('RHUMBLINE SAILING'!B19,(FIND("° ",'RHUMBLINE SAILING'!B19,1)+2),6))/60) -> #VALUE! | B16: =IF(OR(RIGHT('RHUMBLINE SAILING'!C19,1)="W",RIGHT('RHUMBLINE SAILING'!C19,1)="w"),-1,1)*(VALUE(LEFT('RHUMBLINE SAILING'!C19,FIND("° ",'RHUMBLINE SAILING'!C19,1)-1))+VALUE(MID('RHUMBLINE SAILING'!C19,(FIND("° ",'RHUMBLINE SAILING'!C19,1)+2),6))/60) -> #VALUE! | C16: 12 | D16: =IF('RHUMBLINE SAILING'!B19="","",IF($D$2=2,'RHUMBLINE SAILING'!B19,TRUNC(A16)*100+(A16-TRUNC(A16))*60)) -> 2906.7 | E16: =IF('RHUMBLINE SAILING'!C19="","",IF($D$2=2,'RHUMBLINE SAILING'!C19,TRUNC(B16)*100+(B16-TRUNC(B16))*60)) -> -5000 | F16: =IF(D16="","",TRUNC(D16/100)+(D16/100-TRUNC(D16/100))/0.6) -> 29.111667 | G16: =IF(E16="","",TRUNC(E16/100)+(E16/100-TRUNC(E16/100))/0.6) -> -50 | H16: =IF(F17="","",IF(F17-F16>180,F17-F16-360,IF(F17-F16<-180,F17-F16+360,F17-F16))) -> 2.0833333 | I16: =IF(G17="","",IF(G17-G16>180,G17-G16-360,IF(G17-G16<-180,G17-G16+360,G17-G16))) -> -5 | J16: =IF(F17="","",7915.70447*LOG(TAN(RADIANS((45+F17/2)))/TAN(RADIANS((45+F16/2))))) -> 144.57479 | K16: =IF(F17="","",7915.70446789782*LOG((TAN(RADIANS(45+F17/2))*(((1-0.0818191908426215*SIN(RADIANS(F17)))/(1+0.0818191908426215*SIN(RADIANS(F17))))^(0.0818191908426215/2)))/(TAN(RADIANS(45+F16/2))*(((1-0.0818191908426215*SIN(RADIANS(F16)))/(1+0.0818191908426215*SIN(RADIANS(F16))))^(0.0818191908426215/2))))) -> 143.85004 | L16: =IF(F17="","",DEGREES(ATAN2(3437.74677078*(LN((TAN(RADIANS(45+F17/2)))/(TAN(RADIANS(45+F16/2)))))-((SIN(RADIANS(F17))-SIN(RADIANS(F16)))*23.0135831934767)-((SIN(RADIANS(F17))^3)-(SIN(RADIANS(F16))^3))*(0.051353890277194)-((SIN(RADIANS(F17))^5)-(SIN(RADIANS(F16))^5))*(0.000206269473292),I16*60))) -> -64.382277 | M16: =IF(F17="","",IF(I16<0,360+DEGREES(ATAN2(H16,I16*COS(RADIANS((F17+F16)/2)))),DEGREES(ATAN2(H16,I16*COS(RADIANS((F17+F16)/2)))))) -> 295.72809 | N16: =IF(F17="","",IF(I16<0,360+DEGREES(ATAN2(J16,I16*60)),DEGREES(ATAN2(J16,I16*60)))) -> 295.73016 | O16: =N16 -> 295.73016 | P16: =IF(F17="","",IF(I16<0,360+DEGREES(ATAN2(K16,(I16*60))),DEGREES(ATAN2(K16,(I16*60))))) -> 295.61772 | Q16: =IF(I16<0,360+L16,L16) -> 295.61772 | R16: =IF(F17="","",IF(H16=0,(I16*COS(RADIANS((F17+F16)/2)))*60/SIN(RADIANS(M16)),H16*60/COS(RADIANS(M16)))) -> 287.95154 | S16: =IF(F17="","",ABS(IF(H16=0,(I16)*60*COS(RADIANS(F16)),IF(I16=0,(H16*60),(H16/COS(RADIANS(N16)))*60)))) -> 287.92998 | T16: =IF(S16="","",S16*1.00179527351758) -> 288.44689 | U16: =IF(F17="","",ABS(IF(H16=0,I16*60*COS(RADIANS(F17)),(H16/COS(RADIANS(P16)))*60))) -> 289.10779 | V16: =IF(F17="","",IF(H16=0,ABS(I16*60*COS(((ATAN(TAN(RADIANS(F17))*(1-0.08181919034^2)^0.5))))*1.001795274),IF(I16=0,ABS(((60.006994*H16)-8.660102*(SIN(RADIANS((2*F17)))-SIN(RADIANS((2*F16)))))),ABS((((60.006994*H16)-8.660102*(SIN(RADIANS((2*F17)))-SIN(RADIANS((2*F16))))))/COS(RADIANS(Q16)))))) -> 288.42011 | W16: =HLOOKUP($A$2,$M$4:$Q$64,C16+1) -> 295.73016 | X16: =IF(D17="","",IF($B$2=3,ROUND(W16,),IF($B$2=2,0.5*ROUND(W16/0.5,),ROUND(W16,1)))) -> 295.7 | Y16: =IF(F17="","",IF(H16=0,(I16*COS(RADIANS((F17+F16)/2)))*60/SIN(RADIANS(X16)),H16*60/COS(RADIANS(X16)))) -> 288.24486 | Z16: =IF(F17="","",ABS(IF(H16=0,(I16)*60*COS(RADIANS(F16)),IF(I16=0,(H16*60),(H16/COS(RADIANS(X16)))*60)))) -> 288.24486 | AA16: =IF(Z16="","",Z16*1.00179527351758) -> 288.76233 | AB16: =IF(F17="","",ABS(IF(H16=0,I16*60*COS(RADIANS(F17)),(H16/COS(RADIANS(X16)))*60))) -> 288.24486 | AC16: =IF(F17="","",IF(H16=0,ABS(I16*60*COS(((ATAN(TAN(RADIANS(F17))*(1-0.08181919034^2)^0.5))))*1.001795274),IF(I16=0,ABS(((60.006994*H16)-8.660102*(SIN(RADIANS((2*F17)))-SIN(RADIANS((2*F16)))))),ABS((((60.006994*H16)-8.660102*(SIN(RADIANS((2*F17)))-SIN(RADIANS((2*F16))))))/COS(RADIANS(X16)))))) -> 287.55923 | AD16: =IF($C$2=1,HLOOKUP($A$2,$Y$4:$AC$64,C16+1),HLOOKUP($A$2,$R$4:$V$64,C16+1)) -> 288.44689 | AE16: =IF(F16="","",TRUNC(F16)*100+(F16-TRUNC(F16))*60) -> 2906.7 | AF16: =IF(G16="","",TRUNC(G16)*100+(G16-TRUNC(G16))*60) -> -5000 | AG16: =IF(X16="","",X16) -> 295.7 | AH16: =IF(AD16="","",ROUND(AD16,2)) -> 288.45 | AI16: =IF(AE17="","",AI15-AH15) -> 1386.2 | AR16: 11 | AS16: =IF(I15="","",AS15+I15) -> -51.246667 | AT16: =IF(H15="","",AT15+H15) -> 23.033333
A17: =IF(OR(RIGHT('RHUMBLINE SAILING'!B20,1)="S",RIGHT('RHUMBLINE SAILING'!B20,1)="s"),-1,1)*(VALUE(LEFT('RHUMBLINE SAILING'!B20,FIND("° ",'RHUMBLINE SAILING'!B20,1)-1))+VALUE(MID('RHUMBLINE SAILING'!B20,(FIND("° ",'RHUMBLINE SAILING'!B20,1)+2),6))/60) -> #VALUE! | B17: =IF(OR(RIGHT('RHUMBLINE SAILING'!C20,1)="W",RIGHT('RHUMBLINE SAILING'!C20,1)="w"),-1,1)*(VALUE(LEFT('RHUMBLINE SAILING'!C20,FIND("° ",'RHUMBLINE SAILING'!C20,1)-1))+VALUE(MID('RHUMBLINE SAILING'!C20,(FIND("° ",'RHUMBLINE SAILING'!C20,1)+2),6))/60) -> #VALUE! | C17: 13 | D17: =IF('RHUMBLINE SAILING'!B20="","",IF($D$2=2,'RHUMBLINE SAILING'!B20,TRUNC(A17)*100+(A17-TRUNC(A17))*60)) -> 3111.7 | E17: =IF('RHUMBLINE SAILING'!C20="","",IF($D$2=2,'RHUMBLINE SAILING'!C20,TRUNC(B17)*100+(B17-TRUNC(B17))*60)) -> -5500 | F17: =IF(D17="","",TRUNC(D17/100)+(D17/100-TRUNC(D17/100))/0.6) -> 31.195 | G17: =IF(E17="","",TRUNC(E17/100)+(E17/100-TRUNC(E17/100))/0.6) -> -55 | H17: =IF(F18="","",IF(F18-F17>180,F18-F17-360,IF(F18-F17<-180,F18-F17+360,F18-F17))) -> 1.81 | I17: =IF(G18="","",IF(G18-G17>180,G18-G17-360,IF(G18-G17<-180,G18-G17+360,G18-G17))) -> -5 | J17: =IF(F18="","",7915.70447*LOG(TAN(RADIANS((45+F18/2)))/TAN(RADIANS((45+F17/2))))) -> 128.20831 | K17: =IF(F18="","",7915.70446789782*LOG((TAN(RADIANS(45+F18/2))*(((1-0.0818191908426215*SIN(RADIANS(F18)))/(1+0.0818191908426215*SIN(RADIANS(F18))))^(0.0818191908426215/2)))/(TAN(RADIANS(45+F17/2))*(((1-0.0818191908426215*SIN(RADIANS(F17)))/(1+0.0818191908426215*SIN(RADIANS(F17))))^(0.0818191908426215/2))))) -> 127.5913 | L17: =IF(F18="","",DEGREES(ATAN2(3437.74677078*(LN((TAN(RADIANS(45+F18/2)))/(TAN(RADIANS(45+F17/2)))))-((SIN(RADIANS(F18))-SIN(RADIANS(F17)))*23.0135831934767)-((SIN(RADIANS(F18))^3)-(SIN(RADIANS(F17))^3))*(0.051353890277194)-((SIN(RADIANS(F18))^5)-(SIN(RADIANS(F17))^5))*(0.000206269473292),I17*60))) -> -66.95974 | M17: =IF(F18="","",IF(I17<0,360+DEGREES(ATAN2(H17,I17*COS(RADIANS((F18+F17)/2)))),DEGREES(ATAN2(H17,I17*COS(RADIANS((F18+F17)/2)))))) -> 293.13844 | N17: =IF(F18="","",IF(I17<0,360+DEGREES(ATAN2(J17,I17*60)),DEGREES(ATAN2(J17,I17*60)))) -> 293.13998 | O17: =N17 -> 293.13998 | P17: =IF(F18="","",IF(I17<0,360+DEGREES(ATAN2(K17,(I17*60))),DEGREES(ATAN2(K17,(I17*60))))) -> 293.04026 | Q17: =IF(I17<0,360+L17,L17) -> 293.04026 | R17: =IF(F18="","",IF(H17=0,(I17*COS(RADIANS((F18+F17)/2)))*60/SIN(RADIANS(M17)),H17*60/COS(RADIANS(M17)))) -> 276.36816 | S17: =IF(F18="","",ABS(IF(H17=0,(I17)*60*COS(RADIANS(F17)),IF(I17=0,(H17*60),(H17/COS(RADIANS(N17)))*60)))) -> 276.35079 | T17: =IF(S17="","",S17*1.00179527351758) -> 276.84692 | U17: =IF(F18="","",ABS(IF(H17=0,I17*60*COS(RADIANS(F18)),(H17/COS(RADIANS(P17)))*60))) -> 277.48121 | V17: =IF(F18="","",IF(H17=0,ABS(I17*60*COS(((ATAN(TAN(RADIANS(F18))*(1-0.08181919034^2)^0.5))))*1.001795274),IF(I17=0,ABS(((60.006994*H17)-8.660102*(SIN(RADIANS((2*F18)))-SIN(RADIANS((2*F17)))))),ABS((((60.006994*H17)-8.660102*(SIN(RADIANS((2*F18)))-SIN(RADIANS((2*F17))))))/COS(RADIANS(Q17)))))) -> 276.9052 | W17: =HLOOKUP($A$2,$M$4:$Q$64,C17+1) -> 293.13998 | X17: =IF(D18="","",IF($B$2=3,ROUND(W17,),IF($B$2=2,0.5*ROUND(W17/0.5,),ROUND(W17,1)))) -> 293.1 | Y17: =IF(F18="","",IF(H17=0,(I17*COS(RADIANS((F18+F17)/2)))*60/SIN(RADIANS(X17)),H17*60/COS(RADIANS(X17)))) -> 276.80277 | Z17: =IF(F18="","",ABS(IF(H17=0,(I17)*60*COS(RADIANS(F17)),IF(I17=0,(H17*60),(H17/COS(RADIANS(X17)))*60)))) -> 276.80277 | AA17: =IF(Z17="","",Z17*1.00179527351758) -> 277.29971 | AB17: =IF(F18="","",ABS(IF(H17=0,I17*60*COS(RADIANS(F18)),(H17/COS(RADIANS(X17)))*60))) -> 276.80277 | AC17: =IF(F18="","",IF(H17=0,ABS(I17*60*COS(((ATAN(TAN(RADIANS(F18))*(1-0.08181919034^2)^0.5))))*1.001795274),IF(I17=0,ABS(((60.006994*H17)-8.660102*(SIN(RADIANS((2*F18)))-SIN(RADIANS((2*F17)))))),ABS((((60.006994*H17)-8.660102*(SIN(RADIANS((2*F18)))-SIN(RADIANS((2*F17))))))/COS(RADIANS(X17)))))) -> 276.22816 | AD17: =IF($C$2=1,HLOOKUP($A$2,$Y$4:$AC$64,C17+1),HLOOKUP($A$2,$R$4:$V$64,C17+1)) -> 276.84692 | AE17: =IF(F17="","",TRUNC(F17)*100+(F17-TRUNC(F17))*60) -> 3111.7 | AF17: =IF(G17="","",TRUNC(G17)*100+(G17-TRUNC(G17))*60) -> -5500 | AG17: =IF(X17="","",X17) -> 293.1 | AH17: =IF(AD17="","",ROUND(AD17,2)) -> 276.85 | AI17: =IF(AE18="","",AI16-AH16) -> 1097.75 | AR17: 12 | AS17: =IF(I16="","",AS16+I16) -> -56.246667 | AT17: =IF(H16="","",AT16+H16) -> 25.116667
A18: =IF(OR(RIGHT('RHUMBLINE SAILING'!B21,1)="S",RIGHT('RHUMBLINE SAILING'!B21,1)="s"),-1,1)*(VALUE(LEFT('RHUMBLINE SAILING'!B21,FIND("° ",'RHUMBLINE SAILING'!B21,1)-1))+VALUE(MID('RHUMBLINE SAILING'!B21,(FIND("° ",'RHUMBLINE SAILING'!B21,1)+2),6))/60) -> #VALUE! | B18: =IF(OR(RIGHT('RHUMBLINE SAILING'!C21,1)="W",RIGHT('RHUMBLINE SAILING'!C21,1)="w"),-1,1)*(VALUE(LEFT('RHUMBLINE SAILING'!C21,FIND("° ",'RHUMBLINE SAILING'!C21,1)-1))+VALUE(MID('RHUMBLINE SAILING'!C21,(FIND("° ",'RHUMBLINE SAILING'!C21,1)+2),6))/60) -> #VALUE! | C18: 14 | D18: =IF('RHUMBLINE SAILING'!B21="","",IF($D$2=2,'RHUMBLINE SAILING'!B21,TRUNC(A18)*100+(A18-TRUNC(A18))*60)) -> 3300.3 | E18: =IF('RHUMBLINE SAILING'!C21="","",IF($D$2=2,'RHUMBLINE SAILING'!C21,TRUNC(B18)*100+(B18-TRUNC(B18))*60)) -> -6000 | F18: =IF(D18="","",TRUNC(D18/100)+(D18/100-TRUNC(D18/100))/0.6) -> 33.005 | G18: =IF(E18="","",TRUNC(E18/100)+(E18/100-TRUNC(E18/100))/0.6) -> -60 | H18: =IF(F19="","",IF(F19-F18>180,F19-F18-360,IF(F19-F18<-180,F19-F18+360,F19-F18))) -> 1.5466667 | I18: =IF(G19="","",IF(G19-G18>180,G19-G18-360,IF(G19-G18<-180,G19-G18+360,G19-G18))) -> -5 | J18: =IF(F19="","",7915.70447*LOG(TAN(RADIANS((45+F19/2)))/TAN(RADIANS((45+F18/2))))) -> 111.65294 | K18: =IF(F19="","",7915.70446789782*LOG((TAN(RADIANS(45+F19/2))*(((1-0.0818191908426215*SIN(RADIANS(F19)))/(1+0.0818191908426215*SIN(RADIANS(F19))))^(0.0818191908426215/2)))/(TAN(RADIANS(45+F18/2))*(((1-0.0818191908426215*SIN(RADIANS(F18)))/(1+0.0818191908426215*SIN(RADIANS(F18))))^(0.0818191908426215/2))))) -> 111.13551 | L18: =IF(F19="","",DEGREES(ATAN2(3437.74677078*(LN((TAN(RADIANS(45+F19/2)))/(TAN(RADIANS(45+F18/2)))))-((SIN(RADIANS(F19))-SIN(RADIANS(F18)))*23.0135831934767)-((SIN(RADIANS(F19))^3)-(SIN(RADIANS(F18))^3))*(0.051353890277194)-((SIN(RADIANS(F19))^5)-(SIN(RADIANS(F18))^5))*(0.000206269473292),I18*60))) -> -69.672765 | M18: =IF(F19="","",IF(I18<0,360+DEGREES(ATAN2(H18,I18*COS(RADIANS((F19+F18)/2)))),DEGREES(ATAN2(H18,I18*COS(RADIANS((F19+F18)/2)))))) -> 290.413 | N18: =IF(F19="","",IF(I18<0,360+DEGREES(ATAN2(J18,I18*60)),DEGREES(ATAN2(J18,I18*60)))) -> 290.41408 | O18: =N18 -> 290.41408 | P18: =IF(F19="","",IF(I18<0,360+DEGREES(ATAN2(K18,(I18*60))),DEGREES(ATAN2(K18,(I18*60))))) -> 290.32724 | Q18: =IF(I18<0,360+L18,L18) -> 290.32724 | R18: =IF(F19="","",IF(H18=0,(I18*COS(RADIANS((F19+F18)/2)))*60/SIN(RADIANS(M18)),H18*60/COS(RADIANS(M18)))) -> 266.06666 | S18: =IF(F19="","",ABS(IF(H18=0,(I18)*60*COS(RADIANS(F18)),IF(I18=0,(H18*60),(H18/COS(RADIANS(N18)))*60)))) -> 266.05321 | T18: =IF(S18="","",S18*1.00179527351758) -> 266.53085 | U18: =IF(F19="","",ABS(IF(H18=0,I18*60*COS(RADIANS(F19)),(H18/COS(RADIANS(P18)))*60))) -> 267.14151 | V18: =IF(F19="","",IF(H18=0,ABS(I18*60*COS(((ATAN(TAN(RADIANS(F19))*(1-0.08181919034^2)^0.5))))*1.001795274),IF(I18=0,ABS(((60.006994*H18)-8.660102*(SIN(RADIANS((2*F19)))-SIN(RADIANS((2*F18)))))),ABS((((60.006994*H18)-8.660102*(SIN(RADIANS((2*F19)))-SIN(RADIANS((2*F18))))))/COS(RADIANS(Q18)))))) -> 266.65888 | W18: =HLOOKUP($A$2,$M$4:$Q$64,C18+1) -> 290.41408 | X18: =IF(D19="","",IF($B$2=3,ROUND(W18,),IF($B$2=2,0.5*ROUND(W18/0.5,),ROUND(W18,1)))) -> 290.4 | Y18: =IF(F19="","",IF(H18=0,(I18*COS(RADIANS((F19+F18)/2)))*60/SIN(RADIANS(X18)),H18*60/COS(RADIANS(X18)))) -> 266.22904 | Z18: =IF(F19="","",ABS(IF(H18=0,(I18)*60*COS(RADIANS(F18)),IF(I18=0,(H18*60),(H18/COS(RADIANS(X18)))*60)))) -> 266.22904 | AA18: =IF(Z18="","",Z18*1.00179527351758) -> 266.70699 | AB18: =IF(F19="","",ABS(IF(H18=0,I18*60*COS(RADIANS(F19)),(H18/COS(RADIANS(X18)))*60))) -> 266.22904 | AC18: =IF(F19="","",IF(H18=0,ABS(I18*60*COS(((ATAN(TAN(RADIANS(F19))*(1-0.08181919034^2)^0.5))))*1.001795274),IF(I18=0,ABS(((60.006994*H18)-8.660102*(SIN(RADIANS((2*F19)))-SIN(RADIANS((2*F18)))))),ABS((((60.006994*H18)-8.660102*(SIN(RADIANS((2*F19)))-SIN(RADIANS((2*F18))))))/COS(RADIANS(X18)))))) -> 265.74805 | AD18: =IF($C$2=1,HLOOKUP($A$2,$Y$4:$AC$64,C18+1),HLOOKUP($A$2,$R$4:$V$64,C18+1)) -> 266.53085 | AE18: =IF(F18="","",TRUNC(F18)*100+(F18-TRUNC(F18))*60) -> 3300.3 | AF18: =IF(G18="","",TRUNC(G18)*100+(G18-TRUNC(G18))*60) -> -6000 | AG18: =IF(X18="","",X18) -> 290.4 | AH18: =IF(AD18="","",ROUND(AD18,2)) -> 266.53 | AI18: =IF(AE19="","",AI17-AH17) -> 820.9 | AR18: 13 | AS18: =IF(I17="","",AS17+I17) -> -61.246667 | AT18: =IF(H17="","",AT17+H17) -> 26.926667
A19: =IF(OR(RIGHT('RHUMBLINE SAILING'!B22,1)="S",RIGHT('RHUMBLINE SAILING'!B22,1)="s"),-1,1)*(VALUE(LEFT('RHUMBLINE SAILING'!B22,FIND("° ",'RHUMBLINE SAILING'!B22,1)-1))+VALUE(MID('RHUMBLINE SAILING'!B22,(FIND("° ",'RHUMBLINE SAILING'!B22,1)+2),6))/60) -> #VALUE! | B19: =IF(OR(RIGHT('RHUMBLINE SAILING'!C22,1)="W",RIGHT('RHUMBLINE SAILING'!C22,1)="w"),-1,1)*(VALUE(LEFT('RHUMBLINE SAILING'!C22,FIND("° ",'RHUMBLINE SAILING'!C22,1)-1))+VALUE(MID('RHUMBLINE SAILING'!C22,(FIND("° ",'RHUMBLINE SAILING'!C22,1)+2),6))/60) -> #VALUE! | C19: 15 | D19: =IF('RHUMBLINE SAILING'!B22="","",IF($D$2=2,'RHUMBLINE SAILING'!B22,TRUNC(A19)*100+(A19-TRUNC(A19))*60)) -> 3433.1 | E19: =IF('RHUMBLINE SAILING'!C22="","",IF($D$2=2,'RHUMBLINE SAILING'!C22,TRUNC(B19)*100+(B19-TRUNC(B19))*60)) -> -6500 | F19: =IF(D19="","",TRUNC(D19/100)+(D19/100-TRUNC(D19/100))/0.6) -> 34.551667 | G19: =IF(E19="","",TRUNC(E19/100)+(E19/100-TRUNC(E19/100))/0.6) -> -65 | H19: =IF(F20="","",IF(F20-F19>180,F20-F19-360,IF(F20-F19<-180,F20-F19+360,F20-F19))) -> 1.295 | I19: =IF(G20="","",IF(G20-G19>180,G20-G19-360,IF(G20-G19<-180,G20-G19+360,G20-G19))) -> -5 | J19: =IF(F20="","",7915.70447*LOG(TAN(RADIANS((45+F20/2)))/TAN(RADIANS((45+F19/2))))) -> 95.090238 | K19: =IF(F20="","",7915.70446789782*LOG((TAN(RADIANS(45+F20/2))*(((1-0.0818191908426215*SIN(RADIANS(F20)))/(1+0.0818191908426215*SIN(RADIANS(F20))))^(0.0818191908426215/2)))/(TAN(RADIANS(45+F19/2))*(((1-0.0818191908426215*SIN(RADIANS(F19)))/(1+0.0818191908426215*SIN(RADIANS(F19))))^(0.0818191908426215/2))))) -> 94.664255 | L19: =IF(F20="","",DEGREES(ATAN2(3437.74677078*(LN((TAN(RADIANS(45+F20/2)))/(TAN(RADIANS(45+F19/2)))))-((SIN(RADIANS(F20))-SIN(RADIANS(F19)))*23.0135831934767)-((SIN(RADIANS(F20))^3)-(SIN(RADIANS(F19))^3))*(0.051353890277194)-((SIN(RADIANS(F20))^5)-(SIN(RADIANS(F19))^5))*(0.000206269473292),I19*60))) -> -72.487039 | M19: =IF(F20="","",IF(I19<0,360+DEGREES(ATAN2(H19,I19*COS(RADIANS((F20+F19)/2)))),DEGREES(ATAN2(H19,I19*COS(RADIANS((F20+F19)/2)))))) -> 287.58622 | N19: =IF(F20="","",IF(I19<0,360+DEGREES(ATAN2(J19,I19*60)),DEGREES(ATAN2(J19,I19*60)))) -> 287.58692 | O19: =N19 -> 287.58692 | P19: =IF(F20="","",IF(I19<0,360+DEGREES(ATAN2(K19,(I19*60))),DEGREES(ATAN2(K19,(I19*60))))) -> 287.51296 | Q19: =IF(I19<0,360+L19,L19) -> 287.51296 | R19: =IF(F20="","",IF(H19=0,(I19*COS(RADIANS((F20+F19)/2)))*60/SIN(RADIANS(M19)),H19*60/COS(RADIANS(M19)))) -> 257.16501 | S19: =IF(F20="","",ABS(IF(H19=0,(I19)*60*COS(RADIANS(F19)),IF(I19=0,(H19*60),(H19/COS(RADIANS(N19)))*60)))) -> 257.15509 | T19: =IF(S19="","",S19*1.00179527351758) -> 257.61675 | U19: =IF(F20="","",ABS(IF(H19=0,I19*60*COS(RADIANS(F20)),(H19/COS(RADIANS(P19)))*60))) -> 258.20684 | V19: =IF(F20="","",IF(H19=0,ABS(I19*60*COS(((ATAN(TAN(RADIANS(F20))*(1-0.08181919034^2)^0.5))))*1.001795274),IF(I19=0,ABS(((60.006994*H19)-8.660102*(SIN(RADIANS((2*F20)))-SIN(RADIANS((2*F19)))))),ABS((((60.006994*H19)-8.660102*(SIN(RADIANS((2*F20)))-SIN(RADIANS((2*F19))))))/COS(RADIANS(Q19)))))) -> 257.80055 | W19: =HLOOKUP($A$2,$M$4:$Q$64,C19+1) -> 287.58692 | X19: =IF(D20="","",IF($B$2=3,ROUND(W19,),IF($B$2=2,0.5*ROUND(W19/0.5,),ROUND(W19,1)))) -> 287.6 | Y19: =IF(F20="","",IF(H19=0,(I19*COS(RADIANS((F20+F19)/2)))*60/SIN(RADIANS(X19)),H19*60/COS(RADIANS(X19)))) -> 256.97003 | Z19: =IF(F20="","",ABS(IF(H19=0,(I19)*60*COS(RADIANS(F19)),IF(I19=0,(H19*60),(H19/COS(RADIANS(X19)))*60)))) -> 256.97003 | AA19: =IF(Z19="","",Z19*1.00179527351758) -> 257.43136 | AB19: =IF(F20="","",ABS(IF(H19=0,I19*60*COS(RADIANS(F20)),(H19/COS(RADIANS(X19)))*60))) -> 256.97003 | AC19: =IF(F20="","",IF(H19=0,ABS(I19*60*COS(((ATAN(TAN(RADIANS(F20))*(1-0.08181919034^2)^0.5))))*1.001795274),IF(I19=0,ABS(((60.006994*H19)-8.660102*(SIN(RADIANS((2*F20)))-SIN(RADIANS((2*F19)))))),ABS((((60.006994*H19)-8.660102*(SIN(RADIANS((2*F20)))-SIN(RADIANS((2*F19))))))/COS(RADIANS(X19)))))) -> 256.56568 | AD19: =IF($C$2=1,HLOOKUP($A$2,$Y$4:$AC$64,C19+1),HLOOKUP($A$2,$R$4:$V$64,C19+1)) -> 257.61675 | AE19: =IF(F19="","",TRUNC(F19)*100+(F19-TRUNC(F19))*60) -> 3433.1 | AF19: =IF(G19="","",TRUNC(G19)*100+(G19-TRUNC(G19))*60) -> -6500 | AG19: =IF(X19="","",X19) -> 287.6 | AH19: =IF(AD19="","",ROUND(AD19,2)) -> 257.62 | AI19: =IF(AE20="","",AI18-AH18) -> 554.37 | AR19: 14 | AS19: =IF(I18="","",AS18+I18) -> -66.246667 | AT19: =IF(H18="","",AT18+H18) -> 28.473333
A20: =IF(OR(RIGHT('RHUMBLINE SAILING'!B23,1)="S",RIGHT('RHUMBLINE SAILING'!B23,1)="s"),-1,1)*(VALUE(LEFT('RHUMBLINE SAILING'!B23,FIND("° ",'RHUMBLINE SAILING'!B23,1)-1))+VALUE(MID('RHUMBLINE SAILING'!B23,(FIND("° ",'RHUMBLINE SAILING'!B23,1)+2),6))/60) -> #VALUE! | B20: =IF(OR(RIGHT('RHUMBLINE SAILING'!C23,1)="W",RIGHT('RHUMBLINE SAILING'!C23,1)="w"),-1,1)*(VALUE(LEFT('RHUMBLINE SAILING'!C23,FIND("° ",'RHUMBLINE SAILING'!C23,1)-1))+VALUE(MID('RHUMBLINE SAILING'!C23,(FIND("° ",'RHUMBLINE SAILING'!C23,1)+2),6))/60) -> #VALUE! | C20: 16 | D20: =IF('RHUMBLINE SAILING'!B23="","",IF($D$2=2,'RHUMBLINE SAILING'!B23,TRUNC(A20)*100+(A20-TRUNC(A20))*60)) -> 3550.8 | E20: =IF('RHUMBLINE SAILING'!C23="","",IF($D$2=2,'RHUMBLINE SAILING'!C23,TRUNC(B20)*100+(B20-TRUNC(B20))*60)) -> -7000 | F20: =IF(D20="","",TRUNC(D20/100)+(D20/100-TRUNC(D20/100))/0.6) -> 35.846667 | G20: =IF(E20="","",TRUNC(E20/100)+(E20/100-TRUNC(E20/100))/0.6) -> -70 | H20: =IF(F21="","",IF(F21-F20>180,F21-F20-360,IF(F21-F20<-180,F21-F20+360,F21-F20))) -> 1.0533333 | I20: =IF(G21="","",IF(G21-G20>180,G21-G20-360,IF(G21-G20<-180,G21-G20+360,G21-G20))) -> -5 | J20: =IF(F21="","",7915.70447*LOG(TAN(RADIANS((45+F21/2)))/TAN(RADIANS((45+F20/2))))) -> 78.495055 | K20: =IF(F21="","",7915.70446789782*LOG((TAN(RADIANS(45+F21/2))*(((1-0.0818191908426215*SIN(RADIANS(F21)))/(1+0.0818191908426215*SIN(RADIANS(F21))))^(0.0818191908426215/2)))/(TAN(RADIANS(45+F20/2))*(((1-0.0818191908426215*SIN(RADIANS(F20)))/(1+0.0818191908426215*SIN(RADIANS(F20))))^(0.0818191908426215/2))))) -> 78.153601 | L20: =IF(F21="","",DEGREES(ATAN2(3437.74677078*(LN((TAN(RADIANS(45+F21/2)))/(TAN(RADIANS(45+F20/2)))))-((SIN(RADIANS(F21))-SIN(RADIANS(F20)))*23.0135831934767)-((SIN(RADIANS(F21))^3)-(SIN(RADIANS(F20))^3))*(0.051353890277194)-((SIN(RADIANS(F21))^5)-(SIN(RADIANS(F20))^5))*(0.000206269473292),I20*60))) -> -75.398309 | M20: =IF(F21="","",IF(I20<0,360+DEGREES(ATAN2(H20,I20*COS(RADIANS((F21+F20)/2)))),DEGREES(ATAN2(H20,I20*COS(RADIANS((F21+F20)/2)))))) -> 284.66233 | N20: =IF(F21="","",IF(I20<0,360+DEGREES(ATAN2(J20,I20*60)),DEGREES(ATAN2(J20,I20*60)))) -> 284.66274 | O20: =N20 -> 284.66274 | P20: =IF(F21="","",IF(I20<0,360+DEGREES(ATAN2(K20,(I20*60))),DEGREES(ATAN2(K20,(I20*60))))) -> 284.60169 | Q20: =IF(I20<0,360+L20,L20) -> 284.60169 | R20: =IF(F21="","",IF(H20=0,(I20*COS(RADIANS((F21+F20)/2)))*60/SIN(RADIANS(M20)),H20*60/COS(RADIANS(M20)))) -> 249.68202 | S20: =IF(F21="","",ABS(IF(H20=0,(I20)*60*COS(RADIANS(F20)),IF(I20=0,(H20*60),(H20/COS(RADIANS(N20)))*60)))) -> 249.67516 | T20: =IF(S20="","",S20*1.00179527351758) -> 250.12339 | U20: =IF(F21="","",ABS(IF(H20=0,I20*60*COS(RADIANS(F21)),(H20/COS(RADIANS(P20)))*60))) -> 250.69624 | V20: =IF(F21="","",IF(H20=0,ABS(I20*60*COS(((ATAN(TAN(RADIANS(F21))*(1-0.08181919034^2)^0.5))))*1.001795274),IF(I20=0,ABS(((60.006994*H20)-8.660102*(SIN(RADIANS((2*F21)))-SIN(RADIANS((2*F20)))))),ABS((((60.006994*H20)-8.660102*(SIN(RADIANS((2*F21)))-SIN(RADIANS((2*F20))))))/COS(RADIANS(Q20)))))) -> 250.35086 | W20: =HLOOKUP($A$2,$M$4:$Q$64,C20+1) -> 284.66274 | X20: =IF(D21="","",IF($B$2=3,ROUND(W20,),IF($B$2=2,0.5*ROUND(W20/0.5,),ROUND(W20,1)))) -> 284.7 | Y20: =IF(F21="","",IF(H20=0,(I20*COS(RADIANS((F21+F20)/2)))*60/SIN(RADIANS(X20)),H20*60/COS(RADIANS(X20)))) -> 249.05624 | Z20: =IF(F21="","",ABS(IF(H20=0,(I20)*60*COS(RADIANS(F20)),IF(I20=0,(H20*60),(H20/COS(RADIANS(X20)))*60)))) -> 249.05624 | AA20: =IF(Z20="","",Z20*1.00179527351758) -> 249.50337 | AB20: =IF(F21="","",ABS(IF(H20=0,I20*60*COS(RADIANS(F21)),(H20/COS(RADIANS(X20)))*60))) -> 249.05624 | AC20: =IF(F21="","",IF(H20=0,ABS(I20*60*COS(((ATAN(TAN(RADIANS(F21))*(1-0.08181919034^2)^0.5))))*1.001795274),IF(I20=0,ABS(((60.006994*H20)-8.660102*(SIN(RADIANS((2*F21)))-SIN(RADIANS((2*F20)))))),ABS((((60.006994*H20)-8.660102*(SIN(RADIANS((2*F21)))-SIN(RADIANS((2*F20))))))/COS(RADIANS(X20)))))) -> 248.71312 | AD20: =IF($C$2=1,HLOOKUP($A$2,$Y$4:$AC$64,C20+1),HLOOKUP($A$2,$R$4:$V$64,C20+1)) -> 250.12339 | AE20: =IF(F20="","",TRUNC(F20)*100+(F20-TRUNC(F20))*60) -> 3550.8 | AF20: =IF(G20="","",TRUNC(G20)*100+(G20-TRUNC(G20))*60) -> -7000 | AG20: =IF(X20="","",X20) -> 284.7 | AH20: =IF(AD20="","",ROUND(AD20,2)) -> 250.12 | AI20: =IF(AE21="","",AI19-AH19) -> 296.75 | AR20: 15 | AS20: =IF(I19="","",AS19+I19) -> -71.246667 | AT20: =IF(H19="","",AT19+H19) -> 29.768333
A21: =IF(OR(RIGHT('RHUMBLINE SAILING'!B24,1)="S",RIGHT('RHUMBLINE SAILING'!B24,1)="s"),-1,1)*(VALUE(LEFT('RHUMBLINE SAILING'!B24,FIND("° ",'RHUMBLINE SAILING'!B24,1)-1))+VALUE(MID('RHUMBLINE SAILING'!B24,(FIND("° ",'RHUMBLINE SAILING'!B24,1)+2),6))/60) -> #VALUE! | B21: =IF(OR(RIGHT('RHUMBLINE SAILING'!C24,1)="W",RIGHT('RHUMBLINE SAILING'!C24,1)="w"),-1,1)*(VALUE(LEFT('RHUMBLINE SAILING'!C24,FIND("° ",'RHUMBLINE SAILING'!C24,1)-1))+VALUE(MID('RHUMBLINE SAILING'!C24,(FIND("° ",'RHUMBLINE SAILING'!C24,1)+2),6))/60) -> #VALUE! | C21: 17 | D21: =IF('RHUMBLINE SAILING'!B24="","",IF($D$2=2,'RHUMBLINE SAILING'!B24,TRUNC(A21)*100+(A21-TRUNC(A21))*60)) -> 3654 | E21: =IF('RHUMBLINE SAILING'!C24="","",IF($D$2=2,'RHUMBLINE SAILING'!C24,TRUNC(B21)*100+(B21-TRUNC(B21))*60)) -> -7500 | F21: =IF(D21="","",TRUNC(D21/100)+(D21/100-TRUNC(D21/100))/0.6) -> 36.9 | G21: =IF(E21="","",TRUNC(E21/100)+(E21/100-TRUNC(E21/100))/0.6) -> -75 | H21: =IF(F22="","",IF(F22-F21>180,F22-F21-360,IF(F22-F21<-180,F22-F21+360,F22-F21))) -> 0.061666667 | I21: =IF(G22="","",IF(G22-G21>180,G22-G21-360,IF(G22-G21<-180,G22-G21+360,G22-G21))) -> -0.33333333 | J21: =IF(F22="","",7915.70447*LOG(TAN(RADIANS((45+F22/2)))/TAN(RADIANS((45+F21/2))))) -> 4.6286952 | K21: =IF(F22="","",7915.70446789782*LOG((TAN(RADIANS(45+F22/2))*(((1-0.0818191908426215*SIN(RADIANS(F22)))/(1+0.0818191908426215*SIN(RADIANS(F22))))^(0.0818191908426215/2)))/(TAN(RADIANS(45+F21/2))*(((1-0.0818191908426215*SIN(RADIANS(F21)))/(1+0.0818191908426215*SIN(RADIANS(F21))))^(0.0818191908426215/2))))) -> 4.6088476 | L21: =IF(F22="","",DEGREES(ATAN2(3437.74677078*(LN((TAN(RADIANS(45+F22/2)))/(TAN(RADIANS(45+F21/2)))))-((SIN(RADIANS(F22))-SIN(RADIANS(F21)))*23.0135831934767)-((SIN(RADIANS(F22))^3)-(SIN(RADIANS(F21))^3))*(0.051353890277194)-((SIN(RADIANS(F22))^5)-(SIN(RADIANS(F21))^5))*(0.000206269473292),I21*60))) -> -77.023165 | M21: =IF(F22="","",IF(I21<0,360+DEGREES(ATAN2(H21,I21*COS(RADIANS((F22+F21)/2)))),DEGREES(ATAN2(H21,I21*COS(RADIANS((F22+F21)/2)))))) -> 283.03081 | N21: =IF(F22="","",IF(I21<0,360+DEGREES(ATAN2(J21,I21*60)),DEGREES(ATAN2(J21,I21*60)))) -> 283.03082 | O21: =N21 -> 283.03082 | P21: =IF(F22="","",IF(I21<0,360+DEGREES(ATAN2(K21,(I21*60))),DEGREES(ATAN2(K21,(I21*60))))) -> 282.97684 | Q21: =IF(I21<0,360+L21,L21) -> 282.97684 | R21: =IF(F22="","",IF(H21=0,(I21*COS(RADIANS((F22+F21)/2)))*60/SIN(RADIANS(M21)),H21*60/COS(RADIANS(M21)))) -> 16.409798 | S21: =IF(F22="","",ABS(IF(H21=0,(I21)*60*COS(RADIANS(F21)),IF(I21=0,(H21*60),(H21/COS(RADIANS(N21)))*60)))) -> 16.409797 | T21: =IF(S21="","",S21*1.00179527351758) -> 16.439257 | U21: =IF(F22="","",ABS(IF(H21=0,I21*60*COS(RADIANS(F22)),(H21/COS(RADIANS(P21)))*60))) -> 16.476878 | V21: =IF(F22="","",IF(H21=0,ABS(I21*60*COS(((ATAN(TAN(RADIANS(F22))*(1-0.08181919034^2)^0.5))))*1.001795274),IF(I21=0,ABS(((60.006994*H21)-8.660102*(SIN(RADIANS((2*F22)))-SIN(RADIANS((2*F21)))))),ABS((((60.006994*H21)-8.660102*(SIN(RADIANS((2*F22)))-SIN(RADIANS((2*F21))))))/COS(RADIANS(Q21)))))) -> 16.455725 | W21: =HLOOKUP($A$2,$M$4:$Q$64,C21+1) -> 283.03082 | X21: =IF(D22="","",IF($B$2=3,ROUND(W21,),IF($B$2=2,0.5*ROUND(W21/0.5,),ROUND(W21,1)))) -> 283 | Y21: =IF(F22="","",IF(H21=0,(I21*COS(RADIANS((F22+F21)/2)))*60/SIN(RADIANS(X21)),H21*60/COS(RADIANS(X21)))) -> 16.448022 | Z21: =IF(F22="","",ABS(IF(H21=0,(I21)*60*COS(RADIANS(F21)),IF(I21=0,(H21*60),(H21/COS(RADIANS(X21)))*60)))) -> 16.448022 | AA21: =IF(Z21="","",Z21*1.00179527351758) -> 16.477551 | AB21: =IF(F22="","",ABS(IF(H21=0,I21*60*COS(RADIANS(F22)),(H21/COS(RADIANS(X21)))*60))) -> 16.448022 | AC21: =IF(F22="","",IF(H21=0,ABS(I21*60*COS(((ATAN(TAN(RADIANS(F22))*(1-0.08181919034^2)^0.5))))*1.001795274),IF(I21=0,ABS(((60.006994*H21)-8.660102*(SIN(RADIANS((2*F22)))-SIN(RADIANS((2*F21)))))),ABS((((60.006994*H21)-8.660102*(SIN(RADIANS((2*F22)))-SIN(RADIANS((2*F21))))))/COS(RADIANS(X21)))))) -> 16.426906 | AD21: =IF($C$2=1,HLOOKUP($A$2,$Y$4:$AC$64,C21+1),HLOOKUP($A$2,$R$4:$V$64,C21+1)) -> 16.439257 | AE21: =IF(F21="","",TRUNC(F21)*100+(F21-TRUNC(F21))*60) -> 3654 | AF21: =IF(G21="","",TRUNC(G21)*100+(G21-TRUNC(G21))*60) -> -7500 | AG21: =IF(X21="","",X21) -> 283 | AH21: =IF(AD21="","",ROUND(AD21,2)) -> 16.44 | AI21: =IF(AE22="","",AI20-AH20) -> 46.63 | AR21: 16 | AS21: =IF(I20="","",AS20+I20) -> -76.246667 | AT21: =IF(H20="","",AT20+H20) -> 30.821667
