Workbook
Name LAT: GC!$B$2:$B$5
Name NOO: GC!$J$2:$J$9
Name SIMPLE: C_R!$AP$4:$AP$8
Name SIMPLE: C_R!$AP$4:$AP$8
Name SIMPLE: GC!$D$2:$D$6
Name TC: C_R!$AM$4:$AM$6
Name TC: C_R!$AM$4:$AM$6
Name TC: GC!$F$2:$F$4
Name YES: C_R!$AM$7:$AM$8
Name YES: C_R!$AM$7:$AM$8
Name YES: GC!$H$2:$H$3

Sheet GREAT CIRCLE
A1: GREAT CIRCLE SAILING
I2: 1 | J2: TYPE OF CALCULATION | K2: WP Great Circle Sailing
C3: LAT | D3: LONG | F3: Course | G3: Distance | I3: 2 | J3: ROUND LAT.? | K3: ###° #5,00"
A4: DEPARTURE | C4: 4620 | D4: 14030 | E4: GREAT CIRCLE | F4: =ROUND(GC!G15,1) -> 61.3 | G4: =ROUND(GC!F15,2) -> 4113.28 | I4: 3 | J4: CALCULATION METHOD: | K4: TRUE WGS84
A5: ARRIVAL | C5: 3500 | D5: -12430 | F5: =ROUND(GC!H15,1) -> 132.4 | H5: WIN / LOSE | I5: 4 | J5: TC ACCURACY | K5: 000.0°
A6: VERTEX | C6: =GC!B20 -> 5244.7534 | D6: =GC!C20 -> 17740.591 | E6: Rhumb Line | F6: =GC!AY78 -> 98.9 | G6: =ROUND(GC!AZ78,2) -> 4372.98 | H6: =ROUND('GREAT CIRCLE'!G4-'GREAT CIRCLE'!G6,2) -> -259.7 | I6: 5 | J6: DISTANCE BY COURSE? | K6: NO
A7: GC Cross Equat. | C7: =GC!D18 -> 8740.5912 | D7: =GC!E18 -> -9219.4088 | E7: =IF(OR(GC!A11=1,GC!A11=2),"GC Sailing",IF(GC!A11=3,"Composite","ANA Sailing")) -> GC Sailing | F7: =IF(GC!F9=1,"NO SAILING",GC!AY25) -> 70 | G7: =IF(GC!F9=1,"NO SAILING",GC!BA25) -> 4142.21 | H7: =IF(GC!F9=1,"",CONCATENATE(GC!AC5," / ",GC!AD5)) -> 230.77 / 28.93 | I7: 6 | J7: G.C. DIST CORR.? | K7: NO
A8: =GC!G7 -> WP NR. | C8: 5 | D8: =GC!H7 -> MIN 3 WP; MAX 51 WP | E8: =IF(GC!F8=1,"","LIMIT LAT") | F8: 4620 | G8: =IF(GC!F8=1,"",GC!AF16) | I8: =IF(GC!A11=1,"","7") -> 7 | J8: =IF(GC!A11=1,"","ROUND LONG.?") -> ROUND LONG.? | K8: NO
G9: =IF(GC!F8=1,"",GC!AF17)
B11: W.PT | C11: LATITUDE | D11: LONGITUDE | E11: COURSE | F11: DISTANCE | G11: D.T.G
B12: =IF(C12="","",IF(GC!A11=4,"A",0)) -> 0 | C12: =GC!AW25 -> 4620 | D12: =GC!AX25 -> 14030 | E12: =GC!AY25 -> 70 | F12: =GC!AZ25 -> 993.89 | G12: =GC!BA25 -> 4142.21
B13: =IF(B12="A","N",IF(C13="","",B12+1)) -> 1 | C13: =GC!AW26 -> 5200 | D13: =GC!AX26 -> 16415 | E13: =GC!AY26 -> 88.7 | F13: =GC!AZ26 -> 877.68 | G13: =GC!BA26 -> 3148.32
B14: =IF(B13="N","A",IF(C14="","",B13+1)) -> 2 | C14: =GC!AW27 -> 5220 | D14: =GC!AX27 -> -17200 | E14: =GC!AY27 -> 107.8 | F14: =GC!AZ27 -> 966.92 | G14: =GC!BA27 -> 2270.64
B15: =IF(C15="","",B14+1) -> 3 | C15: =GC!AW28 -> 4725 | D15: =GC!AX28 -> -14815 | E15: =GC!AY28 -> 124.8 | F15: =GC!AZ28 -> 1303.72 | G15: =GC!BA28 -> 1303.72
B16: =IF(C16="","",B15+1) -> 4 | C16: =GC!AW29 -> 3500 | D16: =GC!AX29 -> -12430 | E16: =GC!AY29 | F16: =GC!AZ29 | G16: =GC!BA29
B17: =IF(C17="","",B16+1) | C17: =GC!AW30 | D17: =GC!AX30 | E17: =GC!AY30 | F17: =GC!AZ30 | G17: =GC!BA30
B18: =IF(C18="","",B17+1) | C18: =GC!AW31 | D18: =GC!AX31 | E18: =GC!AY31 | F18: =GC!AZ31 | G18: =GC!BA31
B19: =IF(C19="","",B18+1) | C19: =GC!AW32 | D19: =GC!AX32 | E19: =GC!AY32 | F19: =GC!AZ32 | G19: =GC!BA32
B20: =IF(C20="","",B19+1) | C20: =GC!AW33 | D20: =GC!AX33 | E20: =GC!AY33 | F20: =GC!AZ33 | G20: =GC!BA33
B21: =IF(C21="","",B20+1) | C21: =GC!AW34 | D21: =GC!AX34 | E21: =GC!AY34 | F21: =GC!AZ34 | G21: =GC!BA34
B22: =IF(C22="","",B21+1) | C22: =GC!AW35 | D22: =GC!AX35 | E22: =GC!AY35 | F22: =GC!AZ35 | G22: =GC!BA35
B23: =IF(C23="","",B22+1) | C23: =GC!AW36 | D23: =GC!AX36 | E23: =GC!AY36 | F23: =GC!AZ36 | G23: =GC!BA36
B24: =IF(C24="","",B23+1) | C24: =GC!AW37 | D24: =GC!AX37 | E24: =GC!AY37 | F24: =GC!AZ37 | G24: =GC!BA37
B25: =IF(C25="","",B24+1) | C25: =GC!AW38 | D25: =GC!AX38 | E25: =GC!AY38 | F25: =GC!AZ38 | G25: =GC!BA38
B26: =IF(C26="","",B25+1) | C26: =GC!AW39 | D26: =GC!AX39 | E26: =GC!AY39 | F26: =GC!AZ39 | G26: =GC!BA39
... B61: =IF(C61="","",B60+1) | C61: =GC!AW74 | D61: =GC!AX74 | E61: =GC!AY74 | F61: =GC!AZ74 | G61: =GC!BA74
B62: =IF(C62="","",B61+1) | C62: =GC!AW75 | D62: =GC!AX75

Sheet GC
A1: 1 | C1: 3 | E1: 4 | G1: 5 | I1: 6 | AF1: E | AG1: =(6378137^2-(6378137*(1-1/298.257223563))^2)^0.5/6378137 -> 0.081819191
A2: 1 | B2: LAT Great Circle Sailing | C2: 1 | D2: SIMPLE | E2: 1 | F2: 000.0° | G2: 1 | H2: YES | I2: 1 | J2: NO | K2: X | M2: GRAF | AF2: Corr | AG2: =6378137*2*PI()/21600/1852 -> 1.0017953
A3: 2 | B3: WP Great Circle Sailing | C3: 2 | D3: SPHERE | E3: 2 | F3: 000.5° | G3: 2 | H3: NO | I3: 2 | J3: ###° ##,#0" | K3: 0.1 | M3: =IF(OR(A11=1,AND(A11=3,T23=1)),"DEGREES","")
A4: 3 | B4: LAT Composite Sailing | C4: 3 | D4: SPHERE Corr. | E4: 3 | F4: 000° | I4: 3 | J4: ###° ##,50" | K4: 0.5 | AG4: 1.0017953
A5: 4 | B5: ANA Sailing | C5: 4 | D5: SPHEROID WGS84 | I5: 4 | J5: ###° ##,00" | K5: 1 | AB5: 3 | AC5: =ROUND('GREAT CIRCLE'!G6-'GREAT CIRCLE'!G7,2) -> 230.77 | AD5: =ROUND('GREAT CIRCLE'!G7-'GREAT CIRCLE'!G4,2) -> 28.93
C6: 5 | D6: TRUE WGS84 | I6: 5 | J6: ###° #2,00" | K6: 2
E7: LAT/ WP | F7: =IF(OR(A11=1,AND(A11=3,T23=1),A11=2),1,2) -> 1 | G7: =IF(OR(A11=1,AND(A11=3,T23=1)),"LAT DIV",IF(A11=4,"","WP NR.")) -> WP NR. | H7: =IF(OR(A11=1,AND(A11=3,T23=1)),"DEGREES",IF(A11=4,"","MIN 3 WP; MAX 51 WP")) -> MIN 3 WP; MAX 51 WP | I7: 6 | J7: ###° #2,50" | K7: 2.5
E8: LIM | F8: =IF(OR(A11=1,A11=2,A11=4,AND(A11=3,T23=2)),1,2) -> 1 | I8: 7 | J8: ###° #5,00" | K8: 5
F9: =IF(OR(AND(A11=3,T23=2),AND(A11=4,AB18=2)),1,2) -> 2 | I9: 8 | J9: ###° #0,00" | K9: 10
A10: 1 | B10: 2 | C10: 3 | D10: 4 | E10: 5 | F10: 6 | G10: 7 | AB10: =IF(AD16=M16,1,2) -> 1
A11: =MATCH('GREAT CIRCLE'!K2,LAT,0) -> 2 | B11: =VLOOKUP(MATCH('GREAT CIRCLE'!K3,NOO,0),GC!I2:K9,3) -> 5 | C11: =MATCH('GREAT CIRCLE'!K4,SIMPLE,0) -> 5 | D11: =MATCH('GREAT CIRCLE'!K5,TC,0) -> 1 | E11: =MATCH('GREAT CIRCLE'!K6,YES,0) -> 2 | F11: =MATCH('GREAT CIRCLE'!K7,YES,0) -> 2 | G11: =MATCH('GREAT CIRCLE'!K8,NOO,0) -> 1
G12: =VLOOKUP(G11,I2:K9,3) -> X
B13: LAT | C13: LONG | D13: Δϕ | E13: Δλ | F13: DISTANCE | G13: IN COR | H13: END COR
A14: 1 | B14: =TRUNC('GREAT CIRCLE'!C4/100)+('GREAT CIRCLE'!C4/100-TRUNC('GREAT CIRCLE'!C4/100))/0.6 -> 46.333333 | C14: =TRUNC('GREAT CIRCLE'!D4/100)+('GREAT CIRCLE'!D4/100-TRUNC('GREAT CIRCLE'!D4/100))/0.6 -> 140.5 | D14: =B15-B14 -> -11.333333 | E14: =IF((C15-C14)<-180,(C15-C14)+360,IF((C15-C14)>180,(C15-C14)-360,(C15-C14))) -> 95 | F14: =DEGREES(ACOS(SIN(RADIANS(B14))*SIN(RADIANS(B15))+COS(RADIANS(B14))*COS(RADIANS(B15))*COS(RADIANS(E14))))*60 -> 4113.2823 | G14: =DEGREES(ACOS((SIN(RADIANS(B15))-SIN(RADIANS(B14))*COS(RADIANS(F15/60)))/(SIN(RADIANS(F15/60))*COS(RADIANS(B14))))) -> 61.250835 | H14: =DEGREES(ACOS((SIN(RADIANS(B14))-SIN(RADIANS(B15))*COS(RADIANS(F15/60)))/(SIN(RADIANS(F15/60))*COS(RADIANS(B15))))) -> 47.646063 | I14: =ROUND('GREAT CIRCLE'!C8,0) -> 5
A15: 2 | B15: =TRUNC('GREAT CIRCLE'!C5/100)+('GREAT CIRCLE'!C5/100-TRUNC('GREAT CIRCLE'!C5/100))/0.6 -> 35 | C15: =TRUNC('GREAT CIRCLE'!D5/100)+('GREAT CIRCLE'!D5/100-TRUNC('GREAT CIRCLE'!D5/100))/0.6 -> -124.5 | F15: =IF(F11=1,F14*1.00179527351758,F14) -> 4113.2823 | G15: =IF(E14<0,360-G14,G14) -> 61.250835 | H15: =IF(E14>0,180-H14,180+H14) -> 132.35394 | I15: =IF(OR(AND(C14>0,E14>0),AND(C14<0,E14<0)),ROUNDUP($C$14/I14,)*I14,TRUNC($C$14/I14,)*I14) -> 145 | P15: 1 | R15: 4 | T15: 23 | W15: 14 | X15: ANA | AC15: =IF(AD17>0,IF(AND(M16>=AD16,M16<=AD17),1,0),IF(AND(M16>=AD17,M16<=AD16),1,0)) -> 1
B16: VERTEX | I16: =IF(OR(AND(C15>0,E14>0),AND(C15<0,E14<0)),TRUNC($C$15/I14,)*I14,ROUNDUP($C$15/I14,)*I14) -> -125 | M16: =TRUNC('GREAT CIRCLE'!F8/100)+('GREAT CIRCLE'!F8/100-TRUNC('GREAT CIRCLE'!F8/100))/0.6 -> 46.333333 | N16: =DEGREES(ACOS(TAN(RADIANS(B14))/TAN(RADIANS(M16)))) -> 0 | O16: =IF(T23=1,IF(E14>0,C14+N16,C14-N16),IF(OR(AND(B14<0,G14<90,E14<0),AND(B14<0,G14>90,E14>0),AND(B14>0,G14>90,E14<0),AND(B14>0,G14<90,E14>0)),C14+N16,C14-N16)) -> 140.5 | P16: =IF(O16>180,O16-360,IF(O16<-180,O16+360,O16)) -> 140.5 | Q16: =IF(P16="","",TRUNC(P16)*100+(P16-TRUNC(P16))*60) -> 14030 | R16: =TRUNC(Q16/100)+(ROUND(((Q16/100-TRUNC(Q16/100))*100)/$G$12,)*$G$12)/60 -> #VALUE! | S16: =IF($G$12="X",P16,R16) -> 140.5 | T16: =IF(N16=0,P16,S16) -> 140.5 | U16: =IF(OR(AND(T16>0,E14>0),AND(T16<0,E14<0)),TRUNC(T16/I14,)*I14,ROUNDUP(T16/I14,)*I14) -> 140 | V16: =IF(U16=-180,180,U16) -> 140 | W16: =IF(AND(N16>0,N16<I14),C14,V16) -> 140 | X16: =IF(B14>0,90-B14,90+B14) -> 43.666667 | Y16: =IF(X17>X16,B14,B15) -> 46.333333 | Z16: =ABS(((3437.74677078*(LN((TAN(RADIANS(45+B15/2)))/(TAN(RADIANS(45+B14/2)))))-((SIN(RADIANS(B15))-SIN(RADIANS(B14)))*23.0135831934767)-((SIN(RADIANS(B15))^3)-(SIN(RADIANS(B14))^3))*(0.051353890277194)-((SIN(RADIANS(B15))^5)-(SIN(RADIANS(B14))^5))*(0.000206269473292)))*TAN(ASIN(((3437.74677078*(LN((TAN(RADIANS(45+B15/2)))/(TAN(RADIANS(45+B14/2)))))-((SIN(RADIANS(B15))-SIN(RADIANS(B14)))*23.0135831934767)-((SIN(RADIANS(B15))^3)-(SIN(RADIANS(B14))^3))*(0.051353890277194)-((SIN(RADIANS(B15))^5)-(SIN(RADIANS(B14))^5))*(0.000206269473292)))*(COS(RADIANS(Y16))/((1-0.0818191908426215^2*((SIN(RADIANS(Y16))^2)))^0.5))/(((60.006994*D14)-8.660102*(SIN(RADIANS((2*B15)))-SIN(RADIANS((2*B14))))))))/60) -> 33.370225 | AA16: =IF(E14>0,C14+Z16,C14-Z16) -> 173.87022 | AB16: =IF(AA16>180,AA16-360,IF(AA16<-180,AA16+360,AA16)) -> 173.87022 | AC16: MIN | AD16: =Y16 -> 46.333333 | AE16: =TRUNC(AD16)*100+(AD16-TRUNC(AD16))*60 -> 4620 | AF16: =CONCATENATE("MIN: ",TEXT(AE16,"[>0]#00°00.00' \N;#00°00.00' \S;#")) -> MIN: 46°20.00' N
B17: =IF(A11=3,M16,DEGREES(ACOS(COS(RADIANS(B14))*SIN(RADIANS(G14))))) -> 52.745891 | C17: =DEGREES(ACOS(TAN(RADIANS((B14)))/TAN(RADIANS(B18)))) -> 37.176519 | D17: =IF(C19>0,C19-90,C19+90) -> 87.676519 | E17: =IF(D17<0,D17+180,D17-180) -> -92.323481 | I17: =IF(AND(A11=3,I14>51),2,1) -> 1 | M17: =IF(TAN(RADIANS(B14))/TAN(RADIANS(M16))>1,1,2) -> 2 | N17: =DEGREES(ACOS(TAN(RADIANS(B15))/TAN(RADIANS(M16)))) -> 48.059854 | O17: =IF(T23=1,IF(E14<0,C15+N17,C15-N17),IF(OR(AND(B15<0,H14<90,E14>0),AND(B15<0,H14>90,E14<0),AND(B15>0,H14>90,E14>0),AND(B15>0,H14<90,E14<0)),C15+N17,C15-N17)) -> -172.55985 | P17: =IF(O17>180,O17-360,IF(O17<-180,O17+360,O17)) -> -172.55985 | Q17: =IF(P17="","",TRUNC(P17)*100+(P17-TRUNC(P17))*60) -> -17233.591 | R17: =TRUNC(Q17/100)+(ROUND(((Q17/100-TRUNC(Q17/100))*100)/$G$12,)*$G$12)/60 -> #VALUE! | S17: =IF($G$12="X",P17,R17) -> -172.55985 | T17: =IF(N17=0,P17,S17) -> -172.55985 | U17: =IF(OR(AND(T17>0,E14>0),AND(T17<0,E14<0)),ROUNDUP(T17/I14,)*I14,TRUNC(T17/I14,)*I14) -> -170 | V17: =IF(U17=T17,IF($E$14>0,IF(U17+$I$14>180,U17+$I$14-360,IF(U17+$I$14<-180,U17+$I$14+360,U17+$I$14)),IF(U17-$I$14>180,U17-$I$14-360,IF(U17-$I$14<-180,U17-$I$14+360,U17-$I$14))),U17) -> -170 | W17: =IF(AND(E14>0,V17=-180),180,V17) -> -170 | X17: =IF(B15>0,90-B15,90+B15) -> 55 | AA17: =TRUNC(AB16)*100+(AB16-TRUNC(AB16))*60 -> 17352.213 | AB17: =IF($G$12="X",AB16,(TRUNC(AA17/100)+(ROUND(((AA17/100-TRUNC(AA17/100))*100)/$G$12,)*$G$12)/60)) -> 173.87022 | AC17: MAX | AD17: =IF(AND(G14>90,H14>90),-DEGREES(ACOS(COS(RADIANS(B14))*SIN(RADIANS(G14)))),DEGREES(ACOS(COS(RADIANS(B14))*SIN(RADIANS(G14))))) -> 52.745891 | AE17: =TRUNC(AD17)*100+(AD17-TRUNC(AD17))*60 -> 5244.7534 | AF17: =CONCATENATE("MAX: ",TEXT(AE17,"[>0]#00°00.00' \N;#00°00.00' \S;#")) -> MAX: 52°44.75' N
B18: =IF(A11=3,M16,IF(OR(B14<0,AND(G14>90,H14>90)),-B17,B17)) -> 52.745891 | C18: =IF(T23=1,IF(E14>0,C14+C17,C14-C17),IF(OR(AND(B14<0,G14<90,E14<0),AND(B14<0,G14>90,E14>0),AND(B14>0,G14>90,E14<0),AND(B14>0,G14<90,E14>0)),C14+C17,C14-C17)) -> 177.67652 | D18: =TRUNC(D17)*100+(D17-TRUNC(D17))*60 -> 8740.5912 | E18: =TRUNC(E17)*100+(E17-TRUNC(E17))*60 -> -9219.4088 | AA18: =IF((AB17-C14)<-180,(AB17-C14)+360,IF((AB17-C14)>180,(AB17-C14)-360,(AB17-C14))) -> 33.370225 | AB18: =IF(OR(AND(E14>0,AA18<E14),AND(E14<0,AA18>E14)),1,2) -> 1
C19: =IF(C18<-180,C18+360,IF(C18>180,C18-360,C18)) -> 177.67652 | T19: =MATCH(M16,$S$25:$S$75,0) -> #N/A | U19: =IF(M16>0,MATCH(MAX($Q$25:$Q$75),$Q$25:$Q$75,0),MATCH(MIN($Q$25:$Q$75),$Q$25:$Q$75,0)) -> 3 | BC19: 60
B20: =TRUNC(B18)*100+(B18-TRUNC(B18))*60 -> 5244.7534 | C20: =TRUNC(C19)*100+(C19-TRUNC(C19))*60 -> 17740.591 | T20: =IF(T19=1,2,COUNTIF(S25:S75,M16)+MATCH(M16,$S$25:$S$75,0)-1) -> #N/A | U20: =IF(M16>0,COUNTIF(Q25:Q75,MAX($Q$25:$Q$75))+MATCH(MAX($Q$25:$Q$75),$Q$25:$Q$75,0)-1,COUNTIF(Q25:Q75,MIN($Q$25:$Q$75))+MATCH(MIN($Q$25:$Q$75),$Q$25:$Q$75,0)-1) -> 3 | BC20: =1/COS(RADIANS(BC19)) -> 2
T21: =MATCH("",S25:S75,0)-1 -> 5
C22: 1 | D22: 3 | E22: 4 | T22: =MATCH(B15,$S$25:$S$75,0) -> 5
B23: LAT DIV | C23: 1 | E23: 4 | G23: WP NR | J23: 2 | T23: =IF(OR(AND(G14<90,H14<90),AND(G14>90,H14>90)),1,2) -> 1 | AB23: DPM | AE23: TC | AJ23: S | AO23: TC | AQ23: S | AV23: S
G24: =IF(I17=2,ABS(E14/50),ABS(E14/(I14-1))) -> 23.75 | L24: 1 | M24: 2 | T24: COMPOSITE | X24: LAT | Y24: LONG | Z24: Δϕ | AA24: Δλ | AB24: 2 | AC24: 4 | AD24: 5 | AE24: 1 | AF24: 2 | AG24: 3 | AH24: 4 | AI24: 5 | AJ24: 1 | AK24: 2 | AL24: 3 | AM24: 4 | AN24: 5 | AQ24: 1 | AR24: 2 | AS24: 3 | AT24: 4 | AU24: 5 | AW24: LAT | AX24: LONG | AY24: CC | AZ24: TO GO | BA24: TOTAL TO GO | BD24: x | BE24: y | BH24: X | BI24: Y
A25: 1 | B25: =C14 -> 140.5 | C25: =C14 -> 140.5 | D25: =C14 -> 140.5 | E25: =C14 -> 140.5 | F25: 1 | G25: =C14 -> 140.5 | H25: =C14 -> 140.5 | J25: =C14 -> 140.5 | K25: 1 | L25: =C14 -> 140.5 | M25: =IF($A$11=4,"",$C$19-L25) -> 37.176519 | N25: =IF($A$11=4,$B$14,IF(M25="","",IF(M26="",$B$15,DEGREES(ATAN(COS(RADIANS(M25))*TAN(RADIANS($B$18))))))) -> 46.333333 | P25: 1 | Q25: =N25 -> 46.333333 | R25: =IF(Q25="","",TRUNC(Q25)*100+(Q25-TRUNC(Q25))*60) -> 4620 | S25: =TRUNC(R25/100)+(R25/100-TRUNC(R25/100))/0.6 -> 46.333333 | T25: =MATCH(Q25,$Q$25:$Q$75,0) -> 1 | U25: =T25 -> 1 | V25: =VLOOKUP(U25,$P$25:$Q$75,2) -> 46.333333 | W25: =VLOOKUP(U25,$K$25:$L$75,2) -> 140.5 | X25: =IF(OR(AND($A$11=4,$AB$18=2),AND($A$11=3,$T$23=2)),"",B14) -> 46.333333 | Y25: =IF(OR(AND($A$11=4,$AB$18=2),AND($A$11=3,$T$23=2)),"",C14) -> 140.5 | Z25: =IF(X26="","",IF(X26-X25>180,X26-X25-360,IF(X26-X25<-180,X26-X25+360,X26-X25))) -> 5.6666667 | AA25: =IF(Y26="","",IF(ABS(Y26-Y25)<=180,Y26-Y25,(360-ABS(Y26-Y25))*-SIGN(Y26-Y25))) -> 23.75 | AB25: =IF(X26="","",7915.70447*LOG(TAN(RADIANS((45+X26/2)))/TAN(RADIANS((45+X25/2))))) -> 520.76998 | AC25: =IF(X26="","",7915.70446789782*LOG((TAN(RADIANS(45+X26/2))*(((1-0.0818191908426215*SIN(RADIANS(X26)))/(1+0.0818191908426215*SIN(RADIANS(X26))))^(0.0818191908426215/2)))/(TAN(RADIANS(45+X25/2))*(((1-0.0818191908426215*SIN(RADIANS(X25)))/(1+0.0818191908426215*SIN(RADIANS(X25))))^(0.0818191908426215/2))))) -> 519.27662 | AD25: =IF(X26="","",DEGREES(ATAN2(3437.74677078*(LN((TAN(RADIANS(45+X26/2)))/(TAN(RADIANS(45+X25/2)))))-((SIN(RADIANS(X26))-SIN(RADIANS(X25)))*23.0135831934767)-((SIN(RADIANS(X26))^3)-(SIN(RADIANS(X25))^3))*(0.051353890277194)-((SIN(RADIANS(X26))^5)-(SIN(RADIANS(X25))^5))*(0.000206269473292),AA25*60))) -> 69.978025 | AE25: =IF(X26="","",IF(AA25<0,360+DEGREES(ATAN2(Z25,AA25*COS(RADIANS((X26+X25)/2)))),DEGREES(ATAN2(Z25,AA25*COS(RADIANS((X26+X25)/2)))))) -> 69.952769 | AF25: =IF(X26="","",IF(AA25<0,360+DEGREES(ATAN2(AB25,AA25*60)),DEGREES(ATAN2(AB25,AA25*60)))) -> 69.925037 | AG25: =AF25 -> 69.925037 | AH25: =IF(X26="","",IF(AA25<0,360+DEGREES(ATAN2(AC25,(AA25*60))),DEGREES(ATAN2(AC25,(AA25*60))))) -> 69.978025 | AI25: =IF(AA25<0,360+AD25,AD25) -> 69.978025 | AJ25: =IF(X26="","",IF(Z25=0,(AA25*COS(RADIANS((X26+X25)/2)))*60/SIN(RADIANS(AE25)),Z25*60/COS(RADIANS(AE25)))) -> 991.84745 | AK25: =IF(X26="","",ABS(IF(Z25=0,(AA25)*60*COS(RADIANS(X25)),IF(AA25=0,(Z25*60),(Z25/COS(RADIANS(AF25)))*60)))) -> 990.53371 | AL25: =IF(AK25="","",AK25*1.00179527351758) -> 992.31199 | AM25: =IF(X26="","",ABS(IF(Z25=0,AA25*60*COS(RADIANS(X26)),(Z25/COS(RADIANS(AH25)))*60))) -> 993.04712 | AN25: =IF(X26="","",IF(Z25=0,ABS(AA25*60*COS(((ATAN(TAN(RADIANS(X26))*(1-0.08181919034^2)^0.5))))*1.001795274),IF(AA25=0,ABS(((60.006994*Z25)-8.660102*(SIN(RADIANS((2*X26)))-SIN(RADIANS((2*X25)))))),ABS((((60.006994*Z25)-8.660102*(SIN(RADIANS((2*X26)))-SIN(RADIANS((2*X25))))))/COS(RADIANS(AI25)))))) -> 993.88682 | AO25: =HLOOKUP($C$11,$AE$24:$AI$75,P25+1) -> 69.978025 | AP25: =IF(X26="","",IF($D$11=3,ROUND(AO25,),IF($D$11=2,0.5*ROUND(AO25/0.5,),ROUND(AO25,1)))) -> 70 | AQ25: =IF(X26="","",IF(Z25=0,(AA25*COS(RADIANS((X26+X25)/2)))*60/SIN(RADIANS(AP25)),Z25*60/COS(RADIANS(AP25)))) -> 994.0935 | AR25: =IF(X26="","",ABS(IF(Z25=0,(AA25)*60*COS(RADIANS(X25)),IF(AA25=0,(Z25*60),(Z25/COS(RADIANS(AP25)))*60)))) -> 994.0935 | AS25: =IF(AR25="","",AR25*1.00179527351758) -> 995.87817 | AT25: =IF(X26="","",ABS(IF(Z25=0,AA25*60*COS(RADIANS(X26)),(Z25/COS(RADIANS(AP25)))*60))) -> 994.0935 | AU25: =IF(X26="","",IF(Z25=0,ABS(AA25*60*COS(((ATAN(TAN(RADIANS(X26))*(1-0.08181919034^2)^0.5))))*1.001795274),IF(AA25=0,ABS(((60.006994*Z25)-8.660102*(SIN(RADIANS((2*X26)))-SIN(RADIANS((2*X25)))))),ABS((((60.006994*Z25)-8.660102*(SIN(RADIANS((2*X26)))-SIN(RADIANS((2*X25))))))/COS(RADIANS(AP25)))))) -> 994.93408 | AV25: =IF($E$11=1,HLOOKUP($C$11,$AQ$24:$AU$75,P25+1),HLOOKUP($C$11,$AJ$24:$AN$75,P25+1)) -> 993.88682 | AW25: =IF(X25="","",TRUNC(X25)*100+(X25-TRUNC(X25))*60) -> 4620 | AX25: =IF(Y25="","",TRUNC(Y25)*100+(Y25-TRUNC(Y25))*60) -> 14030 | AY25: =IF(AP25="","",AP25) -> 70 | AZ25: =IF(AV25="","",ROUND(AV25,2)) -> 993.89 | BA25: =IF(SUM(AZ25:AZ75)=0,"",SUM(AZ25:AZ75)) -> 4142.21 | BC25: 0 | BD25: 0 | BE25: 0 | BH25: 0 | BI25: =IF(X25="",BI24,X25*(1/COS(RADIANS(X25)))) -> 67.104858
A26: 2 | B26: =IF($C$14=$I$15,IF($E$14>0,IF($I$15+$I$14>180,$I$15+$I$14-360,IF($I$15+$I$14<-180,$I$15+$I$14+360,$I$15+$I$14)),IF($I$15-$I$14>180,$I$15-$I$14-360,IF($I$15-$I$14<-180,$I$15-$I$14+360,$I$15-I14))),$I$15) -> 145 | C26: =IF(OR(C25="",C25=$C$15),"",IF(B26=$I$16,$I$16,IF(C25=$I$16,$C$15,B26))) -> 145 | D26: =IF(OR(D25="",D25=$C$15),"",IF(D25=$W$16,$T$16,IF(D25=$T$16,$T$17,IF(D25=$T$17,$W$17,VLOOKUP(MATCH(D25,$C$25:$C$75,0)+1,$A$25:$C$75,3))))) -> -172.55985 | E26: =AB17 -> 173.87022 | F26: 2 | G26: =IF($E$14>0,IF(G25+$G$24>180,G25+$G$24-360,IF(G25+$G$24<-180,G25+$G$24+360,G25+$G$24)),IF(G25-$G$24>180,G25-$G$24-360,IF(G25-$G$24<-180,G25-$G$24+360,G25-$G$24))) -> 164.25 | H26: =IF(OR(H25="",F26=$I$14+1),"",G26) -> 164.25 | I26: =IF(H26="","",TRUNC(H26)*100+(H26-TRUNC(H26))*60) -> 16415 | J26: =IF(I26="","",IF($G$12="X",H26,(TRUNC(I26/100)+(ROUND(((I26/100-TRUNC(I26/100))*100)/$G$12,)*$G$12)/60))) -> 164.25 | K26: 2 | L26: =IF($A$11=1,C26,IF($A$11=3,D26,IF($A$11=4,E26,J26))) -> 164.25 | M26: =IF(OR($A$11=1,$A$11=2),$C$18-L26,IF($A$11=4,"",IF(OR(L26=$T$16,L26=$T$17),0,IF(OR(M25=0,M25=$T$17-L25),$T$17-L26,$T$16-L26)))) -> 13.426519 | N26: =IF($A$11=4,Y16,IF(M26="","",IF(M27="",$B$15,DEGREES(ATAN(COS(RADIANS(M26))*TAN(RADIANS($B$18))))))) -> 51.978098 | O26: =IF(N26="","",TRUNC(N26)*100+(N26-TRUNC(N26))*60) -> 5158.6859 | P26: 2 | Q26: =IF(O26="","",IF(OR($B$11="X",A11=4),N26,TRUNC(O26/100)+(ROUND(((O26/100-TRUNC(O26/100))*100)/$B$11,)*$B$11)/60)) -> 52 | R26: =IF(Q26="","",TRUNC(Q26)*100+(Q26-TRUNC(Q26))*60) -> 5200 | S26: =IF(R26="","",TRUNC(R26/100)+(R26/100-TRUNC(R26/100))/0.6) -> 52 | T26: =IF(OR(T25="",T25=$T$21),"",IF(T25=$T$19,$T$20,IF(T25>=$T$20,T25+1,MATCH(S25,$S$25:$S$75,0)+1))) -> #N/A | U26: =IF(U25="","",IF(U25=$T$21,"",IF(T26=$T$22,$T$21,T26))) -> #N/A | V26: =IF(U26="","",VLOOKUP(U26,$P$25:$S$75,4)) -> #N/A | W26: =IF(U26="","",VLOOKUP(U26,$K$25:$L$75,2)) -> #N/A | X26: =IF(OR(AND($A$11=4,$AB$18=2),AND($A$11=3,$T$23=2)),"",IF($A$11=3,V26,S26)) -> 52 | Y26: =IF(OR(AND($A$11=4,$AB$18=2),AND($A$11=3,$T$23=2)),"",IF($A$11=3,W26,L26)) -> 164.25 | Z26: =IF(X27="","",IF(X27-X26>180,X27-X26-360,IF(X27-X26<-180,X27-X26+360,X27-X26))) -> 0.33333333 | AA26: =IF(Y27="","",IF(ABS(Y27-Y26)<=180,Y27-Y26,(360-ABS(Y27-Y26))*-SIGN(Y27-Y26))) -> 23.75 | AB26: =IF(X27="","",7915.70447*LOG(TAN(RADIANS((45+X27/2)))/TAN(RADIANS((45+X26/2))))) -> 32.607123 | AC26: =IF(X27="","",7915.70446789782*LOG((TAN(RADIANS(45+X27/2))*(((1-0.0818191908426215*SIN(RADIANS(X27)))/(1+0.0818191908426215*SIN(RADIANS(X27))))^(0.0818191908426215/2)))/(TAN(RADIANS(45+X26/2))*(((1-0.0818191908426215*SIN(RADIANS(X26)))/(1+0.0818191908426215*SIN(RADIANS(X26))))^(0.0818191908426215/2))))) -> 32.524657 | AD26: =IF(X27="","",DEGREES(ATAN2(3437.74677078*(LN((TAN(RADIANS(45+X27/2)))/(TAN(RADIANS(45+X26/2)))))-((SIN(RADIANS(X27))-SIN(RADIANS(X26)))*23.0135831934767)-((SIN(RADIANS(X27))^3)-(SIN(RADIANS(X26))^3))*(0.051353890277194)-((SIN(RADIANS(X27))^5)-(SIN(RADIANS(X26))^5))*(0.000206269473292),AA26*60))) -> 88.69249 | AE26: =IF(X27="","",IF(AA26<0,360+DEGREES(ATAN2(Z26,AA26*COS(RADIANS((X27+X26)/2)))),DEGREES(ATAN2(Z26,AA26*COS(RADIANS((X27+X26)/2)))))) -> 88.689184 | AF26: =IF(X27="","",IF(AA26<0,360+DEGREES(ATAN2(AB26,AA26*60)),DEGREES(ATAN2(AB26,AA26*60)))) -> 88.689176 | AG26: =AF26 -> 88.689176 | AH26: =IF(X27="","",IF(AA26<0,360+DEGREES(ATAN2(AC26,(AA26*60))),DEGREES(ATAN2(AC26,(AA26*60))))) -> 88.69249 | AI26: =IF(AA26<0,360+AD26,AD26) -> 88.69249 | AJ26: =IF(X27="","",IF(Z26=0,(AA26*COS(RADIANS((X27+X26)/2)))*60/SIN(RADIANS(AE26)),Z26*60/COS(RADIANS(AE26)))) -> 874.27626 | AK26: =IF(X27="","",ABS(IF(Z26=0,(AA26)*60*COS(RADIANS(X26)),IF(AA26=0,(Z26*60),(Z26/COS(RADIANS(AF26)))*60)))) -> 874.27094 | AL26: =IF(AK26="","",AK26*1.00179527351758) -> 875.84049 | AM26: =IF(X27="","",ABS(IF(Z26=0,AA26*60*COS(RADIANS(X27)),(Z26/COS(RADIANS(AH26)))*60))) -> 876.4865 | AN26: =IF(X27="","",IF(Z26=0,ABS(AA26*60*COS(((ATAN(TAN(RADIANS(X27))*(1-0.08181919034^2)^0.5))))*1.001795274),IF(AA26=0,ABS(((60.006994*Z26)-8.660102*(SIN(RADIANS((2*X27)))-SIN(RADIANS((2*X26)))))),ABS((((60.006994*Z26)-8.660102*(SIN(RADIANS((2*X27)))-SIN(RADIANS((2*X26))))))/COS(RADIANS(AI26)))))) -> 877.68189 | AO26: =HLOOKUP($C$11,$AE$24:$AI$75,P26+1) -> 88.69249 | AP26: =IF(X27="","",IF($D$11=3,ROUND(AO26,),IF($D$11=2,0.5*ROUND(AO26/0.5,),ROUND(AO26,1)))) -> 88.7 | AQ26: =IF(X27="","",IF(Z26=0,(AA26*COS(RADIANS((X27+X26)/2)))*60/SIN(RADIANS(AP26)),Z26*60/COS(RADIANS(AP26)))) -> 881.54917 | AR26: =IF(X27="","",ABS(IF(Z26=0,(AA26)*60*COS(RADIANS(X26)),IF(AA26=0,(Z26*60),(Z26/COS(RADIANS(AP26)))*60)))) -> 881.54917 | AS26: =IF(AR26="","",AR26*1.00179527351758) -> 883.13179 | AT26: =IF(X27="","",ABS(IF(Z26=0,AA26*60*COS(RADIANS(X27)),(Z26/COS(RADIANS(AP26)))*60))) -> 881.54917 | AU26: =IF(X27="","",IF(Z26=0,ABS(AA26*60*COS(((ATAN(TAN(RADIANS(X27))*(1-0.08181919034^2)^0.5))))*1.001795274),IF(AA26=0,ABS(((60.006994*Z26)-8.660102*(SIN(RADIANS((2*X27)))-SIN(RADIANS((2*X26)))))),ABS((((60.006994*Z26)-8.660102*(SIN(RADIANS((2*X27)))-SIN(RADIANS((2*X26))))))/COS(RADIANS(AP26)))))) -> 882.75146 | AV26: =IF($E$11=1,HLOOKUP($C$11,$AQ$24:$AU$75,P26+1),HLOOKUP($C$11,$AJ$24:$AN$75,P26+1)) -> 877.68189 | AW26: =IF(X26="","",TRUNC(X26)*100+(X26-TRUNC(X26))*60) -> 5200 | AX26: =IF(Y26="","",TRUNC(Y26)*100+(Y26-TRUNC(Y26))*60) -> 16415 | AY26: =IF(AP26="","",AP26) -> 88.7 | AZ26: =IF(AV26="","",ROUND(AV26,2)) -> 877.68 | BA26: =IF(AW27="","",BA25-AZ25) -> 3148.32 | BC26: =IF(AA25="","",BC25+1) -> 1 | BD26: =IF(AA25="",BD25,BD25+AA25) -> 23.75 | BE26: =IF(Z25="",BE25,Z25+BE25) -> 5.6666667 | BH26: =IF(AA25="",BH25,BH25+AA25) -> 23.75 | BI26: =IF(X26="",BI25,X26*(1/COS(RADIANS(X26)))) -> 84.462001
A27: 3 | B27: =IF($E$14>0,IF(B26+$I$14>180,B26+$I$14-360,IF(B26+$I$14<-180,B26+$I$14+360,B26+$I$14)),IF(B26-$I$14>180,B26-$I$14-360,IF(B26-$I$14<-180,B26-$I$14+360,B26-$I$14))) -> 150 | C27: =IF(OR(C26="",C26=$C$15),"",IF(B27=$I$16,$I$16,IF(C26=$I$16,$C$15,B27))) -> 150 | D27: =IF(OR(D26="",D26=$C$15),"",IF(D26=$W$16,$T$16,IF(D26=$T$16,$T$17,IF(D26=$T$17,$W$17,VLOOKUP(MATCH(D26,$C$25:$C$75,0)+1,$A$25:$C$75,3))))) -> -170 | E27: =C15 -> -124.5 | F27: 3 | G27: =IF($E$14>0,IF(G26+$G$24>180,G26+$G$24-360,IF(G26+$G$24<-180,G26+$G$24+360,G26+$G$24)),IF(G26-$G$24>180,G26-$G$24-360,IF(G26-$G$24<-180,G26-$G$24+360,G26-$G$24))) -> -172 | H27: =IF(OR(H26="",F27=$I$14+1),"",G27) -> -172 | I27: =IF(H27="","",TRUNC(H27)*100+(H27-TRUNC(H27))*60) -> -17200 | J27: =IF(I27="","",IF($G$12="X",H27,(TRUNC(I27/100)+(ROUND(((I27/100-TRUNC(I27/100))*100)/$G$12,)*$G$12)/60))) -> -172 | K27: 3 | L27: =IF($A$11=1,C27,IF($A$11=3,D27,IF($A$11=4,E27,J27))) -> -172 | M27: =IF(OR($A$11=1,$A$11=2),$C$18-L27,IF($A$11=4,"",IF(OR(L27=$T$16,L27=$T$17),0,IF(OR(M26=0,M26=$T$17-L26),$T$17-L27,$T$16-L27)))) -> 349.67652 | N27: =IF($A$11=4,B15,IF(M27="","",IF(M28="",$B$15,DEGREES(ATAN(COS(RADIANS(M27))*TAN(RADIANS($B$18))))))) -> 52.294357 | O27: =IF(N27="","",TRUNC(N27)*100+(N27-TRUNC(N27))*60) -> 5217.6614 | P27: 3 | Q27: =IF(O27="","",IF(OR($B$11="X",A11=4),N27,TRUNC(O27/100)+(ROUND(((O27/100-TRUNC(O27/100))*100)/$B$11,)*$B$11)/60)) -> 52.333333 | R27: =IF(Q27="","",TRUNC(Q27)*100+(Q27-TRUNC(Q27))*60) -> 5220 | S27: =IF(R27="","",TRUNC(R27/100)+(R27/100-TRUNC(R27/100))/0.6) -> 52.333333 | T27: =IF(OR(T26="",T26=$T$21),"",IF(T26=$T$19,$T$20,IF(T26>=$T$20,T26+1,MATCH(S26,$S$25:$S$75,0)+1))) -> #N/A | U27: =IF(U26="","",IF(U26=$T$21,"",IF(T27=$T$22,$T$21,T27))) -> #N/A | V27: =IF(U27="","",VLOOKUP(U27,$P$25:$S$75,4)) -> #N/A | W27: =IF(U27="","",VLOOKUP(U27,$K$25:$L$75,2)) -> #N/A | X27: =IF(OR(AND($A$11=4,$AB$18=2),AND($A$11=3,$T$23=2)),"",IF($A$11=3,V27,S27)) -> 52.333333 | Y27: =IF(OR(AND($A$11=4,$AB$18=2),AND($A$11=3,$T$23=2)),"",IF($A$11=3,W27,L27)) -> -172 | Z27: =IF(X28="","",IF(X28-X27>180,X28-X27-360,IF(X28-X27<-180,X28-X27+360,X28-X27))) -> -4.9166667 | AA27: =IF(Y28="","",IF(ABS(Y28-Y27)<=180,Y28-Y27,(360-ABS(Y28-Y27))*-SIGN(Y28-Y27))) -> 23.75 | AB27: =IF(X28="","",7915.70447*LOG(TAN(RADIANS((45+X28/2)))/TAN(RADIANS((45+X27/2))))) -> -458.28654 | AC27: =IF(X28="","",7915.70446789782*LOG((TAN(RADIANS(45+X28/2))*(((1-0.0818191908426215*SIN(RADIANS(X28)))/(1+0.0818191908426215*SIN(RADIANS(X28))))^(0.0818191908426215/2)))/(TAN(RADIANS(45+X27/2))*(((1-0.0818191908426215*SIN(RADIANS(X27)))/(1+0.0818191908426215*SIN(RADIANS(X27))))^(0.0818191908426215/2))))) -> -457.00923 | AD27: =IF(X28="","",DEGREES(ATAN2(3437.74677078*(LN((TAN(RADIANS(45+X28/2)))/(TAN(RADIANS(45+X27/2)))))-((SIN(RADIANS(X28))-SIN(RADIANS(X27)))*23.0135831934767)-((SIN(RADIANS(X28))^3)-(SIN(RADIANS(X27))^3))*(0.051353890277194)-((SIN(RADIANS(X28))^5)-(SIN(RADIANS(X27))^5))*(0.000206269473292),AA27*60))) -> 107.78147 | AE27: =IF(X28="","",IF(AA27<0,360+DEGREES(ATAN2(Z27,AA27*COS(RADIANS((X28+X27)/2)))),DEGREES(ATAN2(Z27,AA27*COS(RADIANS((X28+X27)/2)))))) -> 107.80846 | AF27: =IF(X28="","",IF(AA27<0,360+DEGREES(ATAN2(AB27,AA27*60)),DEGREES(ATAN2(AB27,AA27*60)))) -> 107.82803 | AG27: =AF27 -> 107.82803 | AH27: =IF(X28="","",IF(AA27<0,360+DEGREES(ATAN2(AC27,(AA27*60))),DEGREES(ATAN2(AC27,(AA27*60))))) -> 107.78147 | AI27: =IF(AA27<0,360+AD27,AD27) -> 107.78147 | AJ27: =IF(X28="","",IF(Z27=0,(AA27*COS(RADIANS((X28+X27)/2)))*60/SIN(RADIANS(AE27)),Z27*60/COS(RADIANS(AE27)))) -> 964.56977 | AK27: =IF(X28="","",ABS(IF(Z27=0,(AA27)*60*COS(RADIANS(X27)),IF(AA27=0,(Z27*60),(Z27/COS(RADIANS(AF27)))*60)))) -> 963.54517 | AL27: =IF(AK27="","",AK27*1.00179527351758) -> 965.27499 | AM27: =IF(X28="","",ABS(IF(Z27=0,AA27*60*COS(RADIANS(X28)),(Z27/COS(RADIANS(AH27)))*60))) -> 965.98609 | AN27: =IF(X28="","",IF(Z27=0,ABS(AA27*60*COS(((ATAN(TAN(RADIANS(X28))*(1-0.08181919034^2)^0.5))))*1.001795274),IF(AA27=0,ABS(((60.006994*Z27)-8.660102*(SIN(RADIANS((2*X28)))-SIN(RADIANS((2*X27)))))),ABS((((60.006994*Z27)-8.660102*(SIN(RADIANS((2*X28)))-SIN(RADIANS((2*X27))))))/COS(RADIANS(AI27)))))) -> 966.92188 | AO27: =HLOOKUP($C$11,$AE$24:$AI$75,P27+1) -> 107.78147 | AP27: =IF(X28="","",IF($D$11=3,ROUND(AO27,),IF($D$11=2,0.5*ROUND(AO27/0.5,),ROUND(AO27,1)))) -> 107.8 | AQ27: =IF(X28="","",IF(Z27=0,(AA27*COS(RADIANS((X28+X27)/2)))*60/SIN(RADIANS(AP27)),Z27*60/COS(RADIANS(AP27)))) -> 965.01319 | AR27: =IF(X28="","",ABS(IF(Z27=0,(AA27)*60*COS(RADIANS(X27)),IF(AA27=0,(Z27*60),(Z27/COS(RADIANS(AP27)))*60)))) -> 965.01319 | AS27: =IF(AR27="","",AR27*1.00179527351758) -> 966.74565 | AT27: =IF(X28="","",ABS(IF(Z27=0,AA27*60*COS(RADIANS(X28)),(Z27/COS(RADIANS(AP27)))*60))) -> 965.01319 | AU27: =IF(X28="","",IF(Z27=0,ABS(AA27*60*COS(((ATAN(TAN(RADIANS(X28))*(1-0.08181919034^2)^0.5))))*1.001795274),IF(AA27=0,ABS(((60.006994*Z27)-8.660102*(SIN(RADIANS((2*X28)))-SIN(RADIANS((2*X27)))))),ABS((((60.006994*Z27)-8.660102*(SIN(RADIANS((2*X28)))-SIN(RADIANS((2*X27))))))/COS(RADIANS(AP27)))))) -> 965.94804 | AV27: =IF($E$11=1,HLOOKUP($C$11,$AQ$24:$AU$75,P27+1),HLOOKUP($C$11,$AJ$24:$AN$75,P27+1)) -> 966.92188 | AW27: =IF(X27="","",TRUNC(X27)*100+(X27-TRUNC(X27))*60) -> 5220 | AX27: =IF(Y27="","",TRUNC(Y27)*100+(Y27-TRUNC(Y27))*60) -> -17200 | AY27: =IF(AP27="","",AP27) -> 107.8 | AZ27: =IF(AV27="","",ROUND(AV27,2)) -> 966.92 | BA27: =IF(AW28="","",BA26-AZ26) -> 2270.64 | BC27: =IF(AA26="","",BC26+1) -> 2 | BD27: =IF(AA26="",BD26,BD26+AA26) -> 47.5 | BE27: =IF(Z26="",BE26,Z26+BE26) -> 6 | BH27: =IF(AA26="",BH26,BH26+AA26) -> 47.5 | BI27: =IF(X27="",BI26,X27*(1/COS(RADIANS(X27)))) -> 85.642599
A28: 4 | B28: =IF($E$14>0,IF(B27+$I$14>180,B27+$I$14-360,IF(B27+$I$14<-180,B27+$I$14+360,B27+$I$14)),IF(B27-$I$14>180,B27-$I$14-360,IF(B27-$I$14<-180,B27-$I$14+360,B27-$I$14))) -> 155 | C28: =IF(OR(C27="",C27=$C$15),"",IF(B28=$I$16,$I$16,IF(C27=$I$16,$C$15,B28))) -> 155 | D28: =IF(OR(D27="",D27=$C$15),"",IF(D27=$W$16,$T$16,IF(D27=$T$16,$T$17,IF(D27=$T$17,$W$17,VLOOKUP(MATCH(D27,$C$25:$C$75,0)+1,$A$25:$C$75,3))))) -> -165 | F28: 4 | G28: =IF($E$14>0,IF(G27+$G$24>180,G27+$G$24-360,IF(G27+$G$24<-180,G27+$G$24+360,G27+$G$24)),IF(G27-$G$24>180,G27-$G$24-360,IF(G27-$G$24<-180,G27-$G$24+360,G27-$G$24))) -> -148.25 | H28: =IF(OR(H27="",F28=$I$14+1),"",G28) -> -148.25 | I28: =IF(H28="","",TRUNC(H28)*100+(H28-TRUNC(H28))*60) -> -14815 | J28: =IF(I28="","",IF($G$12="X",H28,(TRUNC(I28/100)+(ROUND(((I28/100-TRUNC(I28/100))*100)/$G$12,)*$G$12)/60))) -> -148.25 | K28: 4 | L28: =IF($A$11=1,C28,IF($A$11=3,D28,IF($A$11=4,"",J28))) -> -148.25 | M28: =IF((L28=""),"",IF(OR($A$11=1,$A$11=2),$C$18-L28,IF(OR(L28=$T$16,L28=$T$17),0,IF(OR(M27=0,M27=$T$17-L27),$T$17-L28,$T$16-L28)))) -> 325.92652 | N28: =IF($A$11=4,"",IF(M28="","",IF(M29="",$B$15,DEGREES(ATAN(COS(RADIANS(M28))*TAN(RADIANS($B$18))))))) -> 47.443063 | O28: =IF(N28="","",TRUNC(N28)*100+(N28-TRUNC(N28))*60) -> 4726.5838 | P28: 4 | Q28: =IF(O28="","",IF($B$11="X",N28,IF(O29="",$B$15,TRUNC(O28/100)+(ROUND(((O28/100-TRUNC(O28/100))*100)/$B$11,)*$B$11)/60))) -> 47.416667 | R28: =IF(Q28="","",TRUNC(Q28)*100+(Q28-TRUNC(Q28))*60) -> 4725 | S28: =IF(R28="","",TRUNC(R28/100)+(R28/100-TRUNC(R28/100))/0.6) -> 47.416667 | T28: =IF(OR(T27="",T27=$T$21),"",IF(T27=$T$19,$T$20,IF(T27>=$T$20,T27+1,MATCH(S27,$S$25:$S$75,0)+1))) -> #N/A | U28: =IF(U27="","",IF(U27=$T$21,"",IF(T28=$T$22,$T$21,T28))) -> #N/A | V28: =IF(U28="","",VLOOKUP(U28,$P$25:$S$75,4)) -> #N/A | W28: =IF(U28="","",VLOOKUP(U28,$K$25:$L$75,2)) -> #N/A | X28: =IF(OR(AND($A$11=4,$AB$18=2),AND($A$11=3,$T$23=2)),"",IF($A$11=3,V28,S28)) -> 47.416667 | Y28: =IF(OR(AND($A$11=4,$AB$18=2),AND($A$11=3,$T$23=2)),"",IF($A$11=3,W28,L28)) -> -148.25 | Z28: =IF(X29="","",IF(X29-X28>180,X29-X28-360,IF(X29-X28<-180,X29-X28+360,X29-X28))) -> -12.416667 | AA28: =IF(Y29="","",IF(ABS(Y29-Y28)<=180,Y29-Y28,(360-ABS(Y29-Y28))*-SIGN(Y29-Y28))) -> 23.75 | AB28: =IF(X29="","",7915.70447*LOG(TAN(RADIANS((45+X29/2)))/TAN(RADIANS((45+X28/2))))) -> -995.22772 | AC28: =IF(X29="","",7915.70446789782*LOG((TAN(RADIANS(45+X29/2))*(((1-0.0818191908426215*SIN(RADIANS(X29)))/(1+0.0818191908426215*SIN(RADIANS(X29))))^(0.0818191908426215/2)))/(TAN(RADIANS(45+X28/2))*(((1-0.0818191908426215*SIN(RADIANS(X28)))/(1+0.0818191908426215*SIN(RADIANS(X28))))^(0.0818191908426215/2))))) -> -991.47217 | AD28: =IF(X29="","",DEGREES(ATAN2(3437.74677078*(LN((TAN(RADIANS(45+X29/2)))/(TAN(RADIANS(45+X28/2)))))-((SIN(RADIANS(X29))-SIN(RADIANS(X28)))*23.0135831934767)-((SIN(RADIANS(X29))^3)-(SIN(RADIANS(X28))^3))*(0.051353890277194)-((SIN(RADIANS(X29))^5)-(SIN(RADIANS(X28))^5))*(0.000206269473292),AA28*60))) -> 124.82904 | AE28: =IF(X29="","",IF(AA28<0,360+DEGREES(ATAN2(Z28,AA28*COS(RADIANS((X29+X28)/2)))),DEGREES(ATAN2(Z28,AA28*COS(RADIANS((X29+X28)/2)))))) -> 124.79649 | AF28: =IF(X29="","",IF(AA28<0,360+DEGREES(ATAN2(AB28,AA28*60)),DEGREES(ATAN2(AB28,AA28*60)))) -> 124.93066 | AG28: =AF28 -> 124.93066 | AH28: =IF(X29="","",IF(AA28<0,360+DEGREES(ATAN2(AC28,(AA28*60))),DEGREES(ATAN2(AC28,(AA28*60))))) -> 124.82904 | AI28: =IF(AA28<0,360+AD28,AD28) -> 124.82904 | AJ28: =IF(X29="","",IF(Z28=0,(AA28*COS(RADIANS((X29+X28)/2)))*60/SIN(RADIANS(AE28)),Z28*60/COS(RADIANS(AE28)))) -> 1305.4985 | AK28: =IF(X29="","",ABS(IF(Z28=0,(AA28)*60*COS(RADIANS(X28)),IF(AA28=0,(Z28*60),(Z28/COS(RADIANS(AF28)))*60)))) -> 1301.1177 | AL28: =IF(AK28="","",AK28*1.00179527351758) -> 1303.4536 | AM28: =IF(X29="","",ABS(IF(Z28=0,AA28*60*COS(RADIANS(X29)),(Z28/COS(RADIANS(AH28)))*60))) -> 1304.4324 | AN28: =IF(X29="","",IF(Z28=0,ABS(AA28*60*COS(((ATAN(TAN(RADIANS(X29))*(1-0.08181919034^2)^0.5))))*1.001795274),IF(AA28=0,ABS(((60.006994*Z28)-8.660102*(SIN(RADIANS((2*X29)))-SIN(RADIANS((2*X28)))))),ABS((((60.006994*Z28)-8.660102*(SIN(RADIANS((2*X29)))-SIN(RADIANS((2*X28))))))/COS(RADIANS(AI28)))))) -> 1303.7239 | AO28: =HLOOKUP($C$11,$AE$24:$AI$75,P28+1) -> 124.82904 | AP28: =IF(X29="","",IF($D$11=3,ROUND(AO28,),IF($D$11=2,0.5*ROUND(AO28/0.5,),ROUND(AO28,1)))) -> 124.8 | AQ28: =IF(X29="","",IF(Z28=0,(AA28*COS(RADIANS((X29+X28)/2)))*60/SIN(RADIANS(AP28)),Z28*60/COS(RADIANS(AP28)))) -> 1305.3834 | AR28: =IF(X29="","",ABS(IF(Z28=0,(AA28)*60*COS(RADIANS(X28)),IF(AA28=0,(Z28*60),(Z28/COS(RADIANS(AP28)))*60)))) -> 1305.3834 | AS28: =IF(AR28="","",AR28*1.00179527351758) -> 1307.7269 | AT28: =IF(X29="","",ABS(IF(Z28=0,AA28*60*COS(RADIANS(X29)),(Z28/COS(RADIANS(AP28)))*60))) -> 1305.3834 | AU28: =IF(X29="","",IF(Z28=0,ABS(AA28*60*COS(((ATAN(TAN(RADIANS(X29))*(1-0.08181919034^2)^0.5))))*1.001795274),IF(AA28=0,ABS(((60.006994*Z28)-8.660102*(SIN(RADIANS((2*X29)))-SIN(RADIANS((2*X28)))))),ABS((((60.006994*Z28)-8.660102*(SIN(RADIANS((2*X29)))-SIN(RADIANS((2*X28))))))/COS(RADIANS(AP28)))))) -> 1304.6744 | AV28: =IF($E$11=1,HLOOKUP($C$11,$AQ$24:$AU$75,P28+1),HLOOKUP($C$11,$AJ$24:$AN$75,P28+1)) -> 1303.7239 | AW28: =IF(X28="","",TRUNC(X28)*100+(X28-TRUNC(X28))*60) -> 4725 | AX28: =IF(Y28="","",TRUNC(Y28)*100+(Y28-TRUNC(Y28))*60) -> -14815 | AY28: =IF(AP28="","",AP28) -> 124.8 | AZ28: =IF(AV28="","",ROUND(AV28,2)) -> 1303.72 | BA28: =IF(AW29="","",BA27-AZ27) -> 1303.72 | BC28: =IF(AA27="","",BC27+1) -> 3 | BD28: =IF(AA27="",BD27,BD27+AA27) -> 71.25 | BE28: =IF(Z27="",BE27,Z27+BE27) -> 1.0833333 | BH28: =IF(AA27="",BH27,BH27+AA27) -> 71.25 | BI28: =IF(X28="",BI27,X28*(1/COS(RADIANS(X28)))) -> 70.074394
A29: 5 | B29: =IF($E$14>0,IF(B28+$I$14>180,B28+$I$14-360,IF(B28+$I$14<-180,B28+$I$14+360,B28+$I$14)),IF(B28-$I$14>180,B28-$I$14-360,IF(B28-$I$14<-180,B28-$I$14+360,B28-$I$14))) -> 160 | C29: =IF(OR(C28="",C28=$C$15),"",IF(B29=$I$16,$I$16,IF(C28=$I$16,$C$15,B29))) -> 160 | D29: =IF(OR(D28="",D28=$C$15),"",IF(D28=$W$16,$T$16,IF(D28=$T$16,$T$17,IF(D28=$T$17,$W$17,VLOOKUP(MATCH(D28,$C$25:$C$75,0)+1,$A$25:$C$75,3))))) -> -160 | F29: 5 | G29: =IF($E$14>0,IF(G28+$G$24>180,G28+$G$24-360,IF(G28+$G$24<-180,G28+$G$24+360,G28+$G$24)),IF(G28-$G$24>180,G28-$G$24-360,IF(G28-$G$24<-180,G28-$G$24+360,G28-$G$24))) -> -124.5 | H29: =IF(OR(H28="",F29=$I$14+1),"",G29) -> -124.5 | I29: =IF(H29="","",TRUNC(H29)*100+(H29-TRUNC(H29))*60) -> -12430 | J29: =IF(I29="","",IF($G$12="X",H29,(TRUNC(I29/100)+(ROUND(((I29/100-TRUNC(I29/100))*100)/$G$12,)*$G$12)/60))) -> -124.5 | K29: 5 | L29: =IF($A$11=1,C29,IF($A$11=3,D29,IF($A$11=4,"",J29))) -> -124.5 | M29: =IF(L29="","",IF(OR($A$11=1,$A$11=2),$C$18-L29,IF(OR(L29=$T$16,L29=$T$17),0,IF(OR(M28=0,M28=$T$17-L28),$T$17-L29,$T$16-L29)))) -> 302.17652 | N29: =IF($A$11=4,"",IF(M29="","",IF(M30="",$B$15,DEGREES(ATAN(COS(RADIANS(M29))*TAN(RADIANS($B$18))))))) -> 35 | O29: =IF(N29="","",TRUNC(N29)*100+(N29-TRUNC(N29))*60) -> 3500 | P29: 5 | Q29: =IF(O29="","",IF($B$11="X",N29,IF(O30="",$B$15,TRUNC(O29/100)+(ROUND(((O29/100-TRUNC(O29/100))*100)/$B$11,)*$B$11)/60))) -> 35 | R29: =IF(Q29="","",TRUNC(Q29)*100+(Q29-TRUNC(Q29))*60) -> 3500 | S29: =IF(R29="","",TRUNC(R29/100)+(R29/100-TRUNC(R29/100))/0.6) -> 35 | T29: =IF(OR(T28="",T28=$T$21),"",IF(T28=$T$19,$T$20,IF(T28>=$T$20,T28+1,MATCH(S28,$S$25:$S$75,0)+1))) -> #N/A | U29: =IF(U28="","",IF(U28=$T$21,"",IF(T29=$T$22,$T$21,T29))) -> #N/A | V29: =IF(U29="","",VLOOKUP(U29,$P$25:$S$75,4)) -> #N/A | W29: =IF(U29="","",VLOOKUP(U29,$K$25:$L$75,2)) -> #N/A | X29: =IF(OR(AND($A$11=4,$AB$18=2),AND($A$11=3,$T$23=2)),"",IF($A$11=3,V29,S29)) -> 35 | Y29: =IF(OR(AND($A$11=4,$AB$18=2),AND($A$11=3,$T$23=2)),"",IF($A$11=3,W29,L29)) -> -124.5 | Z29: =IF(X30="","",IF(X30-X29>180,X30-X29-360,IF(X30-X29<-180,X30-X29+360,X30-X29))) | AA29: =IF(Y30="","",IF(ABS(Y30-Y29)<=180,Y30-Y29,(360-ABS(Y30-Y29))*-SIGN(Y30-Y29))) | AB29: =IF(X30="","",7915.70447*LOG(TAN(RADIANS((45+X30/2)))/TAN(RADIANS((45+X29/2))))) | AC29: =IF(X30="","",7915.70446789782*LOG((TAN(RADIANS(45+X30/2))*(((1-0.0818191908426215*SIN(RADIANS(X30)))/(1+0.0818191908426215*SIN(RADIANS(X30))))^(0.0818191908426215/2)))/(TAN(RADIANS(45+X29/2))*(((1-0.0818191908426215*SIN(RADIANS(X29)))/(1+0.0818191908426215*SIN(RADIANS(X29))))^(0.0818191908426215/2))))) | AD29: =IF(X30="","",DEGREES(ATAN2(3437.74677078*(LN((TAN(RADIANS(45+X30/2)))/(TAN(RADIANS(45+X29/2)))))-((SIN(RADIANS(X30))-SIN(RADIANS(X29)))*23.0135831934767)-((SIN(RADIANS(X30))^3)-(SIN(RADIANS(X29))^3))*(0.051353890277194)-((SIN(RADIANS(X30))^5)-(SIN(RADIANS(X29))^5))*(0.000206269473292),AA29*60))) | AE29: =IF(X30="","",IF(AA29<0,360+DEGREES(ATAN2(Z29,AA29*COS(RADIANS((X30+X29)/2)))),DEGREES(ATAN2(Z29,AA29*COS(RADIANS((X30+X29)/2)))))) | AF29: =IF(X30="","",IF(AA29<0,360+DEGREES(ATAN2(AB29,AA29*60)),DEGREES(ATAN2(AB29,AA29*60)))) | AG29: =AF29 | AH29: =IF(X30="","",IF(AA29<0,360+DEGREES(ATAN2(AC29,(AA29*60))),DEGREES(ATAN2(AC29,(AA29*60))))) | AI29: =IF(AA29<0,360+AD29,AD29) | AJ29: =IF(X30="","",IF(Z29=0,(AA29*COS(RADIANS((X30+X29)/2)))*60/SIN(RADIANS(AE29)),Z29*60/COS(RADIANS(AE29)))) | AK29: =IF(X30="","",ABS(IF(Z29=0,(AA29)*60*COS(RADIANS(X29)),IF(AA29=0,(Z29*60),(Z29/COS(RADIANS(AF29)))*60)))) | AL29: =IF(AK29="","",AK29*1.00179527351758) | AM29: =IF(X30="","",ABS(IF(Z29=0,AA29*60*COS(RADIANS(X30)),(Z29/COS(RADIANS(AH29)))*60))) | AN29: =IF(X30="","",IF(Z29=0,ABS(AA29*60*COS(((ATAN(TAN(RADIANS(X30))*(1-0.08181919034^2)^0.5))))*1.001795274),IF(AA29=0,ABS(((60.006994*Z29)-8.660102*(SIN(RADIANS((2*X30)))-SIN(RADIANS((2*X29)))))),ABS((((60.006994*Z29)-8.660102*(SIN(RADIANS((2*X30)))-SIN(RADIANS((2*X29))))))/COS(RADIANS(AI29)))))) | AO29: =HLOOKUP($C$11,$AE$24:$AI$75,P29+1) | AP29: =IF(X30="","",IF($D$11=3,ROUND(AO29,),IF($D$11=2,0.5*ROUND(AO29/0.5,),ROUND(AO29,1)))) | AQ29: =IF(X30="","",IF(Z29=0,(AA29*COS(RADIANS((X30+X29)/2)))*60/SIN(RADIANS(AP29)),Z29*60/COS(RADIANS(AP29)))) | AR29: =IF(X30="","",ABS(IF(Z29=0,(AA29)*60*COS(RADIANS(X29)),IF(AA29=0,(Z29*60),(Z29/COS(RADIANS(AP29)))*60)))) | AS29: =IF(AR29="","",AR29*1.00179527351758) | AT29: =IF(X30="","",ABS(IF(Z29=0,AA29*60*COS(RADIANS(X30)),(Z29/COS(RADIANS(AP29)))*60))) | AU29: =IF(X30="","",IF(Z29=0,ABS(AA29*60*COS(((ATAN(TAN(RADIANS(X30))*(1-0.08181919034^2)^0.5))))*1.001795274),IF(AA29=0,ABS(((60.006994*Z29)-8.660102*(SIN(RADIANS((2*X30)))-SIN(RADIANS((2*X29)))))),ABS((((60.006994*Z29)-8.660102*(SIN(RADIANS((2*X30)))-SIN(RADIANS((2*X29))))))/COS(RADIANS(AP29)))))) | AV29: =IF($E$11=1,HLOOKUP($C$11,$AQ$24:$AU$75,P29+1),HLOOKUP($C$11,$AJ$24:$AN$75,P29+1)) | AW29: =IF(X29="","",TRUNC(X29)*100+(X29-TRUNC(X29))*60) -> 3500 | AX29: =IF(Y29="","",TRUNC(Y29)*100+(Y29-TRUNC(Y29))*60) -> -12430 | AY29: =IF(AP29="","",AP29) | AZ29: =IF(AV29="","",ROUND(AV29,2)) | BA29: =IF(AW30="","",BA28-AZ28) | BC29: =IF(AA28="","",BC28+1) -> 4 | BD29: =IF(AA28="",BD28,BD28+AA28) -> 95 | BE29: =IF(Z28="",BE28,Z28+BE28) -> -11.333333 | BH29: =IF(AA28="",BH28,BH28+AA28) -> 95 | BI29: =IF(X29="",BI28,X29*(1/COS(RADIANS(X29)))) -> 42.727111
A30: 6 | B30: =IF($E$14>0,IF(B29+$I$14>180,B29+$I$14-360,IF(B29+$I$14<-180,B29+$I$14+360,B29+$I$14)),IF(B29-$I$14>180,B29-$I$14-360,IF(B29-$I$14<-180,B29-$I$14+360,B29-$I$14))) -> 165 | C30: =IF(OR(C29="",C29=$C$15),"",IF(B30=$I$16,$I$16,IF(C29=$I$16,$C$15,B30))) -> 165 | D30: =IF(OR(D29="",D29=$C$15),"",IF(D29=$W$16,$T$16,IF(D29=$T$16,$T$17,IF(D29=$T$17,$W$17,VLOOKUP(MATCH(D29,$C$25:$C$75,0)+1,$A$25:$C$75,3))))) -> -155 | F30: 6 | G30: =IF($E$14>0,IF(G29+$G$24>180,G29+$G$24-360,IF(G29+$G$24<-180,G29+$G$24+360,G29+$G$24)),IF(G29-$G$24>180,G29-$G$24-360,IF(G29-$G$24<-180,G29-$G$24+360,G29-$G$24))) -> -100.75 | H30: =IF(OR(H29="",F30=$I$14+1),"",G30) | I30: =IF(H30="","",TRUNC(H30)*100+(H30-TRUNC(H30))*60) | J30: =IF(I30="","",IF($G$12="X",H30,(TRUNC(I30/100)+(ROUND(((I30/100-TRUNC(I30/100))*100)/$G$12,)*$G$12)/60))) | K30: 6 | L30: =IF($A$11=1,C30,IF($A$11=3,D30,IF($A$11=4,"",J30))) | M30: =IF(L30="","",IF(OR($A$11=1,$A$11=2),$C$18-L30,IF(OR(L30=$T$16,L30=$T$17),0,IF(OR(M29=0,M29=$T$17-L29),$T$17-L30,$T$16-L30)))) | N30: =IF($A$11=4,"",IF(M30="","",IF(M31="",$B$15,DEGREES(ATAN(COS(RADIANS(M30))*TAN(RADIANS($B$18))))))) | O30: =IF(N30="","",TRUNC(N30)*100+(N30-TRUNC(N30))*60) | P30: 6 | Q30: =IF(O30="","",IF($B$11="X",N30,IF(O31="",$B$15,TRUNC(O30/100)+(ROUND(((O30/100-TRUNC(O30/100))*100)/$B$11,)*$B$11)/60))) | R30: =IF(Q30="","",TRUNC(Q30)*100+(Q30-TRUNC(Q30))*60) | S30: =IF(R30="","",TRUNC(R30/100)+(R30/100-TRUNC(R30/100))/0.6) | T30: =IF(OR(T29="",T29=$T$21),"",IF(T29=$T$19,$T$20,IF(T29>=$T$20,T29+1,MATCH(S29,$S$25:$S$75,0)+1))) -> #N/A | U30: =IF(U29="","",IF(U29=$T$21,"",IF(T30=$T$22,$T$21,T30))) -> #N/A | V30: =IF(U30="","",VLOOKUP(U30,$P$25:$S$75,4)) -> #N/A | W30: =IF(U30="","",VLOOKUP(U30,$K$25:$L$75,2)) -> #N/A | X30: =IF(OR(AND($A$11=4,$AB$18=2),AND($A$11=3,$T$23=2)),"",IF($A$11=3,V30,S30)) | Y30: =IF(OR(AND($A$11=4,$AB$18=2),AND($A$11=3,$T$23=2)),"",IF($A$11=3,W30,L30)) | Z30: =IF(X31="","",IF(X31-X30>180,X31-X30-360,IF(X31-X30<-180,X31-X30+360,X31-X30))) | AA30: =IF(Y31="","",IF(ABS(Y31-Y30)<=180,Y31-Y30,(360-ABS(Y31-Y30))*-SIGN(Y31-Y30))) | AB30: =IF(X31="","",7915.70447*LOG(TAN(RADIANS((45+X31/2)))/TAN(RADIANS((45+X30/2))))) | AC30: =IF(X31="","",7915.70446789782*LOG((TAN(RADIANS(45+X31/2))*(((1-0.0818191908426215*SIN(RADIANS(X31)))/(1+0.0818191908426215*SIN(RADIANS(X31))))^(0.0818191908426215/2)))/(TAN(RADIANS(45+X30/2))*(((1-0.0818191908426215*SIN(RADIANS(X30)))/(1+0.0818191908426215*SIN(RADIANS(X30))))^(0.0818191908426215/2))))) | AD30: =IF(X31="","",DEGREES(ATAN2(3437.74677078*(LN((TAN(RADIANS(45+X31/2)))/(TAN(RADIANS(45+X30/2)))))-((SIN(RADIANS(X31))-SIN(RADIANS(X30)))*23.0135831934767)-((SIN(RADIANS(X31))^3)-(SIN(RADIANS(X30))^3))*(0.051353890277194)-((SIN(RADIANS(X31))^5)-(SIN(RADIANS(X30))^5))*(0.000206269473292),AA30*60))) | AE30: =IF(X31="","",IF(AA30<0,360+DEGREES(ATAN2(Z30,AA30*COS(RADIANS((X31+X30)/2)))),DEGREES(ATAN2(Z30,AA30*COS(RADIANS((X31+X30)/2)))))) | AF30: =IF(X31="","",IF(AA30<0,360+DEGREES(ATAN2(AB30,AA30*60)),DEGREES(ATAN2(AB30,AA30*60)))) | AG30: =AF30 | AH30: =IF(X31="","",IF(AA30<0,360+DEGREES(ATAN2(AC30,(AA30*60))),DEGREES(ATAN2(AC30,(AA30*60))))) | AI30: =IF(AA30<0,360+AD30,AD30) | AJ30: =IF(X31="","",IF(Z30=0,(AA30*COS(RADIANS((X31+X30)/2)))*60/SIN(RADIANS(AE30)),Z30*60/COS(RADIANS(AE30)))) | AK30: =IF(X31="","",ABS(IF(Z30=0,(AA30)*60*COS(RADIANS(X30)),IF(AA30=0,(Z30*60),(Z30/COS(RADIANS(AF30)))*60)))) | AL30: =IF(AK30="","",AK30*1.00179527351758) | AM30: =IF(X31="","",ABS(IF(Z30=0,AA30*60*COS(RADIANS(X31)),(Z30/COS(RADIANS(AH30)))*60))) | AN30: =IF(X31="","",IF(Z30=0,ABS(AA30*60*COS(((ATAN(TAN(RADIANS(X31))*(1-0.08181919034^2)^0.5))))*1.001795274),IF(AA30=0,ABS(((60.006994*Z30)-8.660102*(SIN(RADIANS((2*X31)))-SIN(RADIANS((2*X30)))))),ABS((((60.006994*Z30)-8.660102*(SIN(RADIANS((2*X31)))-SIN(RADIANS((2*X30))))))/COS(RADIANS(AI30)))))) | AO30: =HLOOKUP($C$11,$AE$24:$AI$75,P30+1) | AP30: =IF(X31="","",IF($D$11=3,ROUND(AO30,),IF($D$11=2,0.5*ROUND(AO30/0.5,),ROUND(AO30,1)))) | AQ30: =IF(X31="","",IF(Z30=0,(AA30*COS(RADIANS((X31+X30)/2)))*60/SIN(RADIANS(AP30)),Z30*60/COS(RADIANS(AP30)))) | AR30: =IF(X31="","",ABS(IF(Z30=0,(AA30)*60*COS(RADIANS(X30)),IF(AA30=0,(Z30*60),(Z30/COS(RADIANS(AP30)))*60)))) | AS30: =IF(AR30="","",AR30*1.00179527351758) | AT30: =IF(X31="","",ABS(IF(Z30=0,AA30*60*COS(RADIANS(X31)),(Z30/COS(RADIANS(AP30)))*60))) | AU30: =IF(X31="","",IF(Z30=0,ABS(AA30*60*COS(((ATAN(TAN(RADIANS(X31))*(1-0.08181919034^2)^0.5))))*1.001795274),IF(AA30=0,ABS(((60.006994*Z30)-8.660102*(SIN(RADIANS((2*X31)))-SIN(RADIANS((2*X30)))))),ABS((((60.006994*Z30)-8.660102*(SIN(RADIANS((2*X31)))-SIN(RADIANS((2*X30))))))/COS(RADIANS(AP30)))))) | AV30: =IF($E$11=1,HLOOKUP($C$11,$AQ$24:$AU$75,P30+1),HLOOKUP($C$11,$AJ$24:$AN$75,P30+1)) | AW30: =IF(X30="","",TRUNC(X30)*100+(X30-TRUNC(X30))*60) | AX30: =IF(Y30="","",TRUNC(Y30)*100+(Y30-TRUNC(Y30))*60) | AY30: =IF(AP30="","",AP30) | AZ30: =IF(AV30="","",ROUND(AV30,2)) | BA30: =IF(AW31="","",BA29-AZ29) | BC30: =IF(AA29="","",BC29+1) | BD30: =IF(AA29="",BD29,BD29+AA29) -> 95 | BE30: =IF(Z29="",BE29,Z29+BE29) -> -11.333333 | BH30: =IF(AA29="",BH29,BH29+AA29) -> 95 | BI30: =IF(X30="",BI29,X30*(1/COS(RADIANS(X30)))) -> 42.727111
A31: 7 | B31: =IF($E$14>0,IF(B30+$I$14>180,B30+$I$14-360,IF(B30+$I$14<-180,B30+$I$14+360,B30+$I$14)),IF(B30-$I$14>180,B30-$I$14-360,IF(B30-$I$14<-180,B30-$I$14+360,B30-$I$14))) -> 170 | C31: =IF(OR(C30="",C30=$C$15),"",IF(B31=$I$16,$I$16,IF(C30=$I$16,$C$15,B31))) -> 170 | D31: =IF(OR(D30="",D30=$C$15),"",IF(D30=$W$16,$T$16,IF(D30=$T$16,$T$17,IF(D30=$T$17,$W$17,VLOOKUP(MATCH(D30,$C$25:$C$75,0)+1,$A$25:$C$75,3))))) -> -150 | F31: 7 | G31: =IF($E$14>0,IF(G30+$G$24>180,G30+$G$24-360,IF(G30+$G$24<-180,G30+$G$24+360,G30+$G$24)),IF(G30-$G$24>180,G30-$G$24-360,IF(G30-$G$24<-180,G30-$G$24+360,G30-$G$24))) -> -77 | H31: =IF(OR(H30="",F31=$I$14+1),"",G31) | I31: =IF(H31="","",TRUNC(H31)*100+(H31-TRUNC(H31))*60) | J31: =IF(I31="","",IF($G$12="X",H31,(TRUNC(I31/100)+(ROUND(((I31/100-TRUNC(I31/100))*100)/$G$12,)*$G$12)/60))) | K31: 7 | L31: =IF($A$11=1,C31,IF($A$11=3,D31,IF($A$11=4,"",J31))) | M31: =IF(L31="","",IF(OR($A$11=1,$A$11=2),$C$18-L31,IF(OR(L31=$T$16,L31=$T$17),0,IF(OR(M30=0,M30=$T$17-L30),$T$17-L31,$T$16-L31)))) | N31: =IF($A$11=4,"",IF(M31="","",IF(M32="",$B$15,DEGREES(ATAN(COS(RADIANS(M31))*TAN(RADIANS($B$18))))))) | O31: =IF(N31="","",TRUNC(N31)*100+(N31-TRUNC(N31))*60) | P31: 7 | Q31: =IF(O31="","",IF($B$11="X",N31,IF(O32="",$B$15,TRUNC(O31/100)+(ROUND(((O31/100-TRUNC(O31/100))*100)/$B$11,)*$B$11)/60))) | R31: =IF(Q31="","",TRUNC(Q31)*100+(Q31-TRUNC(Q31))*60) | S31: =IF(R31="","",TRUNC(R31/100)+(R31/100-TRUNC(R31/100))/0.6) | T31: =IF(OR(T30="",T30=$T$21),"",IF(T30=$T$19,$T$20,IF(T30>=$T$20,T30+1,MATCH(S30,$S$25:$S$75,0)+1))) -> #N/A | U31: =IF(U30="","",IF(U30=$T$21,"",IF(T31=$T$22,$T$21,T31))) -> #N/A | V31: =IF(U31="","",VLOOKUP(U31,$P$25:$S$75,4)) -> #N/A | W31: =IF(U31="","",VLOOKUP(U31,$K$25:$L$75,2)) -> #N/A | X31: =IF(OR(AND($A$11=4,$AB$18=2),AND($A$11=3,$T$23=2)),"",IF($A$11=3,V31,S31)) | Y31: =IF(OR(AND($A$11=4,$AB$18=2),AND($A$11=3,$T$23=2)),"",IF($A$11=3,W31,L31)) | Z31: =IF(X32="","",IF(X32-X31>180,X32-X31-360,IF(X32-X31<-180,X32-X31+360,X32-X31))) | AA31: =IF(Y32="","",IF(ABS(Y32-Y31)<=180,Y32-Y31,(360-ABS(Y32-Y31))*-SIGN(Y32-Y31))) | AB31: =IF(X32="","",7915.70447*LOG(TAN(RADIANS((45+X32/2)))/TAN(RADIANS((45+X31/2))))) | AC31: =IF(X32="","",7915.70446789782*LOG((TAN(RADIANS(45+X32/2))*(((1-0.0818191908426215*SIN(RADIANS(X32)))/(1+0.0818191908426215*SIN(RADIANS(X32))))^(0.0818191908426215/2)))/(TAN(RADIANS(45+X31/2))*(((1-0.0818191908426215*SIN(RADIANS(X31)))/(1+0.0818191908426215*SIN(RADIANS(X31))))^(0.0818191908426215/2))))) | AD31: =IF(X32="","",DEGREES(ATAN2(3437.74677078*(LN((TAN(RADIANS(45+X32/2)))/(TAN(RADIANS(45+X31/2)))))-((SIN(RADIANS(X32))-SIN(RADIANS(X31)))*23.0135831934767)-((SIN(RADIANS(X32))^3)-(SIN(RADIANS(X31))^3))*(0.051353890277194)-((SIN(RADIANS(X32))^5)-(SIN(RADIANS(X31))^5))*(0.000206269473292),AA31*60))) | AE31: =IF(X32="","",IF(AA31<0,360+DEGREES(ATAN2(Z31,AA31*COS(RADIANS((X32+X31)/2)))),DEGREES(ATAN2(Z31,AA31*COS(RADIANS((X32+X31)/2)))))) | AF31: =IF(X32="","",IF(AA31<0,360+DEGREES(ATAN2(AB31,AA31*60)),DEGREES(ATAN2(AB31,AA31*60)))) | AG31: =AF31 | AH31: =IF(X32="","",IF(AA31<0,360+DEGREES(ATAN2(AC31,(AA31*60))),DEGREES(ATAN2(AC31,(AA31*60))))) | AI31: =IF(AA31<0,360+AD31,AD31) | AJ31: =IF(X32="","",IF(Z31=0,(AA31*COS(RADIANS((X32+X31)/2)))*60/SIN(RADIANS(AE31)),Z31*60/COS(RADIANS(AE31)))) | AK31: =IF(X32="","",ABS(IF(Z31=0,(AA31)*60*COS(RADIANS(X31)),IF(AA31=0,(Z31*60),(Z31/COS(RADIANS(AF31)))*60)))) | AL31: =IF(AK31="","",AK31*1.00179527351758) | AM31: =IF(X32="","",ABS(IF(Z31=0,AA31*60*COS(RADIANS(X32)),(Z31/COS(RADIANS(AH31)))*60))) | AN31: =IF(X32="","",IF(Z31=0,ABS(AA31*60*COS(((ATAN(TAN(RADIANS(X32))*(1-0.08181919034^2)^0.5))))*1.001795274),IF(AA31=0,ABS(((60.006994*Z31)-8.660102*(SIN(RADIANS((2*X32)))-SIN(RADIANS((2*X31)))))),ABS((((60.006994*Z31)-8.660102*(SIN(RADIANS((2*X32)))-SIN(RADIANS((2*X31))))))/COS(RADIANS(AI31)))))) | AO31: =HLOOKUP($C$11,$AE$24:$AI$75,P31+1) | AP31: =IF(X32="","",IF($D$11=3,ROUND(AO31,),IF($D$11=2,0.5*ROUND(AO31/0.5,),ROUND(AO31,1)))) | AQ31: =IF(X32="","",IF(Z31=0,(AA31*COS(RADIANS((X32+X31)/2)))*60/SIN(RADIANS(AP31)),Z31*60/COS(RADIANS(AP31)))) | AR31: =IF(X32="","",ABS(IF(Z31=0,(AA31)*60*COS(RADIANS(X31)),IF(AA31=0,(Z31*60),(Z31/COS(RADIANS(AP31)))*60)))) | AS31: =IF(AR31="","",AR31*1.00179527351758) | AT31: =IF(X32="","",ABS(IF(Z31=0,AA31*60*COS(RADIANS(X32)),(Z31/COS(RADIANS(AP31)))*60))) | AU31: =IF(X32="","",IF(Z31=0,ABS(AA31*60*COS(((ATAN(TAN(RADIANS(X32))*(1-0.08181919034^2)^0.5))))*1.001795274),IF(AA31=0,ABS(((60.006994*Z31)-8.660102*(SIN(RADIANS((2*X32)))-SIN(RADIANS((2*X31)))))),ABS((((60.006994*Z31)-8.660102*(SIN(RADIANS((2*X32)))-SIN(RADIANS((2*X31))))))/COS(RADIANS(AP31)))))) | AV31: =IF($E$11=1,HLOOKUP($C$11,$AQ$24:$AU$75,P31+1),HLOOKUP($C$11,$AJ$24:$AN$75,P31+1)) | AW31: =IF(X31="","",TRUNC(X31)*100+(X31-TRUNC(X31))*60) | AX31: =IF(Y31="","",TRUNC(Y31)*100+(Y31-TRUNC(Y31))*60) | AY31: =IF(AP31="","",AP31) | AZ31: =IF(AV31="","",ROUND(AV31,2)) | BA31: =IF(AW32="","",BA30-AZ30) | BC31: =IF(AA30="","",BC30+1) | BD31: =IF(AA30="",BD30,BD30+AA30) -> 95 | BE31: =IF(Z30="",BE30,Z30+BE30) -> -11.333333 | BH31: =IF(AA30="",BH30,BH30+AA30) -> 95 | BI31: =IF(X31="",BI30,X31*(1/COS(RADIANS(X31)))) -> 42.727111
A32: 8 | B32: =IF($E$14>0,IF(B31+$I$14>180,B31+$I$14-360,IF(B31+$I$14<-180,B31+$I$14+360,B31+$I$14)),IF(B31-$I$14>180,B31-$I$14-360,IF(B31-$I$14<-180,B31-$I$14+360,B31-$I$14))) -> 175 | C32: =IF(OR(C31="",C31=$C$15),"",IF(B32=$I$16,$I$16,IF(C31=$I$16,$C$15,B32))) -> 175 | D32: =IF(OR(D31="",D31=$C$15),"",IF(D31=$W$16,$T$16,IF(D31=$T$16,$T$17,IF(D31=$T$17,$W$17,VLOOKUP(MATCH(D31,$C$25:$C$75,0)+1,$A$25:$C$75,3))))) -> -145 | F32: 8 | G32: =IF($E$14>0,IF(G31+$G$24>180,G31+$G$24-360,IF(G31+$G$24<-180,G31+$G$24+360,G31+$G$24)),IF(G31-$G$24>180,G31-$G$24-360,IF(G31-$G$24<-180,G31-$G$24+360,G31-$G$24))) -> -53.25 | H32: =IF(OR(H31="",F32=$I$14+1),"",G32) | I32: =IF(H32="","",TRUNC(H32)*100+(H32-TRUNC(H32))*60) | J32: =IF(I32="","",IF($G$12="X",H32,(TRUNC(I32/100)+(ROUND(((I32/100-TRUNC(I32/100))*100)/$G$12,)*$G$12)/60))) | K32: 8 | L32: =IF($A$11=1,C32,IF($A$11=3,D32,IF($A$11=4,"",J32))) | M32: =IF(L32="","",IF(OR($A$11=1,$A$11=2),$C$18-L32,IF(OR(L32=$T$16,L32=$T$17),0,IF(OR(M31=0,M31=$T$17-L31),$T$17-L32,$T$16-L32)))) | N32: =IF($A$11=4,"",IF(M32="","",IF(M33="",$B$15,DEGREES(ATAN(COS(RADIANS(M32))*TAN(RADIANS($B$18))))))) | O32: =IF(N32="","",TRUNC(N32)*100+(N32-TRUNC(N32))*60) | P32: 8 | Q32: =IF(O32="","",IF($B$11="X",N32,IF(O33="",$B$15,TRUNC(O32/100)+(ROUND(((O32/100-TRUNC(O32/100))*100)/$B$11,)*$B$11)/60))) | R32: =IF(Q32="","",TRUNC(Q32)*100+(Q32-TRUNC(Q32))*60) | S32: =IF(R32="","",TRUNC(R32/100)+(R32/100-TRUNC(R32/100))/0.6) | T32: =IF(OR(T31="",T31=$T$21),"",IF(T31=$T$19,$T$20,IF(T31>=$T$20,T31+1,MATCH(S31,$S$25:$S$75,0)+1))) -> #N/A | U32: =IF(U31="","",IF(U31=$T$21,"",IF(T32=$T$22,$T$21,T32))) -> #N/A | V32: =IF(U32="","",VLOOKUP(U32,$P$25:$S$75,4)) -> #N/A | W32: =IF(U32="","",VLOOKUP(U32,$K$25:$L$75,2)) -> #N/A | X32: =IF(OR(AND($A$11=4,$AB$18=2),AND($A$11=3,$T$23=2)),"",IF($A$11=3,V32,S32)) | Y32: =IF(OR(AND($A$11=4,$AB$18=2),AND($A$11=3,$T$23=2)),"",IF($A$11=3,W32,L32)) | Z32: =IF(X33="","",IF(X33-X32>180,X33-X32-360,IF(X33-X32<-180,X33-X32+360,X33-X32))) | AA32: =IF(Y33="","",IF(ABS(Y33-Y32)<=180,Y33-Y32,(360-ABS(Y33-Y32))*-SIGN(Y33-Y32))) | AB32: =IF(X33="","",7915.70447*LOG(TAN(RADIANS((45+X33/2)))/TAN(RADIANS((45+X32/2))))) | AC32: =IF(X33="","",7915.70446789782*LOG((TAN(RADIANS(45+X33/2))*(((1-0.0818191908426215*SIN(RADIANS(X33)))/(1+0.0818191908426215*SIN(RADIANS(X33))))^(0.0818191908426215/2)))/(TAN(RADIANS(45+X32/2))*(((1-0.0818191908426215*SIN(RADIANS(X32)))/(1+0.0818191908426215*SIN(RADIANS(X32))))^(0.0818191908426215/2))))) | AD32: =IF(X33="","",DEGREES(ATAN2(3437.74677078*(LN((TAN(RADIANS(45+X33/2)))/(TAN(RADIANS(45+X32/2)))))-((SIN(RADIANS(X33))-SIN(RADIANS(X32)))*23.0135831934767)-((SIN(RADIANS(X33))^3)-(SIN(RADIANS(X32))^3))*(0.051353890277194)-((SIN(RADIANS(X33))^5)-(SIN(RADIANS(X32))^5))*(0.000206269473292),AA32*60))) | AE32: =IF(X33="","",IF(AA32<0,360+DEGREES(ATAN2(Z32,AA32*COS(RADIANS((X33+X32)/2)))),DEGREES(ATAN2(Z32,AA32*COS(RADIANS((X33+X32)/2)))))) | AF32: =IF(X33="","",IF(AA32<0,360+DEGREES(ATAN2(AB32,AA32*60)),DEGREES(ATAN2(AB32,AA32*60)))) | AG32: =AF32 | AH32: =IF(X33="","",IF(AA32<0,360+DEGREES(ATAN2(AC32,(AA32*60))),DEGREES(ATAN2(AC32,(AA32*60))))) | AI32: =IF(AA32<0,360+AD32,AD32) | AJ32: =IF(X33="","",IF(Z32=0,(AA32*COS(RADIANS((X33+X32)/2)))*60/SIN(RADIANS(AE32)),Z32*60/COS(RADIANS(AE32)))) | AK32: =IF(X33="","",ABS(IF(Z32=0,(AA32)*60*COS(RADIANS(X32)),IF(AA32=0,(Z32*60),(Z32/COS(RADIANS(AF32)))*60)))) | AL32: =IF(AK32="","",AK32*1.00179527351758) | AM32: =IF(X33="","",ABS(IF(Z32=0,AA32*60*COS(RADIANS(X33)),(Z32/COS(RADIANS(AH32)))*60))) | AN32: =IF(X33="","",IF(Z32=0,ABS(AA32*60*COS(((ATAN(TAN(RADIANS(X33))*(1-0.08181919034^2)^0.5))))*1.001795274),IF(AA32=0,ABS(((60.006994*Z32)-8.660102*(SIN(RADIANS((2*X33)))-SIN(RADIANS((2*X32)))))),ABS((((60.006994*Z32)-8.660102*(SIN(RADIANS((2*X33)))-SIN(RADIANS((2*X32))))))/COS(RADIANS(AI32)))))) | AO32: =HLOOKUP($C$11,$AE$24:$AI$75,P32+1) | AP32: =IF(X33="","",IF($D$11=3,ROUND(AO32,),IF($D$11=2,0.5*ROUND(AO32/0.5,),ROUND(AO32,1)))) | AQ32: =IF(X33="","",IF(Z32=0,(AA32*COS(RADIANS((X33+X32)/2)))*60/SIN(RADIANS(AP32)),Z32*60/COS(RADIANS(AP32)))) | AR32: =IF(X33="","",ABS(IF(Z32=0,(AA32)*60*COS(RADIANS(X32)),IF(AA32=0,(Z32*60),(Z32/COS(RADIANS(AP32)))*60)))) | AS32: =IF(AR32="","",AR32*1.00179527351758) | AT32: =IF(X33="","",ABS(IF(Z32=0,AA32*60*COS(RADIANS(X33)),(Z32/COS(RADIANS(AP32)))*60))) | AU32: =IF(X33="","",IF(Z32=0,ABS(AA32*60*COS(((ATAN(TAN(RADIANS(X33))*(1-0.08181919034^2)^0.5))))*1.001795274),IF(AA32=0,ABS(((60.006994*Z32)-8.660102*(SIN(RADIANS((2*X33)))-SIN(RADIANS((2*X32)))))),ABS((((60.006994*Z32)-8.660102*(SIN(RADIANS((2*X33)))-SIN(RADIANS((2*X32))))))/COS(RADIANS(AP32)))))) | AV32: =IF($E$11=1,HLOOKUP($C$11,$AQ$24:$AU$75,P32+1),HLOOKUP($C$11,$AJ$24:$AN$75,P32+1)) | AW32: =IF(X32="","",TRUNC(X32)*100+(X32-TRUNC(X32))*60) | AX32: =IF(Y32="","",TRUNC(Y32)*100+(Y32-TRUNC(Y32))*60) | AY32: =IF(AP32="","",AP32) | AZ32: =IF(AV32="","",ROUND(AV32,2)) | BA32: =IF(AW33="","",BA31-AZ31) | BC32: =IF(AA31="","",BC31+1) | BD32: =IF(AA31="",BD31,BD31+AA31) -> 95 | BE32: =IF(Z31="",BE31,Z31+BE31) -> -11.333333 | BH32: =IF(AA31="",BH31,BH31+AA31) -> 95 | BI32: =IF(X32="",BI31,X32*(1/COS(RADIANS(X32)))) -> 42.727111
